BEGIN:VCALENDAR
VERSION:2.0
PRODID:-//Eli Broad College of Business | Michigan State University - ECPv6.15.17.1//NONSGML v1.0//EN
CALSCALE:GREGORIAN
METHOD:PUBLISH
X-WR-CALNAME:Eli Broad College of Business | Michigan State University
X-ORIGINAL-URL:https://broad.msu.edu
X-WR-CALDESC:Events for Eli Broad College of Business | Michigan State University
REFRESH-INTERVAL;VALUE=DURATION:PT1H
X-Robots-Tag:noindex
X-PUBLISHED-TTL:PT1H
BEGIN:VTIMEZONE
TZID:America/Detroit
BEGIN:DAYLIGHT
TZOFFSETFROM:-0500
TZOFFSETTO:-0400
TZNAME:EDT
DTSTART:20230312T070000
END:DAYLIGHT
BEGIN:STANDARD
TZOFFSETFROM:-0400
TZOFFSETTO:-0500
TZNAME:EST
DTSTART:20231105T060000
END:STANDARD
BEGIN:DAYLIGHT
TZOFFSETFROM:-0500
TZOFFSETTO:-0400
TZNAME:EDT
DTSTART:20240310T070000
END:DAYLIGHT
BEGIN:STANDARD
TZOFFSETFROM:-0400
TZOFFSETTO:-0500
TZNAME:EST
DTSTART:20241103T060000
END:STANDARD
BEGIN:DAYLIGHT
TZOFFSETFROM:-0500
TZOFFSETTO:-0400
TZNAME:EDT
DTSTART:20250309T070000
END:DAYLIGHT
BEGIN:STANDARD
TZOFFSETFROM:-0400
TZOFFSETTO:-0500
TZNAME:EST
DTSTART:20251102T060000
END:STANDARD
END:VTIMEZONE
BEGIN:VEVENT
DTSTART;TZID=America/Detroit:20240307T110000
DTEND;TZID=America/Detroit:20240307T113000
DTSTAMP:20260423T052037
CREATED:20240213T172606Z
LAST-MODIFIED:20240213T172606Z
UID:10003992-1709809200-1709811000@broad.msu.edu
SUMMARY:M.S. In Business Data Science & Analytics Information Session
DESCRIPTION:Join us on March 7th to learn more about the Master of Science in Business Data Science & Analytics Program at MSU!
URL:https://broad.msu.edu/event/m-s-in-business-data-science-analytics-information-session-mar-7-2024/
LOCATION:Online
CATEGORIES:M.S. in Business Data Science & Analytics
ORGANIZER;CN="Titun Maiti":MAILTO:titun@msu.edu
END:VEVENT
BEGIN:VEVENT
DTSTART;TZID=America/Detroit:20240307T140000
DTEND;TZID=America/Detroit:20240307T150000
DTSTAMP:20260423T052037
CREATED:20231205T165240Z
LAST-MODIFIED:20231205T165240Z
UID:10003914-1709820000-1709823600@broad.msu.edu
SUMMARY:MS-CXM Virtual Information Session
DESCRIPTION:Join us to learn more about MSU’s MS-CXM Program!
URL:https://broad.msu.edu/event/ms-cxm-virtual-information-session-11/
LOCATION:MI
CATEGORIES:M.S. in Customer Experience Management
END:VEVENT
BEGIN:VEVENT
DTSTART;TZID=America/Detroit:20240307T170000
DTEND;TZID=America/Detroit:20240307T190000
DTSTAMP:20260423T052037
CREATED:20230105T132106Z
LAST-MODIFIED:20230919T133135Z
UID:10003673-1709830800-1709838000@broad.msu.edu
SUMMARY:Hospitality Business: Scholarship Reception
DESCRIPTION:Save the Date! You are invited to celebrate the academic and extracurricular achievements of Hospitality Business students who were awarded scholarships this academic year. Refreshments and networking followed by a recognition of all scholarship recipients for the year. \nTo confirm your attendance\, please email: allysong@broad.msu.edu.
URL:https://broad.msu.edu/event/hospitality-business-scholarship-reception/
LOCATION:Kellogg Hotel & Conference Center\, 219 S Harrison Rd\, East Lansing\, MI\, 48824\, United States
CATEGORIES:Featured Events,Hospitality Business,Undergraduate Events
END:VEVENT
END:VCALENDAR