BEGIN:VCALENDAR
VERSION:2.0
PRODID:-//Eli Broad College of Business | Michigan State University - ECPv6.15.17.1//NONSGML v1.0//EN
CALSCALE:GREGORIAN
METHOD:PUBLISH
X-WR-CALNAME:Eli Broad College of Business | Michigan State University
X-ORIGINAL-URL:https://broad.msu.edu
X-WR-CALDESC:Events for Eli Broad College of Business | Michigan State University
REFRESH-INTERVAL;VALUE=DURATION:PT1H
X-Robots-Tag:noindex
X-PUBLISHED-TTL:PT1H
BEGIN:VTIMEZONE
TZID:America/Detroit
BEGIN:DAYLIGHT
TZOFFSETFROM:-0500
TZOFFSETTO:-0400
TZNAME:EDT
DTSTART:20230312T070000
END:DAYLIGHT
BEGIN:STANDARD
TZOFFSETFROM:-0400
TZOFFSETTO:-0500
TZNAME:EST
DTSTART:20231105T060000
END:STANDARD
BEGIN:DAYLIGHT
TZOFFSETFROM:-0500
TZOFFSETTO:-0400
TZNAME:EDT
DTSTART:20240310T070000
END:DAYLIGHT
BEGIN:STANDARD
TZOFFSETFROM:-0400
TZOFFSETTO:-0500
TZNAME:EST
DTSTART:20241103T060000
END:STANDARD
BEGIN:DAYLIGHT
TZOFFSETFROM:-0500
TZOFFSETTO:-0400
TZNAME:EDT
DTSTART:20250309T070000
END:DAYLIGHT
BEGIN:STANDARD
TZOFFSETFROM:-0400
TZOFFSETTO:-0500
TZNAME:EST
DTSTART:20251102T060000
END:STANDARD
END:VTIMEZONE
BEGIN:VEVENT
DTSTART;TZID=America/Detroit:20240320T140000
DTEND;TZID=America/Detroit:20240320T143000
DTSTAMP:20260424T022934
CREATED:20231205T172132Z
LAST-MODIFIED:20231205T172132Z
UID:10003922-1710943200-1710945000@broad.msu.edu
SUMMARY:MSMRA Virtual Information Session
DESCRIPTION:Join us to learn more about MSU’s MSMRA Program!
URL:https://broad.msu.edu/event/msmra-virtual-information-session-6/
LOCATION:MI
CATEGORIES:M.S. in Marketing Research
END:VEVENT
BEGIN:VEVENT
DTSTART;TZID=America/Detroit:20240320T160000
DTEND;TZID=America/Detroit:20240320T163000
DTSTAMP:20260424T022934
CREATED:20240213T171012Z
LAST-MODIFIED:20240213T171012Z
UID:10003993-1710950400-1710952200@broad.msu.edu
SUMMARY:M.S. In Business Data Science & Analytics Information Session
DESCRIPTION:Join us on March 20th to learn more about the Master of Science in Business Data Science & Analytics Program at MSU!
URL:https://broad.msu.edu/event/m-s-in-business-data-science-analytics-information-session-march-20-2024/
LOCATION:Online
CATEGORIES:M.S. in Business Data Science & Analytics
ORGANIZER;CN="Titun Maiti":MAILTO:titun@msu.edu
END:VEVENT
BEGIN:VEVENT
DTSTART;TZID=America/Detroit:20240320T163000
DTEND;TZID=America/Detroit:20240320T173000
DTSTAMP:20260424T022934
CREATED:20240117T184640Z
LAST-MODIFIED:20240117T185233Z
UID:10003976-1710952200-1710955800@broad.msu.edu
SUMMARY:Ethics of Accommodation Part 4: Survive and Thrive as MSU Students with Disabilities Communication Conversation
DESCRIPTION:This is the final event of a four-part series that focuses on bringing both faculty and students together around a discussion of “Ethics of Accommodations” to share best practices on ideas around accommodating students with disabilities in the University. These best practices are intended to incorporate diverse voices across both students and faculty. This “community conversation” will capture audience voices following each panel. Pizza will be provided. Register to join us on March 20th from 4:30-5:30pm. \n  \n 
URL:https://broad.msu.edu/event/ethics-of-accommodation-part-4-survive-and-thrive-as-msu-students-with-disabilities-communication-conversation/
LOCATION:Eppley Center\, 667 N Shaw Ln\, East Lansing\, MI\, 48824\, United States
CATEGORIES:Ethics & Social Responsibility
END:VEVENT
BEGIN:VEVENT
DTSTART;TZID=America/Detroit:20240320T183000
DTEND;TZID=America/Detroit:20240320T193000
DTSTAMP:20260424T022934
CREATED:20240109T204255Z
LAST-MODIFIED:20240109T204255Z
UID:10003952-1710959400-1710963000@broad.msu.edu
SUMMARY:MSU Broad MBA Student Experience Panel
DESCRIPTION:This webinar will feature a panel of current Broad MBA students with varying backgrounds and post-MBA goals who will answer questions and describe their experiences as students in the Michigan State Broad Full-Time MBA program. Second-year students will share their end-of-program reflections as well.
URL:https://broad.msu.edu/event/msu-broad-mba-student-experience-panel/
LOCATION:Online
CATEGORIES:Admissions Events,Full-Time MBA
ORGANIZER;CN="MBA Admissions":MAILTO:mba@msu.edu
END:VEVENT
END:VCALENDAR