BEGIN:VCALENDAR
VERSION:2.0
PRODID:-//Eli Broad College of Business | Michigan State University - ECPv6.15.17.1//NONSGML v1.0//EN
CALSCALE:GREGORIAN
METHOD:PUBLISH
X-WR-CALNAME:Eli Broad College of Business | Michigan State University
X-ORIGINAL-URL:https://broad.msu.edu
X-WR-CALDESC:Events for Eli Broad College of Business | Michigan State University
REFRESH-INTERVAL;VALUE=DURATION:PT1H
X-Robots-Tag:noindex
X-PUBLISHED-TTL:PT1H
BEGIN:VTIMEZONE
TZID:America/Detroit
BEGIN:DAYLIGHT
TZOFFSETFROM:-0500
TZOFFSETTO:-0400
TZNAME:EDT
DTSTART:20230312T070000
END:DAYLIGHT
BEGIN:STANDARD
TZOFFSETFROM:-0400
TZOFFSETTO:-0500
TZNAME:EST
DTSTART:20231105T060000
END:STANDARD
BEGIN:DAYLIGHT
TZOFFSETFROM:-0500
TZOFFSETTO:-0400
TZNAME:EDT
DTSTART:20240310T070000
END:DAYLIGHT
BEGIN:STANDARD
TZOFFSETFROM:-0400
TZOFFSETTO:-0500
TZNAME:EST
DTSTART:20241103T060000
END:STANDARD
BEGIN:DAYLIGHT
TZOFFSETFROM:-0500
TZOFFSETTO:-0400
TZNAME:EDT
DTSTART:20250309T070000
END:DAYLIGHT
BEGIN:STANDARD
TZOFFSETFROM:-0400
TZOFFSETTO:-0500
TZNAME:EST
DTSTART:20251102T060000
END:STANDARD
END:VTIMEZONE
BEGIN:VEVENT
DTSTART;VALUE=DATE:20240415
DTEND;VALUE=DATE:20240420
DTSTAMP:20260419T132206
CREATED:20240327T122730Z
LAST-MODIFIED:20240412T121033Z
UID:10004015-1713139200-1713571199@broad.msu.edu
SUMMARY:Broad Bash & Grad Fest
DESCRIPTION:Join us for a week of celebration and fun! Don’t miss out on these exciting events as we celebrate your journey and accomplishments at Broad Bash and Grad Fest! \nGraduating Senior Slide Show\nUse the following Qualtrics Survey to submit your name\, major\, plans for after graduation\, your Broad experience highlight\, and a high-quality image. https://msu.co1.qualtrics.com/jfe/form/SV_9uxqoUfFSO2m0pE \nWe will take that information and create a slide for you. We plan for these slides to be displayed throughout the next 2 weeks. \nTasty treats in the Engagement Center \n\nMonday\, 4/15 at 11:00am – Donuts from Groovy Donuts\nTuesday\, 4/16 at 11:00am – Sandwiches from Jimmy John’s\nWednesday\, 4/17 at 11:00am – Ice Cream from the MSU Dairy Store\n\nPick Up Broad Business Bundles and related graduation cords and/or stoles in the Engagement Center.\nBroad Business Bundles and honor cords are also available in the UAS Suite\, per a 4/2 email to grads from Brekelle Davis. \n\nMonday\, 4/15 from 10:00am-12:00pm\nTuesday\, 4/16 from 10:00am-12:00pm\nWednesday\, 4/17 from 12:00pm-2:00pm\nThursday\, 4/18 from 12:00pm-2:00pm\n\nDecorate your graduation cap in the Engagement Center! \n\nThursday\, 4/18\nFriday\, 4/19\n\nGraduating Seniors Brunch – Stop by the Engagement Center to grab a breakfast burrito from Qdoba.\nFood will be first come\, first served until we are out of food. \n\nFriday\, 4/19 at 11:00am\n\nGroup Photo – Meet at the Minskoff Steps! \n\nFriday\, 4/19 at 1:30pm\, sharp
URL:https://broad.msu.edu/event/grad-fest-2/
CATEGORIES:Undergraduate Student Engagement
END:VEVENT
BEGIN:VEVENT
DTSTART;TZID=America/Detroit:20240417T120000
DTEND;TZID=America/Detroit:20240417T130000
DTSTAMP:20260419T132206
CREATED:20240110T201404Z
LAST-MODIFIED:20240403T162825Z
UID:10003955-1713355200-1713358800@broad.msu.edu
SUMMARY:Broad MBA Chat with the Director of Admissions
DESCRIPTION:Connect with the Director of Admissions and learn more about Michigan State University’s Broad College of Business Full-Time MBA program. Feel free to ask any questions you may have about the program and/or admissions process as well.
URL:https://broad.msu.edu/event/broad-mba-chat-with-the-director-of-admissions-4-17/
LOCATION:Online
CATEGORIES:Admissions Events,Full-Time MBA
ORGANIZER;CN="MBA Admissions":MAILTO:mba@msu.edu
END:VEVENT
BEGIN:VEVENT
DTSTART;TZID=America/Detroit:20240417T180000
DTEND;TZID=America/Detroit:20240417T200000
DTSTAMP:20260419T132206
CREATED:20240322T163549Z
LAST-MODIFIED:20240403T162535Z
UID:10004012-1713376800-1713384000@broad.msu.edu
SUMMARY:Broad Executive MBA | Networking Reception | Ferndale
DESCRIPTION:The Executive MBA staff and alumni are hosting a business reception at Pop’s for Italian in Ferndale for prospective students.  Join us to meet others in our community who are considering the Broad Executive MBA program. During the reception\, we will discuss the value\, experience\, academics\, and structure of the program. \nEvent Agenda:\n\nNetworking with program staff and alumni\nGain insight into our program\, academic culture\, and admissions process\n\nThis event is free to attend\, but space is limited so registration is required. Business casual attire recommended. 
URL:https://broad.msu.edu/event/broad-executive-mba-networking-reception-ferndale-4/
LOCATION:Pop’s For Italian\, 280 W 9 Mile Rd\, Ferndale\, 48220
CATEGORIES:Executive MBA,Recruiting Events
ORGANIZER;CN="Sarah Ellis%2C Admissions & Academic Services Manager":MAILTO:sellis@broad.msu.edu
END:VEVENT
END:VCALENDAR