BEGIN:VCALENDAR
VERSION:2.0
PRODID:-//Eli Broad College of Business | Michigan State University - ECPv6.15.17.1//NONSGML v1.0//EN
CALSCALE:GREGORIAN
METHOD:PUBLISH
X-ORIGINAL-URL:https://broad.msu.edu
X-WR-CALDESC:Events for Eli Broad College of Business | Michigan State University
REFRESH-INTERVAL;VALUE=DURATION:PT1H
X-Robots-Tag:noindex
X-PUBLISHED-TTL:PT1H
BEGIN:VTIMEZONE
TZID:America/Detroit
BEGIN:DAYLIGHT
TZOFFSETFROM:-0500
TZOFFSETTO:-0400
TZNAME:EDT
DTSTART:20230312T070000
END:DAYLIGHT
BEGIN:STANDARD
TZOFFSETFROM:-0400
TZOFFSETTO:-0500
TZNAME:EST
DTSTART:20231105T060000
END:STANDARD
BEGIN:DAYLIGHT
TZOFFSETFROM:-0500
TZOFFSETTO:-0400
TZNAME:EDT
DTSTART:20240310T070000
END:DAYLIGHT
BEGIN:STANDARD
TZOFFSETFROM:-0400
TZOFFSETTO:-0500
TZNAME:EST
DTSTART:20241103T060000
END:STANDARD
BEGIN:DAYLIGHT
TZOFFSETFROM:-0500
TZOFFSETTO:-0400
TZNAME:EDT
DTSTART:20250309T070000
END:DAYLIGHT
BEGIN:STANDARD
TZOFFSETFROM:-0400
TZOFFSETTO:-0500
TZNAME:EST
DTSTART:20251102T060000
END:STANDARD
END:VTIMEZONE
BEGIN:VTIMEZONE
TZID:Asia/Almaty
BEGIN:STANDARD
TZOFFSETFROM:+0600
TZOFFSETTO:+0500
TZNAME:+05
DTSTART:20240229T180000
END:STANDARD
END:VTIMEZONE
BEGIN:VEVENT
DTSTART;TZID=America/Detroit:20240429T103000
DTEND;TZID=America/Detroit:20240429T110000
DTSTAMP:20260425T091144
CREATED:20240213T172507Z
LAST-MODIFIED:20240213T172507Z
UID:10003995-1714386600-1714388400@broad.msu.edu
SUMMARY:M.S. In Business Data Science & Analytics Information Session
DESCRIPTION:Join us on April 29th to learn more about the Master of Science in Business Data Science & Analytics Program at MSU!
URL:https://broad.msu.edu/event/m-s-in-business-data-science-analytics-information-session-apr-29-2024/
LOCATION:MI
CATEGORIES:M.S. in Business Data Science & Analytics
ORGANIZER;CN="Titun Maiti":MAILTO:titun@msu.edu
END:VEVENT
BEGIN:VEVENT
DTSTART;TZID=Asia/Almaty:20240429T170000
DTEND;TZID=Asia/Almaty:20240429T211500
DTSTAMP:20260425T091144
CREATED:20240110T205909Z
LAST-MODIFIED:20240110T205909Z
UID:10003959-1714410000-1714425300@broad.msu.edu
SUMMARY:Access MBA - Almaty\, Kazakhstan
DESCRIPTION:Meet with the Michigan State Broad Full-Time MBA admissions team at the Access MBA Almaty\, Kazakhstan event on Monday\, April 29th. Meet with us at the event to learn more about the Broad MBA\, discuss your MBA goals and hear about the admissions process. \nLeave us your information below to receive updates about the Broad MBA program and admissions events and express your interest in meeting with us! \nIf you would like to meet with us at the Access MBA event in Almaty\, please register for it here.
URL:https://broad.msu.edu/event/access-mba-almaty-kazakhstan/
LOCATION:MI
CATEGORIES:Admissions Events,Full-Time MBA
ORGANIZER;CN="MBA Admissions":MAILTO:mba@msu.edu
END:VEVENT
END:VCALENDAR