BEGIN:VCALENDAR
VERSION:2.0
PRODID:-//Eli Broad College of Business | Michigan State University - ECPv6.15.17.1//NONSGML v1.0//EN
CALSCALE:GREGORIAN
METHOD:PUBLISH
X-WR-CALNAME:Eli Broad College of Business | Michigan State University
X-ORIGINAL-URL:https://broad.msu.edu
X-WR-CALDESC:Events for Eli Broad College of Business | Michigan State University
REFRESH-INTERVAL;VALUE=DURATION:PT1H
X-Robots-Tag:noindex
X-PUBLISHED-TTL:PT1H
BEGIN:VTIMEZONE
TZID:America/Detroit
BEGIN:DAYLIGHT
TZOFFSETFROM:-0500
TZOFFSETTO:-0400
TZNAME:EDT
DTSTART:20230312T070000
END:DAYLIGHT
BEGIN:STANDARD
TZOFFSETFROM:-0400
TZOFFSETTO:-0500
TZNAME:EST
DTSTART:20231105T060000
END:STANDARD
BEGIN:DAYLIGHT
TZOFFSETFROM:-0500
TZOFFSETTO:-0400
TZNAME:EDT
DTSTART:20240310T070000
END:DAYLIGHT
BEGIN:STANDARD
TZOFFSETFROM:-0400
TZOFFSETTO:-0500
TZNAME:EST
DTSTART:20241103T060000
END:STANDARD
BEGIN:DAYLIGHT
TZOFFSETFROM:-0500
TZOFFSETTO:-0400
TZNAME:EDT
DTSTART:20250309T070000
END:DAYLIGHT
BEGIN:STANDARD
TZOFFSETFROM:-0400
TZOFFSETTO:-0500
TZNAME:EST
DTSTART:20251102T060000
END:STANDARD
END:VTIMEZONE
BEGIN:VEVENT
DTSTART;TZID=America/Detroit:20240515T103000
DTEND;TZID=America/Detroit:20240515T110000
DTSTAMP:20260419T121455
CREATED:20240412T141218Z
LAST-MODIFIED:20240412T142421Z
UID:10004017-1715769000-1715770800@broad.msu.edu
SUMMARY:M.S. In Business Data Science & Analytics Information Session
DESCRIPTION:Join us on May 15th at 10:30 AM ET to learn more about the Master of Science in Business Data Science & Analytics Program at MSU!
URL:https://broad.msu.edu/event/m-s-in-business-data-science-analytics-information-session-may-15-24/
LOCATION:Online
CATEGORIES:M.S. in Business Data Science & Analytics
ORGANIZER;CN="Titun Maiti":MAILTO:titun@msu.edu
END:VEVENT
BEGIN:VEVENT
DTSTART;TZID=America/Detroit:20240515T120000
DTEND;TZID=America/Detroit:20240515T123000
DTSTAMP:20260419T121455
CREATED:20240508T161958Z
LAST-MODIFIED:20240508T161958Z
UID:10004034-1715774400-1715776200@broad.msu.edu
SUMMARY:MS Accounting & Data Analytics Information Session
DESCRIPTION:Join us to learn more about MSU’s Master of Science in Accounting & Data Analytics program!
URL:https://broad.msu.edu/event/ms-accounting-data-analytics-information-session-28/
LOCATION:Online
CATEGORIES:M.S. in Accounting and Data Analytics
END:VEVENT
BEGIN:VEVENT
DTSTART;TZID=America/Detroit:20240515T120000
DTEND;TZID=America/Detroit:20240515T130000
DTSTAMP:20260419T121455
CREATED:20240110T201548Z
LAST-MODIFIED:20240110T201548Z
UID:10003956-1715774400-1715778000@broad.msu.edu
SUMMARY:The Broad MBA Advantage
DESCRIPTION:Join the Michigan State Broad MBA Admissions team to learn about the application process\, curriculum and benefits of the Broad Full-Time MBA program. You’ll also be able to ask any questions you have about the program and/or application process.
URL:https://broad.msu.edu/event/the-broad-mba-advantage-5-15-24/
LOCATION:Online
CATEGORIES:Admissions Events,Full-Time MBA
ORGANIZER;CN="MBA Admissions":MAILTO:mba@msu.edu
END:VEVENT
BEGIN:VEVENT
DTSTART;TZID=America/Detroit:20240515T123000
DTEND;TZID=America/Detroit:20240515T133000
DTSTAMP:20260419T121455
CREATED:20240513T162032Z
LAST-MODIFIED:20240513T162429Z
UID:10004036-1715776200-1715779800@broad.msu.edu
SUMMARY:Broad Executive MBA: Live Drop-in Q&A
DESCRIPTION:  \n \nJoin us for a live Q&A via Zoom with a member of our admissins team. Drop-in any time during the hourto learn more about the Executive MBA program or the application process.
URL:https://broad.msu.edu/event/broad-executive-mba-live-drop-in-qa/2024-05-15/
LOCATION:Virtual
CATEGORIES:Admissions Events,Executive MBA
END:VEVENT
BEGIN:VEVENT
DTSTART;TZID=America/Detroit:20240515T183000
DTEND;TZID=America/Detroit:20240515T203000
DTSTAMP:20260419T121455
CREATED:20240425T131834Z
LAST-MODIFIED:20240425T131958Z
UID:10004029-1715797800-1715805000@broad.msu.edu
SUMMARY:Broad Executive MBA | netWORK Your MBA
DESCRIPTION:Join Kirt Butler\, Ph.D.\, Eli Broad Associate Professor of Finance and Nick Hays\, Ph.D.\, Eli Broad Associate Professor of Management as they discuss current topics of business relevance. Just like those months in the classroom- but without the homework or quizzes! The evening will also feature plenty of networking time to reconnect with classmates. \nEvent is free\, but registration is required.
URL:https://broad.msu.edu/event/broad-executive-mba-network-your-mba/
LOCATION:Henry Center for Executive Development\, 3535 Forest Rd\, East Lansing\, MI\, 48910\, United States
CATEGORIES:Alumni Events,Executive MBA
END:VEVENT
END:VCALENDAR