BEGIN:VCALENDAR
VERSION:2.0
PRODID:-//Eli Broad College of Business | Michigan State University - ECPv6.15.17.1//NONSGML v1.0//EN
CALSCALE:GREGORIAN
METHOD:PUBLISH
X-WR-CALNAME:Eli Broad College of Business | Michigan State University
X-ORIGINAL-URL:https://broad.msu.edu
X-WR-CALDESC:Events for Eli Broad College of Business | Michigan State University
REFRESH-INTERVAL;VALUE=DURATION:PT1H
X-Robots-Tag:noindex
X-PUBLISHED-TTL:PT1H
BEGIN:VTIMEZONE
TZID:Asia/Ho_Chi_Minh
BEGIN:STANDARD
TZOFFSETFROM:+0700
TZOFFSETTO:+0700
TZNAME:+07
DTSTART:20230101T000000
END:STANDARD
END:VTIMEZONE
BEGIN:VEVENT
DTSTART;TZID=Asia/Ho_Chi_Minh:20240815T180000
DTEND;TZID=Asia/Ho_Chi_Minh:20240815T200000
DTSTAMP:20260419T080337
CREATED:20240627T164556Z
LAST-MODIFIED:20240628T150243Z
UID:10004117-1723744800-1723752000@broad.msu.edu
SUMMARY:Michigan State MBA info session in Ho Chi Minh City\, Vietnam
DESCRIPTION:Join the Michigan State Broad MBA Director of Admissions\, Kara Tripi\, and 2020 Broad MBA alum\, Tuan Nguyen\, at THINK Space in Ho Chi Minh City\, Vietnam to learn more about the Michigan State Full-Time MBA program! They will cover topics such as the application process\, scholarships\, career outcomes\, curriculum and the student experience. \nFood and beverages will be provided. All attendees will receive an application fee waiver. \nEvent Venue: \nTHINK Training Space\n116 Ðuong Nguyen Van Thu\, Dakao\, District 1\nHo Chi Minh City\nVietnam
URL:https://broad.msu.edu/event/michigan-state-mba-info-session-in-ho-chi-minh-city-vietnam/
CATEGORIES:Admissions Events,Full-Time MBA
ORGANIZER;CN="MBA Admissions":MAILTO:mba@msu.edu
END:VEVENT
END:VCALENDAR