BEGIN:VCALENDAR
VERSION:2.0
PRODID:-//Eli Broad College of Business | Michigan State University - ECPv6.15.17.1//NONSGML v1.0//EN
CALSCALE:GREGORIAN
METHOD:PUBLISH
X-WR-CALNAME:Eli Broad College of Business | Michigan State University
X-ORIGINAL-URL:https://broad.msu.edu
X-WR-CALDESC:Events for Eli Broad College of Business | Michigan State University
REFRESH-INTERVAL;VALUE=DURATION:PT1H
X-Robots-Tag:noindex
X-PUBLISHED-TTL:PT1H
BEGIN:VTIMEZONE
TZID:America/Detroit
BEGIN:DAYLIGHT
TZOFFSETFROM:-0500
TZOFFSETTO:-0400
TZNAME:EDT
DTSTART:20230312T070000
END:DAYLIGHT
BEGIN:STANDARD
TZOFFSETFROM:-0400
TZOFFSETTO:-0500
TZNAME:EST
DTSTART:20231105T060000
END:STANDARD
BEGIN:DAYLIGHT
TZOFFSETFROM:-0500
TZOFFSETTO:-0400
TZNAME:EDT
DTSTART:20240310T070000
END:DAYLIGHT
BEGIN:STANDARD
TZOFFSETFROM:-0400
TZOFFSETTO:-0500
TZNAME:EST
DTSTART:20241103T060000
END:STANDARD
BEGIN:DAYLIGHT
TZOFFSETFROM:-0500
TZOFFSETTO:-0400
TZNAME:EDT
DTSTART:20250309T070000
END:DAYLIGHT
BEGIN:STANDARD
TZOFFSETFROM:-0400
TZOFFSETTO:-0500
TZNAME:EST
DTSTART:20251102T060000
END:STANDARD
END:VTIMEZONE
BEGIN:VTIMEZONE
TZID:Asia/Shanghai
BEGIN:STANDARD
TZOFFSETFROM:+0800
TZOFFSETTO:+0800
TZNAME:CST
DTSTART:20230101T000000
END:STANDARD
END:VTIMEZONE
BEGIN:VEVENT
DTSTART;TZID=America/Detroit:20240824T120000
DTEND;TZID=America/Detroit:20240824T160000
DTSTAMP:20260421T195539
CREATED:20240722T151128Z
LAST-MODIFIED:20240722T151128Z
UID:10004141-1724500800-1724515200@broad.msu.edu
SUMMARY:Leadership in Action Conference
DESCRIPTION:Join us for the 2nd Annual LEADERSHIP IN ACTION Conference on Saturday\, August 24th from 12pm-3:30pm. Our focus this fall will be Finding Your Voice: Leading Through Uncertain Times. We are honored to welcome the President of Blue Cross Blue Shield of Illinois\, and proud MSU Alum\, Stephen Harris to share his leadership journey and lessons he has learned in moving his teams forward\, even when the world around can often feel unsettled. Stephen is responsible for the long-term growth and financial stability of the business\, strategic planning and ensuring affordable\, accessible\, and quality health care for the largest member-owned health insurer in the United States with nearly 9 million members. Following Stephen’s keynote\, we will offer additional engaging breakout sessions focused on making an impact within your organizations. Come prepared to share your ideas\, learn and network! This is a free event for students and lunch will be included!
URL:https://broad.msu.edu/event/leadership-in-action-conference-2024/
LOCATION:Eppley Center\, 667 N Shaw Ln\, East Lansing\, MI\, 48824\, United States
CATEGORIES:Ethics & Social Responsibility
ORGANIZER;CN="Beth Hammond":MAILTO:hammon25@msu.edu
END:VEVENT
BEGIN:VEVENT
DTSTART;TZID=Asia/Shanghai:20240824T150000
DTEND;TZID=Asia/Shanghai:20240824T173000
DTSTAMP:20260421T195539
CREATED:20240710T194920Z
LAST-MODIFIED:20240710T194920Z
UID:10004124-1724511600-1724520600@broad.msu.edu
SUMMARY:QS MBA Fair Beijing
DESCRIPTION:Meet the Michigan State Full-Time MBA admissions team at the QS MBA Fair in Beijing on August 24th! \nLeave us your information below to receive updates about the Broad MBA program and admissions events and express your interest in meeting with us! \nIf you would like to meet with us at the QS event in Beijing please register for it here.
URL:https://broad.msu.edu/event/qs-mba-fair-beijing/
LOCATION:MI
CATEGORIES:Admissions Events,Full-Time MBA
ORGANIZER;CN="MBA Admissions":MAILTO:mba@msu.edu
END:VEVENT
END:VCALENDAR