BEGIN:VCALENDAR
VERSION:2.0
PRODID:-//Eli Broad College of Business | Michigan State University - ECPv6.15.17.1//NONSGML v1.0//EN
CALSCALE:GREGORIAN
METHOD:PUBLISH
X-ORIGINAL-URL:https://broad.msu.edu
X-WR-CALDESC:Events for Eli Broad College of Business | Michigan State University
REFRESH-INTERVAL;VALUE=DURATION:PT1H
X-Robots-Tag:noindex
X-PUBLISHED-TTL:PT1H
BEGIN:VTIMEZONE
TZID:America/Detroit
BEGIN:DAYLIGHT
TZOFFSETFROM:-0500
TZOFFSETTO:-0400
TZNAME:EDT
DTSTART:20230312T070000
END:DAYLIGHT
BEGIN:STANDARD
TZOFFSETFROM:-0400
TZOFFSETTO:-0500
TZNAME:EST
DTSTART:20231105T060000
END:STANDARD
BEGIN:DAYLIGHT
TZOFFSETFROM:-0500
TZOFFSETTO:-0400
TZNAME:EDT
DTSTART:20240310T070000
END:DAYLIGHT
BEGIN:STANDARD
TZOFFSETFROM:-0400
TZOFFSETTO:-0500
TZNAME:EST
DTSTART:20241103T060000
END:STANDARD
BEGIN:DAYLIGHT
TZOFFSETFROM:-0500
TZOFFSETTO:-0400
TZNAME:EDT
DTSTART:20250309T070000
END:DAYLIGHT
BEGIN:STANDARD
TZOFFSETFROM:-0400
TZOFFSETTO:-0500
TZNAME:EST
DTSTART:20251102T060000
END:STANDARD
END:VTIMEZONE
BEGIN:VEVENT
DTSTART;TZID=America/Detroit:20240918T113000
DTEND;TZID=America/Detroit:20240918T123000
DTSTAMP:20260425T163010
CREATED:20240722T152658Z
LAST-MODIFIED:20240722T152658Z
UID:10004143-1726659000-1726662600@broad.msu.edu
SUMMARY:Leadership in Action Workshop; Ethics- What’s the Big Deal?
DESCRIPTION:Calling all Broad RSO leaders! This is a learning opportunity just for YOU! Join us on Wednesday\, September 18th from 11:30-12:30pm to explore the intersection of ethics\, leadership and YOU! We will have an interactive conversation and explore how your values impact how you approach ethical situations. Register to join us\, and lock in your FREE lunch today!
URL:https://broad.msu.edu/event/leadership-in-action-workshop-ethics-whats-the-big-deal-2024/
LOCATION:Eppley Center\, 667 N Shaw Ln\, East Lansing\, MI\, 48824\, United States
CATEGORIES:Ethics & Social Responsibility
ORGANIZER;CN="Beth Hammond":MAILTO:hammon25@msu.edu
END:VEVENT
BEGIN:VEVENT
DTSTART;TZID=America/Detroit:20240918T123000
DTEND;TZID=America/Detroit:20240918T133000
DTSTAMP:20260425T163010
CREATED:20240516T184117Z
LAST-MODIFIED:20241001T153331Z
UID:10004161-1726662600-1726666200@broad.msu.edu
SUMMARY:Broad Executive MBA: Live Drop-in Q&A
DESCRIPTION:  \n \nJoin us for a live Q&A via Zoom with a member of our admissins team. Drop-in any time during the hour to learn more about the Executive MBA program or the application process.
URL:https://broad.msu.edu/event/broad-executive-mba-live-drop-in-qa-2/2024-09-18/
LOCATION:Virtual
CATEGORIES:Admissions Events,Executive MBA
END:VEVENT
BEGIN:VEVENT
DTSTART;TZID=America/Detroit:20240918T170000
DTEND;TZID=America/Detroit:20240918T173000
DTSTAMP:20260425T163010
CREATED:20240903T192244Z
LAST-MODIFIED:20240903T192244Z
UID:10004223-1726678800-1726680600@broad.msu.edu
SUMMARY:MS Accounting & Data Analytics Information Session
DESCRIPTION:Join us to learn more about MSU’s Master of Science in Accounting & Data Analytics program!
URL:https://broad.msu.edu/event/ms-accounting-data-analytics-information-session-32/
LOCATION:Online
CATEGORIES:M.S. in Accounting and Data Analytics
END:VEVENT
BEGIN:VEVENT
DTSTART;TZID=America/Detroit:20240918T180000
DTEND;TZID=America/Detroit:20240918T190000
DTSTAMP:20260425T163010
CREATED:20240826T192351Z
LAST-MODIFIED:20240826T192351Z
UID:10004202-1726682400-1726686000@broad.msu.edu
SUMMARY:Emerging Leaders: Student Innovation & Entrepreneurship
DESCRIPTION:The Innovate State Speaker Series brings both emerging and accomplished Spartans back to campus for a fireside chat-style interview. These 60-minute sessions offer the chance for guests to share their perspectives on a wide array of topics like innovation\, startup life\, investments\, and career paths. Students get the opportunity to hear firsthand about the hard knocks of the entrepreneurship & innovation hustle to maintaining work/life balance. These are stories of success\, stories of failures\, and stories of uncommon will—and you do not want to miss them. \nJoin the Burgess Institute for Entrepreneurship & Innovation for Emerging Leaders: Student Innovation & Entrepreneurship at 6PM in the Entrepreneurship Lab (M025). Early registration is highly encouraged.
URL:https://broad.msu.edu/event/emerging-leaders-student-innovation-entrepreneurship-2/
LOCATION:Entrepreneurship Lab\, 651 N Shaw Ln\, East Lansing\, MI\, 48824\, United States
CATEGORIES:Entrepreneurship
ORGANIZER;CN="Aubrey Haase":MAILTO:haaseaub@msu.edu
END:VEVENT
END:VCALENDAR