BEGIN:VCALENDAR
VERSION:2.0
PRODID:-//Eli Broad College of Business | Michigan State University - ECPv6.15.17.1//NONSGML v1.0//EN
CALSCALE:GREGORIAN
METHOD:PUBLISH
X-ORIGINAL-URL:https://broad.msu.edu
X-WR-CALDESC:Events for Eli Broad College of Business | Michigan State University
REFRESH-INTERVAL;VALUE=DURATION:PT1H
X-Robots-Tag:noindex
X-PUBLISHED-TTL:PT1H
BEGIN:VTIMEZONE
TZID:America/Detroit
BEGIN:DAYLIGHT
TZOFFSETFROM:-0500
TZOFFSETTO:-0400
TZNAME:EDT
DTSTART:20230312T070000
END:DAYLIGHT
BEGIN:STANDARD
TZOFFSETFROM:-0400
TZOFFSETTO:-0500
TZNAME:EST
DTSTART:20231105T060000
END:STANDARD
BEGIN:DAYLIGHT
TZOFFSETFROM:-0500
TZOFFSETTO:-0400
TZNAME:EDT
DTSTART:20240310T070000
END:DAYLIGHT
BEGIN:STANDARD
TZOFFSETFROM:-0400
TZOFFSETTO:-0500
TZNAME:EST
DTSTART:20241103T060000
END:STANDARD
BEGIN:DAYLIGHT
TZOFFSETFROM:-0500
TZOFFSETTO:-0400
TZNAME:EDT
DTSTART:20250309T070000
END:DAYLIGHT
BEGIN:STANDARD
TZOFFSETFROM:-0400
TZOFFSETTO:-0500
TZNAME:EST
DTSTART:20251102T060000
END:STANDARD
END:VTIMEZONE
BEGIN:VEVENT
DTSTART;TZID=America/Detroit:20240925T113000
DTEND;TZID=America/Detroit:20240925T123000
DTSTAMP:20260425T080416
CREATED:20240722T153220Z
LAST-MODIFIED:20240722T153220Z
UID:10004145-1727263800-1727267400@broad.msu.edu
SUMMARY:Lunch and Learn; Spartan Global Development
DESCRIPTION:Join us to learn from Professor Paulette Stenzel\, Broad College of Business Faculty to learn how students can use their business skills and passions to be a socially responsible leader right now! This will be a great opportunity to learn more about the impact the Spartan Global Development Fund has on people across the globe. Join us on Wednesday\, September 25<sup>th</sup> from 11:30am-12:30pm. Register to join\, and lock in your FREE lunch today!
URL:https://broad.msu.edu/event/lunch-and-learn-spartan-global-development-2024/
LOCATION:Eppley Center\, 667 N Shaw Ln\, East Lansing\, MI\, 48824\, United States
CATEGORIES:Ethics & Social Responsibility
ORGANIZER;CN="Beth Hammond":MAILTO:hammon25@msu.edu
END:VEVENT
BEGIN:VEVENT
DTSTART;TZID=America/Detroit:20240925T123000
DTEND;TZID=America/Detroit:20240925T133000
DTSTAMP:20260425T080416
CREATED:20240516T184117Z
LAST-MODIFIED:20241001T153331Z
UID:10004162-1727267400-1727271000@broad.msu.edu
SUMMARY:Broad Executive MBA: Live Drop-in Q&A
DESCRIPTION:  \n \nJoin us for a live Q&A via Zoom with a member of our admissins team. Drop-in any time during the hour to learn more about the Executive MBA program or the application process.
URL:https://broad.msu.edu/event/broad-executive-mba-live-drop-in-qa-2/2024-09-25/
LOCATION:Virtual
CATEGORIES:Admissions Events,Executive MBA
END:VEVENT
BEGIN:VEVENT
DTSTART;TZID=America/Detroit:20240925T140000
DTEND;TZID=America/Detroit:20240925T143000
DTSTAMP:20260425T080416
CREATED:20240827T172935Z
LAST-MODIFIED:20240827T172935Z
UID:10004210-1727272800-1727274600@broad.msu.edu
SUMMARY:MSMRA Virtual Information Session
DESCRIPTION:Join us to learn more about MSU’s MSMRA program!
URL:https://broad.msu.edu/event/msmra-virtual-information-session-13/
LOCATION:MI
CATEGORIES:M.S. in Marketing Research
END:VEVENT
BEGIN:VEVENT
DTSTART;TZID=America/Detroit:20240925T160000
DTEND;TZID=America/Detroit:20240925T173000
DTSTAMP:20260425T080416
CREATED:20240826T180837Z
LAST-MODIFIED:20240826T181845Z
UID:10004195-1727280000-1727285400@broad.msu.edu
SUMMARY:Unpacking Your Education Abroad Experience
DESCRIPTION:This event is primarily for education abroad returnees\, especially those who participated in summer 2024 programs (faculty-led\, semester-long\, and internship abroad)\, but all students are welcome. Through hands-on exercises\, students improve skills to communicate about the value of their education abroad experience in terms of personal and professional development. 
URL:https://broad.msu.edu/event/unpacking-your-education-abroad-experience/
LOCATION:Eppley Center\, 667 N Shaw Ln\, East Lansing\, MI\, 48824\, United States
CATEGORIES:Education Abroad
END:VEVENT
BEGIN:VEVENT
DTSTART;TZID=America/Detroit:20240925T160000
DTEND;TZID=America/Detroit:20240925T190000
DTSTAMP:20260425T080416
CREATED:20240424T205104Z
LAST-MODIFIED:20240424T205104Z
UID:10004022-1727280000-1727290800@broad.msu.edu
SUMMARY:MSU Careers in Business: Marketing/Management In-Person Fair
DESCRIPTION:We invite you to join the Broad College of Business Russell Palmer Career Management Center for the MSU Careers in Business: Marketing/Management In-Person Fair. This event will take place in the MSUFCU Club at Spartan Stadium on Wednesday\, September 25 from 4:00pm-7:00pm and is open to all MSU undergraduate and graduate students seeking internship and full-time opportunities in the marketing and management fields. 
URL:https://broad.msu.edu/event/msu-careers-in-business-marketing-management-in-person-fair-2/
LOCATION:Spartan Stadium – Office Tower\, 535 Chestnut Rd\, East Lansing\, MI\, 48824\, United States
CATEGORIES:Career Management,Palmer Center Recruiting,Recruiting Events
ORGANIZER;CN="Taylor Bates":MAILTO:taybates@msu.edu
END:VEVENT
END:VCALENDAR