BEGIN:VCALENDAR
VERSION:2.0
PRODID:-//Eli Broad College of Business | Michigan State University - ECPv6.15.17.1//NONSGML v1.0//EN
CALSCALE:GREGORIAN
METHOD:PUBLISH
X-WR-CALNAME:Eli Broad College of Business | Michigan State University
X-ORIGINAL-URL:https://broad.msu.edu
X-WR-CALDESC:Events for Eli Broad College of Business | Michigan State University
REFRESH-INTERVAL;VALUE=DURATION:PT1H
X-Robots-Tag:noindex
X-PUBLISHED-TTL:PT1H
BEGIN:VTIMEZONE
TZID:America/Detroit
BEGIN:DAYLIGHT
TZOFFSETFROM:-0500
TZOFFSETTO:-0400
TZNAME:EDT
DTSTART:20230312T070000
END:DAYLIGHT
BEGIN:STANDARD
TZOFFSETFROM:-0400
TZOFFSETTO:-0500
TZNAME:EST
DTSTART:20231105T060000
END:STANDARD
BEGIN:DAYLIGHT
TZOFFSETFROM:-0500
TZOFFSETTO:-0400
TZNAME:EDT
DTSTART:20240310T070000
END:DAYLIGHT
BEGIN:STANDARD
TZOFFSETFROM:-0400
TZOFFSETTO:-0500
TZNAME:EST
DTSTART:20241103T060000
END:STANDARD
BEGIN:DAYLIGHT
TZOFFSETFROM:-0500
TZOFFSETTO:-0400
TZNAME:EDT
DTSTART:20250309T070000
END:DAYLIGHT
BEGIN:STANDARD
TZOFFSETFROM:-0400
TZOFFSETTO:-0500
TZNAME:EST
DTSTART:20251102T060000
END:STANDARD
END:VTIMEZONE
BEGIN:VEVENT
DTSTART;TZID=America/Detroit:20241002T120000
DTEND;TZID=America/Detroit:20241002T130000
DTSTAMP:20260420T225604
CREATED:20240725T164443Z
LAST-MODIFIED:20240725T164443Z
UID:10004155-1727870400-1727874000@broad.msu.edu
SUMMARY:Coffee Chat with the Broad MBA Director of Admissions
DESCRIPTION:Connect with the Director of Admissions and learn more about Michigan State University’s Broad College of Business Full-Time MBA program. Feel free to ask any questions you may have about the program and/or admissions process for the Fall 2025 intake.
URL:https://broad.msu.edu/event/coffee-chat-with-the-broad-mba-director-of-admissions/
LOCATION:Online
CATEGORIES:Admissions Events,Full-Time MBA
ORGANIZER;CN="MBA Admissions":MAILTO:mba@msu.edu
END:VEVENT
BEGIN:VEVENT
DTSTART;TZID=America/Detroit:20241002T130000
DTEND;TZID=America/Detroit:20241002T170000
DTSTAMP:20260420T225604
CREATED:20240826T181027Z
LAST-MODIFIED:20240826T181718Z
UID:10004196-1727874000-1727888400@broad.msu.edu
SUMMARY:2024 Global Learning Expo
DESCRIPTION:This is a comprehensive information event for anyone interested in learning more about the many exciting global opportunities available at Michigan State University. More than 145 exhibits displaying information about MSU’s wide variety of programs and support services will be available for students to browse and ask questions. 
URL:https://broad.msu.edu/event/2024-global-learning-expo/
LOCATION:Breslin Student Events Center\, 534 Birch Rd\, East Lansing\, MI\, 48824\, United States
CATEGORIES:Education Abroad
END:VEVENT
BEGIN:VEVENT
DTSTART;TZID=America/Detroit:20241002T130000
DTEND;TZID=America/Detroit:20241002T170000
DTSTAMP:20260420T225604
CREATED:20240925T140929Z
LAST-MODIFIED:20240925T140931Z
UID:10004238-1727874000-1727888400@broad.msu.edu
SUMMARY:2024 Global Learning Expo
DESCRIPTION:This is a comprehensive information event for anyone interested in learning more about the many exciting global opportunities available at Michigan State University. More than 145 exhibits displaying information about MSU’s wide variety of programs and support services will be available for students to browse and ask questions.
URL:https://broad.msu.edu/event/2024-global-learning-expo-2/
LOCATION:Breslin Student Events Center\, 534 Birch Rd\, East Lansing\, MI\, 48824\, United States
CATEGORIES:Education Abroad
END:VEVENT
BEGIN:VEVENT
DTSTART;TZID=America/Detroit:20241002T170000
DTEND;TZID=America/Detroit:20241002T173000
DTSTAMP:20260420T225604
CREATED:20240903T192512Z
LAST-MODIFIED:20240903T192512Z
UID:10004225-1727888400-1727890200@broad.msu.edu
SUMMARY:MS Accounting & Data Analytics Information Session
DESCRIPTION:Join us to learn more about MSU’s Master of Science in Accounting & Data Analytics program!
URL:https://broad.msu.edu/event/ms-accounting-data-analytics-information-session-34/
LOCATION:Online
CATEGORIES:M.S. in Accounting and Data Analytics
END:VEVENT
BEGIN:VEVENT
DTSTART;TZID=America/Detroit:20241002T173000
DTEND;TZID=America/Detroit:20241002T200000
DTSTAMP:20260420T225604
CREATED:20240910T183324Z
LAST-MODIFIED:20240910T183324Z
UID:10004230-1727890200-1727899200@broad.msu.edu
SUMMARY:Fall 2024 Advancing Women in Business
DESCRIPTION:As professional women\, we seldom carve out time to focus on our own needs and priorities. Now\, more than ever\, it is important for us to come together to encourage\, empathize with and inspire each other. \nWhether you’re an experienced high-powered executive or early in your career\, the Broad College Advancing Women in Business event will help you recharge and focus on you.\nJoin us at the University Club of Michigan State University to hear from two dynamic\, successful women whose real-life career journeys are compelling and inspiring. \nAgenda \n\n5:30 PM | Registration Opens\n6:00 PM | Networking\n6:30 PM | Panel with Deb Thornton\, retired managing director of technology\, Accenture\, and Michele Honomichl\, CEO\, CanDoiQ LLC\n\nThere is no cost to attend\, but registration is required. A Zoom option is available for those unable to join us in Lansing.
URL:https://broad.msu.edu/event/fall-2024-advancing-women-in-business/
LOCATION:University Club of MSU\, 3435 Forest Rd\, Lansing\, MI\, 48910
CATEGORIES:Featured Events
ORGANIZER;CN="Mahin Sandoval-Chavez":MAILTO:events@broad.msu.edu
END:VEVENT
BEGIN:VEVENT
DTSTART;TZID=America/Detroit:20241002T180000
DTEND;TZID=America/Detroit:20241002T211500
DTSTAMP:20260420T225604
CREATED:20240725T162832Z
LAST-MODIFIED:20240725T162832Z
UID:10004152-1727892000-1727903700@broad.msu.edu
SUMMARY:Access MBA - Toronto
DESCRIPTION:Meet with the Michigan State Broad Full-Time MBA admissions team at the Access MBA Toronto event on Wednesday\, October 2nd. Meet with us at the event to learn more about the Broad MBA\, discuss your MBA goals and hear about the admissions process. \nLeave us your information below to receive updates about the Broad MBA program and admissions events and express your interest in meeting with us! \nIf you would like to meet with us at the Access MBA event in Toronto\, please register for it here.
URL:https://broad.msu.edu/event/access-mba-toronto/
CATEGORIES:Admissions Events,Full-Time MBA
ORGANIZER;CN="MBA Admissions":MAILTO:mba@msu.edu
END:VEVENT
END:VCALENDAR