BEGIN:VCALENDAR
VERSION:2.0
PRODID:-//Eli Broad College of Business | Michigan State University - ECPv6.15.17.1//NONSGML v1.0//EN
CALSCALE:GREGORIAN
METHOD:PUBLISH
X-ORIGINAL-URL:https://broad.msu.edu
X-WR-CALDESC:Events for Eli Broad College of Business | Michigan State University
REFRESH-INTERVAL;VALUE=DURATION:PT1H
X-Robots-Tag:noindex
X-PUBLISHED-TTL:PT1H
BEGIN:VTIMEZONE
TZID:America/Lima
BEGIN:STANDARD
TZOFFSETFROM:-0500
TZOFFSETTO:-0500
TZNAME:-05
DTSTART:20230101T000000
END:STANDARD
END:VTIMEZONE
BEGIN:VTIMEZONE
TZID:America/Detroit
BEGIN:DAYLIGHT
TZOFFSETFROM:-0500
TZOFFSETTO:-0400
TZNAME:EDT
DTSTART:20230312T070000
END:DAYLIGHT
BEGIN:STANDARD
TZOFFSETFROM:-0400
TZOFFSETTO:-0500
TZNAME:EST
DTSTART:20231105T060000
END:STANDARD
BEGIN:DAYLIGHT
TZOFFSETFROM:-0500
TZOFFSETTO:-0400
TZNAME:EDT
DTSTART:20240310T070000
END:DAYLIGHT
BEGIN:STANDARD
TZOFFSETFROM:-0400
TZOFFSETTO:-0500
TZNAME:EST
DTSTART:20241103T060000
END:STANDARD
BEGIN:DAYLIGHT
TZOFFSETFROM:-0500
TZOFFSETTO:-0400
TZNAME:EDT
DTSTART:20250309T070000
END:DAYLIGHT
BEGIN:STANDARD
TZOFFSETFROM:-0400
TZOFFSETTO:-0500
TZNAME:EST
DTSTART:20251102T060000
END:STANDARD
END:VTIMEZONE
BEGIN:VEVENT
DTSTART;TZID=America/Lima:20241019T113000
DTEND;TZID=America/Lima:20241019T160000
DTSTAMP:20260422T010946
CREATED:20240820T175349Z
LAST-MODIFIED:20240820T175349Z
UID:10004178-1729337400-1729353600@broad.msu.edu
SUMMARY:Access MBA - Lima\, Peru
DESCRIPTION:Meet with the Michigan State Broad Full-Time MBA admissions team at the Access MBA Lima event on Saturday\, October 19th. Meet with us at the event to learn more about the Broad MBA\, discuss your MBA goals and hear about the admissions process. \nLeave us your information below to receive updates about the Broad MBA program and admissions events and express your interest in meeting with us! \nIf you would like to meet with us at the Access MBA event in Lima\, please register for it here.
URL:https://broad.msu.edu/event/access-mba-lima-peru/
LOCATION:MI
CATEGORIES:Admissions Events,Full-Time MBA
ORGANIZER;CN="MBA Admissions":MAILTO:mba@msu.edu
END:VEVENT
BEGIN:VEVENT
DTSTART;TZID=America/Detroit:20241019T163000
DTEND;TZID=America/Detroit:20241019T183000
DTSTAMP:20260422T010947
CREATED:20240722T150640Z
LAST-MODIFIED:20241014T141731Z
UID:10004140-1729355400-1729362600@broad.msu.edu
SUMMARY:2024 Broad College Homecoming Tailgate
DESCRIPTION:Join us for our Homecoming tailgate before the game against Iowa\, hosted on the Secchia Lawn outside the Minskoff pavilion! Food\, drinks\, and entertainment will be provided. The event is free but we do request that participants register here.
URL:https://broad.msu.edu/event/2024-broad-college-homecoming-tailgate/
LOCATION:Eli Broad College of Business\, 632 Bogue St n520\, East Lansing\, MI\, 48824\, United States
CATEGORIES:Alumni Events,College-wide Events,Featured Events
ORGANIZER;CN="Mahin Sandoval-Chavez":MAILTO:events@broad.msu.edu
END:VEVENT
END:VCALENDAR