BEGIN:VCALENDAR
VERSION:2.0
PRODID:-//Eli Broad College of Business | Michigan State University - ECPv6.15.17.1//NONSGML v1.0//EN
CALSCALE:GREGORIAN
METHOD:PUBLISH
X-WR-CALNAME:Eli Broad College of Business | Michigan State University
X-ORIGINAL-URL:https://broad.msu.edu
X-WR-CALDESC:Events for Eli Broad College of Business | Michigan State University
REFRESH-INTERVAL;VALUE=DURATION:PT1H
X-Robots-Tag:noindex
X-PUBLISHED-TTL:PT1H
BEGIN:VTIMEZONE
TZID:America/Detroit
BEGIN:DAYLIGHT
TZOFFSETFROM:-0500
TZOFFSETTO:-0400
TZNAME:EDT
DTSTART:20240310T070000
END:DAYLIGHT
BEGIN:STANDARD
TZOFFSETFROM:-0400
TZOFFSETTO:-0500
TZNAME:EST
DTSTART:20241103T060000
END:STANDARD
BEGIN:DAYLIGHT
TZOFFSETFROM:-0500
TZOFFSETTO:-0400
TZNAME:EDT
DTSTART:20250309T070000
END:DAYLIGHT
BEGIN:STANDARD
TZOFFSETFROM:-0400
TZOFFSETTO:-0500
TZNAME:EST
DTSTART:20251102T060000
END:STANDARD
BEGIN:DAYLIGHT
TZOFFSETFROM:-0500
TZOFFSETTO:-0400
TZNAME:EDT
DTSTART:20260308T070000
END:DAYLIGHT
BEGIN:STANDARD
TZOFFSETFROM:-0400
TZOFFSETTO:-0500
TZNAME:EST
DTSTART:20261101T060000
END:STANDARD
END:VTIMEZONE
BEGIN:VEVENT
DTSTART;TZID=America/Detroit:20250108T123000
DTEND;TZID=America/Detroit:20250122T133000
DTSTAMP:20260423T052037
CREATED:20241211T211547Z
LAST-MODIFIED:20250610T185940Z
UID:10004286-1736339400-1737552600@broad.msu.edu
SUMMARY:Broad Executive MBA: Live Drop-in Q&A
DESCRIPTION:  \n \nJoin us for a live Q&A via Zoom with a member of our admissions team. Drop-in any time during the hour to learn more about the Executive MBA program or the application process.
URL:https://broad.msu.edu/event/broad-executive-mba-live-drop-in-qa-3/2025-01-08/
LOCATION:Virtual
CATEGORIES:Admissions Events,Executive MBA
END:VEVENT
BEGIN:VEVENT
DTSTART;TZID=America/Detroit:20250115T103000
DTEND;TZID=America/Detroit:20250115T113000
DTSTAMP:20260423T052037
CREATED:20241216T145757Z
LAST-MODIFIED:20241216T145757Z
UID:10004318-1736937000-1736940600@broad.msu.edu
SUMMARY:Breaking Into Consulting: Leverage Your MBA with Proven Strategies
DESCRIPTION:Join Michigan State University’s Adam Merrill\, a seasoned talent strategist with over a decade of experience at Deloitte and Amazon\, to learn about leveraging your MBA for a career in consulting. As the Sr. Associate Director of the Russell Palmer Career Management team at Broad College\, Adam is dedicated to helping students achieve their professional goals.
URL:https://broad.msu.edu/event/breaking-into-consulting-leverage-your-mba-with-proven-strategies/
LOCATION:Online
CATEGORIES:Full-Time MBA
ORGANIZER;CN="MBA Admissions":MAILTO:mba@msu.edu
END:VEVENT
BEGIN:VEVENT
DTSTART;TZID=America/Detroit:20250115T123000
DTEND;TZID=America/Detroit:20250129T133000
DTSTAMP:20260423T052037
CREATED:20241211T211547Z
LAST-MODIFIED:20250610T185940Z
UID:10004287-1736944200-1738157400@broad.msu.edu
SUMMARY:Broad Executive MBA: Live Drop-in Q&A
DESCRIPTION:  \n \nJoin us for a live Q&A via Zoom with a member of our admissions team. Drop-in any time during the hour to learn more about the Executive MBA program or the application process.
URL:https://broad.msu.edu/event/broad-executive-mba-live-drop-in-qa-3/2025-01-15/
LOCATION:Virtual
CATEGORIES:Admissions Events,Executive MBA
END:VEVENT
BEGIN:VEVENT
DTSTART;TZID=America/Detroit:20250115T170000
DTEND;TZID=America/Detroit:20250115T173000
DTSTAMP:20260423T052037
CREATED:20241220T212419Z
LAST-MODIFIED:20241220T212419Z
UID:10004323-1736960400-1736962200@broad.msu.edu
SUMMARY:MS Accounting & Data Analytics Information Session
DESCRIPTION:Join us to learn more about MSU’s Master of Science in Accounting & Data Analytics program!
URL:https://broad.msu.edu/event/ms-accounting-data-analytics-information-session-38/
LOCATION:Online
CATEGORIES:M.S. in Accounting and Data Analytics
END:VEVENT
END:VCALENDAR