BEGIN:VCALENDAR
VERSION:2.0
PRODID:-//Eli Broad College of Business | Michigan State University - ECPv6.15.17.1//NONSGML v1.0//EN
CALSCALE:GREGORIAN
METHOD:PUBLISH
X-WR-CALNAME:Eli Broad College of Business | Michigan State University
X-ORIGINAL-URL:https://broad.msu.edu
X-WR-CALDESC:Events for Eli Broad College of Business | Michigan State University
REFRESH-INTERVAL;VALUE=DURATION:PT1H
X-Robots-Tag:noindex
X-PUBLISHED-TTL:PT1H
BEGIN:VTIMEZONE
TZID:America/Detroit
BEGIN:DAYLIGHT
TZOFFSETFROM:-0500
TZOFFSETTO:-0400
TZNAME:EDT
DTSTART:20240310T070000
END:DAYLIGHT
BEGIN:STANDARD
TZOFFSETFROM:-0400
TZOFFSETTO:-0500
TZNAME:EST
DTSTART:20241103T060000
END:STANDARD
BEGIN:DAYLIGHT
TZOFFSETFROM:-0500
TZOFFSETTO:-0400
TZNAME:EDT
DTSTART:20250309T070000
END:DAYLIGHT
BEGIN:STANDARD
TZOFFSETFROM:-0400
TZOFFSETTO:-0500
TZNAME:EST
DTSTART:20251102T060000
END:STANDARD
BEGIN:DAYLIGHT
TZOFFSETFROM:-0500
TZOFFSETTO:-0400
TZNAME:EDT
DTSTART:20260308T070000
END:DAYLIGHT
BEGIN:STANDARD
TZOFFSETFROM:-0400
TZOFFSETTO:-0500
TZNAME:EST
DTSTART:20261101T060000
END:STANDARD
END:VTIMEZONE
BEGIN:VEVENT
DTSTART;TZID=America/Detroit:20250205T123000
DTEND;TZID=America/Detroit:20250219T133000
DTSTAMP:20260423T025927
CREATED:20241211T211547Z
LAST-MODIFIED:20250610T185940Z
UID:10004290-1738758600-1739971800@broad.msu.edu
SUMMARY:Broad Executive MBA: Live Drop-in Q&A
DESCRIPTION:  \n \nJoin us for a live Q&A via Zoom with a member of our admissions team. Drop-in any time during the hour to learn more about the Executive MBA program or the application process.
URL:https://broad.msu.edu/event/broad-executive-mba-live-drop-in-qa-3/2025-02-05/
LOCATION:Virtual
CATEGORIES:Admissions Events,Executive MBA
END:VEVENT
BEGIN:VEVENT
DTSTART;TZID=America/Detroit:20250212T123000
DTEND;TZID=America/Detroit:20250226T133000
DTSTAMP:20260423T025927
CREATED:20241211T211547Z
LAST-MODIFIED:20250610T185940Z
UID:10004291-1739363400-1740576600@broad.msu.edu
SUMMARY:Broad Executive MBA: Live Drop-in Q&A
DESCRIPTION:  \n \nJoin us for a live Q&A via Zoom with a member of our admissions team. Drop-in any time during the hour to learn more about the Executive MBA program or the application process.
URL:https://broad.msu.edu/event/broad-executive-mba-live-drop-in-qa-3/2025-02-12/
LOCATION:Virtual
CATEGORIES:Admissions Events,Executive MBA
END:VEVENT
BEGIN:VEVENT
DTSTART;TZID=America/Detroit:20250214T100000
DTEND;TZID=America/Detroit:20250214T130000
DTSTAMP:20260423T025927
CREATED:20241120T212007Z
LAST-MODIFIED:20241217T215221Z
UID:10004261-1739527200-1739538000@broad.msu.edu
SUMMARY:MSU Virtual Marketing Research and Business Data Science & Analytics Career Fair
DESCRIPTION:This complimentary\, exclusive virtual career fair will take place on Handshake on Friday\, February 14 from 10:00am-1:00pm ET and is open to all MSU MS Marketing Research & Analytics and MS Business Data Science & Analytics students seeking internship and full-time opportunities.
URL:https://broad.msu.edu/event/msu-virtual-marketing-research-and-business-data-science-analytics-career-fair-4/
LOCATION:Online
CATEGORIES:Career Management,Palmer Center Recruiting,Recruiting Events
ORGANIZER;CN="Taylor Bates":MAILTO:taybates@msu.edu
END:VEVENT
BEGIN:VEVENT
DTSTART;TZID=America/Detroit:20250214T113000
DTEND;TZID=America/Detroit:20250214T123000
DTSTAMP:20260423T025927
CREATED:20250124T142334Z
LAST-MODIFIED:20250124T170544Z
UID:10004376-1739532600-1739536200@broad.msu.edu
SUMMARY:Broad Care Center Grand Opening
DESCRIPTION:Join us for the grand opening of the Broad Care Center! This free resource is here to support all students\, faculty\, and staff of the Eli Broad College of Business. We provide quick snacks\, menstrual products\, hygiene items\, and household essentials to help reduce stress\, boost success\, and build a stronger\, healthier community. We can’t wait to celebrate with you and show how we’re here to help you thrive! \nFor more information visit us at: https://broad.msu.edu/undergraduate/opportunities/care-center/
URL:https://broad.msu.edu/event/broad-care-center-grand-opening/
LOCATION:Eppley Center\, 667 N Shaw Ln\, East Lansing\, MI\, 48824\, United States
CATEGORIES:Featured Events,Undergraduate Student Engagement
ORGANIZER;CN="Jessica Gray":MAILTO:grayjes2@broad.msu.edu
END:VEVENT
BEGIN:VEVENT
DTSTART;TZID=America/Detroit:20250214T140000
DTEND;TZID=America/Detroit:20250214T150000
DTSTAMP:20260423T025927
CREATED:20250123T172320Z
LAST-MODIFIED:20250123T172320Z
UID:10004369-1739541600-1739545200@broad.msu.edu
SUMMARY:Your MBA Questions Answered: Student Sessions
DESCRIPTION:This drop-in hour offers the opportunity to connect directly with a current MBA student\, learn about their experiences\, and have your questions answered. Open to all prospective and admitted candidates.
URL:https://broad.msu.edu/event/your-mba-questions-answered-student-sessions-3/
LOCATION:Online
CATEGORIES:Admissions Events,Full-Time MBA
ORGANIZER;CN="MBA Admissions":MAILTO:mba@msu.edu
END:VEVENT
END:VCALENDAR