BEGIN:VCALENDAR
VERSION:2.0
PRODID:-//Eli Broad College of Business | Michigan State University - ECPv6.15.17.1//NONSGML v1.0//EN
CALSCALE:GREGORIAN
METHOD:PUBLISH
X-ORIGINAL-URL:https://broad.msu.edu
X-WR-CALDESC:Events for Eli Broad College of Business | Michigan State University
REFRESH-INTERVAL;VALUE=DURATION:PT1H
X-Robots-Tag:noindex
X-PUBLISHED-TTL:PT1H
BEGIN:VTIMEZONE
TZID:America/Detroit
BEGIN:DAYLIGHT
TZOFFSETFROM:-0500
TZOFFSETTO:-0400
TZNAME:EDT
DTSTART:20240310T070000
END:DAYLIGHT
BEGIN:STANDARD
TZOFFSETFROM:-0400
TZOFFSETTO:-0500
TZNAME:EST
DTSTART:20241103T060000
END:STANDARD
BEGIN:DAYLIGHT
TZOFFSETFROM:-0500
TZOFFSETTO:-0400
TZNAME:EDT
DTSTART:20250309T070000
END:DAYLIGHT
BEGIN:STANDARD
TZOFFSETFROM:-0400
TZOFFSETTO:-0500
TZNAME:EST
DTSTART:20251102T060000
END:STANDARD
BEGIN:DAYLIGHT
TZOFFSETFROM:-0500
TZOFFSETTO:-0400
TZNAME:EDT
DTSTART:20260308T070000
END:DAYLIGHT
BEGIN:STANDARD
TZOFFSETFROM:-0400
TZOFFSETTO:-0500
TZNAME:EST
DTSTART:20261101T060000
END:STANDARD
END:VTIMEZONE
BEGIN:VEVENT
DTSTART;TZID=America/Detroit:20250205T123000
DTEND;TZID=America/Detroit:20250219T133000
DTSTAMP:20260423T004426
CREATED:20241211T211547Z
LAST-MODIFIED:20250610T185940Z
UID:10004290-1738758600-1739971800@broad.msu.edu
SUMMARY:Broad Executive MBA: Live Drop-in Q&A
DESCRIPTION:  \n \nJoin us for a live Q&A via Zoom with a member of our admissions team. Drop-in any time during the hour to learn more about the Executive MBA program or the application process.
URL:https://broad.msu.edu/event/broad-executive-mba-live-drop-in-qa-3/2025-02-05/
LOCATION:Virtual
CATEGORIES:Admissions Events,Executive MBA
END:VEVENT
BEGIN:VEVENT
DTSTART;TZID=America/Detroit:20250212T123000
DTEND;TZID=America/Detroit:20250226T133000
DTSTAMP:20260423T004426
CREATED:20241211T211547Z
LAST-MODIFIED:20250610T185940Z
UID:10004291-1739363400-1740576600@broad.msu.edu
SUMMARY:Broad Executive MBA: Live Drop-in Q&A
DESCRIPTION:  \n \nJoin us for a live Q&A via Zoom with a member of our admissions team. Drop-in any time during the hour to learn more about the Executive MBA program or the application process.
URL:https://broad.msu.edu/event/broad-executive-mba-live-drop-in-qa-3/2025-02-12/
LOCATION:Virtual
CATEGORIES:Admissions Events,Executive MBA
END:VEVENT
BEGIN:VEVENT
DTSTART;TZID=America/Detroit:20250219T113000
DTEND;TZID=America/Detroit:20250219T123000
DTSTAMP:20260423T004426
CREATED:20250103T185533Z
LAST-MODIFIED:20250103T185841Z
UID:10004333-1739964600-1739968200@broad.msu.edu
SUMMARY:Lunch and Learn\, Exploring Global Ethics
DESCRIPTION:Join us to learn from Diana Mejia\, the CEO and founder of Entirety LLC\, a leading global market access consultancy organization and how to approach making business decisions with global ethical considerations. Diana is Spartan Alum and has grown Entirety LLC from a one-person operation into a global leader with over 40 team members across 16 countries. Register to lock in your FREE lunch and join us on February 19th from 11:30am-12:30pm today!
URL:https://broad.msu.edu/event/lunch-and-learn-exploring-global-ethics/
LOCATION:Eli Broad College of Business\, 632 Bogue St n520\, East Lansing\, MI\, 48824\, United States
CATEGORIES:Ethics & Social Responsibility
ORGANIZER;CN="Beth Hammond":MAILTO:hammon25@msu.edu
END:VEVENT
BEGIN:VEVENT
DTSTART;TZID=America/Detroit:20250219T120000
DTEND;TZID=America/Detroit:20250219T143000
DTSTAMP:20260423T004426
CREATED:20241220T212854Z
LAST-MODIFIED:20241220T212854Z
UID:10004326-1739966400-1739975400@broad.msu.edu
SUMMARY:MS Accounting & Data Analytics Information Session
DESCRIPTION:Join us to learn more about MSU’s Master of Science in Accounting & Data Analytics program!
URL:https://broad.msu.edu/event/ms-accounting-data-analytics-information-session-41/
LOCATION:Online
CATEGORIES:M.S. in Accounting and Data Analytics
END:VEVENT
BEGIN:VEVENT
DTSTART;TZID=America/Detroit:20250219T140000
DTEND;TZID=America/Detroit:20250219T143000
DTSTAMP:20260423T004426
CREATED:20241115T161448Z
LAST-MODIFIED:20241115T161448Z
UID:10004255-1739973600-1739975400@broad.msu.edu
SUMMARY:MSMRA Virtual Information Session
DESCRIPTION:Join us to learn more about MSU’s MSMRA Program!
URL:https://broad.msu.edu/event/msmra-virtual-information-session-19/
LOCATION:MI
CATEGORIES:M.S. in Marketing Research
END:VEVENT
BEGIN:VEVENT
DTSTART;TZID=America/Detroit:20250219T171500
DTEND;TZID=America/Detroit:20250219T181500
DTSTAMP:20260423T004426
CREATED:20250103T185747Z
LAST-MODIFIED:20250129T182338Z
UID:10004334-1739985300-1739988900@broad.msu.edu
SUMMARY:The Warrington Lecture featuring Kara Goucher
DESCRIPTION:Join us for the Sylvan T. Warrington Visiting Lectureship in Ethics and Leadership featuring 2-time Olympian\, New York Times best-selling author\, and whistle blower Kara Goucher. She was a pivotal witness against an abusive coach\, who was issued a lifetime ban from coaching after her testimony. Come and hear her story\, learn from her courage\, and how she turned her experience into action by fighting for clean and safe sports for American athletes today! Register to join us on Wednesday\, February 19th from 5:15-6:15pm today!
URL:https://broad.msu.edu/event/the-warrington-lecture-featuring-kara-goucher/
LOCATION:Eli Broad College of Business\, 632 Bogue St n520\, East Lansing\, MI\, 48824\, United States
CATEGORIES:Ethics & Social Responsibility,Featured Events
ORGANIZER;CN="Beth Hammond":MAILTO:hammon25@msu.edu
END:VEVENT
END:VCALENDAR