BEGIN:VCALENDAR
VERSION:2.0
PRODID:-//Eli Broad College of Business | Michigan State University - ECPv6.15.17.1//NONSGML v1.0//EN
CALSCALE:GREGORIAN
METHOD:PUBLISH
X-ORIGINAL-URL:https://broad.msu.edu
X-WR-CALDESC:Events for Eli Broad College of Business | Michigan State University
REFRESH-INTERVAL;VALUE=DURATION:PT1H
X-Robots-Tag:noindex
X-PUBLISHED-TTL:PT1H
BEGIN:VTIMEZONE
TZID:America/Detroit
BEGIN:DAYLIGHT
TZOFFSETFROM:-0500
TZOFFSETTO:-0400
TZNAME:EDT
DTSTART:20240310T070000
END:DAYLIGHT
BEGIN:STANDARD
TZOFFSETFROM:-0400
TZOFFSETTO:-0500
TZNAME:EST
DTSTART:20241103T060000
END:STANDARD
BEGIN:DAYLIGHT
TZOFFSETFROM:-0500
TZOFFSETTO:-0400
TZNAME:EDT
DTSTART:20250309T070000
END:DAYLIGHT
BEGIN:STANDARD
TZOFFSETFROM:-0400
TZOFFSETTO:-0500
TZNAME:EST
DTSTART:20251102T060000
END:STANDARD
BEGIN:DAYLIGHT
TZOFFSETFROM:-0500
TZOFFSETTO:-0400
TZNAME:EDT
DTSTART:20260308T070000
END:DAYLIGHT
BEGIN:STANDARD
TZOFFSETFROM:-0400
TZOFFSETTO:-0500
TZNAME:EST
DTSTART:20261101T060000
END:STANDARD
END:VTIMEZONE
BEGIN:VEVENT
DTSTART;TZID=America/Detroit:20250902T180000
DTEND;TZID=America/Detroit:20250902T203000
DTSTAMP:20260423T041221
CREATED:20191122T202533Z
LAST-MODIFIED:20250902T234725Z
UID:10003037-1756836000-1756845000@broad.msu.edu
SUMMARY:Hospitality Business: New Student Orientation & HA Open House
DESCRIPTION:This event is open to all hospitality business students — especially our newly admitted students! \nIf you are interested in joining a club or event\, please attend. Every club and event will be represented. It’s a great opportunity to learn about each club\, what they offer\, and how to volunteer. Hospitality Association (HA) is the parent organization for nine clubs and three student-run events. \nClubs: \n\nBusiness Golf\nClub Management Association of America (CMAA)\nEta Sigma Delta (ESD)\nHospitality and Lodging Club (HLC)\nMeeting and Events Club (MEC)\nNational Society of Minorities in Hospitality (NSMH)\nReal Estate Investment Club (REIC)\nSociety for Hospitality and Foodservice Management (SHFM)\nSpartan Beverage Society (SBS)\n\nEvents: \n\nDestination Auction\nLes Gourmets\nCAREER EXPO\n\nPlease join us! Questions? Please contact SIRC at 517-353-9747 or email to shbsirc@msu.edu
URL:https://broad.msu.edu/event/hospitality-business-ha-open-house-and-new-student-orientation/
LOCATION:Minskoff Pavilion\, 651 N Shaw Ln\, East Lansing\, MI\, 48824\, United States
CATEGORIES:Hospitality Business,Undergraduate Events
ORGANIZER;CN="SIRC":MAILTO:shbsirc@msu.edu
END:VEVENT
END:VCALENDAR