BEGIN:VCALENDAR
VERSION:2.0
PRODID:-//Eli Broad College of Business | Michigan State University - ECPv6.15.17.1//NONSGML v1.0//EN
CALSCALE:GREGORIAN
METHOD:PUBLISH
X-ORIGINAL-URL:https://broad.msu.edu
X-WR-CALDESC:Events for Eli Broad College of Business | Michigan State University
REFRESH-INTERVAL;VALUE=DURATION:PT1H
X-Robots-Tag:noindex
X-PUBLISHED-TTL:PT1H
BEGIN:VTIMEZONE
TZID:America/Detroit
BEGIN:DAYLIGHT
TZOFFSETFROM:-0500
TZOFFSETTO:-0400
TZNAME:EDT
DTSTART:20240310T070000
END:DAYLIGHT
BEGIN:STANDARD
TZOFFSETFROM:-0400
TZOFFSETTO:-0500
TZNAME:EST
DTSTART:20241103T060000
END:STANDARD
BEGIN:DAYLIGHT
TZOFFSETFROM:-0500
TZOFFSETTO:-0400
TZNAME:EDT
DTSTART:20250309T070000
END:DAYLIGHT
BEGIN:STANDARD
TZOFFSETFROM:-0400
TZOFFSETTO:-0500
TZNAME:EST
DTSTART:20251102T060000
END:STANDARD
BEGIN:DAYLIGHT
TZOFFSETFROM:-0500
TZOFFSETTO:-0400
TZNAME:EDT
DTSTART:20260308T070000
END:DAYLIGHT
BEGIN:STANDARD
TZOFFSETFROM:-0400
TZOFFSETTO:-0500
TZNAME:EST
DTSTART:20261101T060000
END:STANDARD
END:VTIMEZONE
BEGIN:VEVENT
DTSTART;TZID=America/Detroit:20250908T114500
DTEND;TZID=America/Detroit:20250908T124500
DTSTAMP:20260422T173134
CREATED:20250602T191623Z
LAST-MODIFIED:20250902T233158Z
UID:10004413-1757331900-1757335500@broad.msu.edu
SUMMARY:Brown Bag Research Lunch
DESCRIPTION:Join us for our first Brown Bag Research Lunch where we’ll hear from two of our own faculty members about their exciting research projects! Dr. Suman Basuroy and Dr. Janhavi Venkatsh will share insights into advances within ethical and socially responsible research by examining racial disparities in business recovery among peer-to-peer service providers during COVID-19. They investigate whether COVID-19 vaccines led to consistent economic recovery across racial groups\, given lower vaccination rates among Black communities. The findings aim to inform inclusive policies that promote equity and ethical business practices in the post-pandemic economy. \nThis is a fantastic opportunity to discover the innovative studies happening right here on campus\, ask questions\, and connect with colleagues. Lunch will be provided. Register to join us on Monday\, September 8th from 11:45-12:45pm!
URL:https://broad.msu.edu/event/brown-bag-research-lunch/
LOCATION:Eppley Center\, 667 N Shaw Ln\, East Lansing\, MI\, 48824\, United States
CATEGORIES:Ethics & Social Responsibility
ORGANIZER;CN="Beth Hammond":MAILTO:hammon25@msu.edu
END:VEVENT
END:VCALENDAR