BEGIN:VCALENDAR
VERSION:2.0
PRODID:-//Eli Broad College of Business | Michigan State University - ECPv6.15.17.1//NONSGML v1.0//EN
CALSCALE:GREGORIAN
METHOD:PUBLISH
X-ORIGINAL-URL:https://broad.msu.edu
X-WR-CALDESC:Events for Eli Broad College of Business | Michigan State University
REFRESH-INTERVAL;VALUE=DURATION:PT1H
X-Robots-Tag:noindex
X-PUBLISHED-TTL:PT1H
BEGIN:VTIMEZONE
TZID:America/Detroit
BEGIN:DAYLIGHT
TZOFFSETFROM:-0500
TZOFFSETTO:-0400
TZNAME:EDT
DTSTART:20240310T070000
END:DAYLIGHT
BEGIN:STANDARD
TZOFFSETFROM:-0400
TZOFFSETTO:-0500
TZNAME:EST
DTSTART:20241103T060000
END:STANDARD
BEGIN:DAYLIGHT
TZOFFSETFROM:-0500
TZOFFSETTO:-0400
TZNAME:EDT
DTSTART:20250309T070000
END:DAYLIGHT
BEGIN:STANDARD
TZOFFSETFROM:-0400
TZOFFSETTO:-0500
TZNAME:EST
DTSTART:20251102T060000
END:STANDARD
BEGIN:DAYLIGHT
TZOFFSETFROM:-0500
TZOFFSETTO:-0400
TZNAME:EDT
DTSTART:20260308T070000
END:DAYLIGHT
BEGIN:STANDARD
TZOFFSETFROM:-0400
TZOFFSETTO:-0500
TZNAME:EST
DTSTART:20261101T060000
END:STANDARD
END:VTIMEZONE
BEGIN:VTIMEZONE
TZID:America/Phoenix
BEGIN:STANDARD
TZOFFSETFROM:-0700
TZOFFSETTO:-0700
TZNAME:MST
DTSTART:20240101T000000
END:STANDARD
END:VTIMEZONE
BEGIN:VEVENT
DTSTART;TZID=America/Detroit:20250915T123000
DTEND;TZID=America/Detroit:20250915T130000
DTSTAMP:20260422T180653
CREATED:20250829T201408Z
LAST-MODIFIED:20250908T205747Z
UID:10004476-1757939400-1757941200@broad.msu.edu
SUMMARY:MS Accounting & Data Analytics Information Session - 9/15/25
DESCRIPTION:Join us to learn more about MSU’s Master of Science in Accounting & Data Analytics program!
URL:https://broad.msu.edu/event/ms-accounting-data-analytics-information-session-46/
LOCATION:Online
CATEGORIES:M.S. in Accounting and Data Analytics
END:VEVENT
BEGIN:VEVENT
DTSTART;TZID=America/Phoenix:20250915T170000
DTEND;TZID=America/Phoenix:20250915T210000
DTSTAMP:20260422T180653
CREATED:20250811T170937Z
LAST-MODIFIED:20250811T170937Z
UID:10004455-1757955600-1757970000@broad.msu.edu
SUMMARY:Access MBA Phoenix
DESCRIPTION:Meet with the Michigan State Broad MBA Senior Associate Director of Admissions at the Access MBA Phoenix event on Monday\, September 15th. \nMeet with us to learn more about the Broad MBA\, discuss your MBA goals\, hear about the admissions process and learn about our new full-ride scholarship opportunities!
URL:https://broad.msu.edu/event/access-mba-phoenix/
LOCATION:MI
CATEGORIES:Admissions Events,Full-Time MBA
ORGANIZER;CN="MBA Admissions":MAILTO:mba@msu.edu
END:VEVENT
END:VCALENDAR