BEGIN:VCALENDAR
VERSION:2.0
PRODID:-//Eli Broad College of Business | Michigan State University - ECPv6.15.17.1//NONSGML v1.0//EN
CALSCALE:GREGORIAN
METHOD:PUBLISH
X-WR-CALNAME:Eli Broad College of Business | Michigan State University
X-ORIGINAL-URL:https://broad.msu.edu
X-WR-CALDESC:Events for Eli Broad College of Business | Michigan State University
REFRESH-INTERVAL;VALUE=DURATION:PT1H
X-Robots-Tag:noindex
X-PUBLISHED-TTL:PT1H
BEGIN:VTIMEZONE
TZID:America/Detroit
BEGIN:DAYLIGHT
TZOFFSETFROM:-0500
TZOFFSETTO:-0400
TZNAME:EDT
DTSTART:20240310T070000
END:DAYLIGHT
BEGIN:STANDARD
TZOFFSETFROM:-0400
TZOFFSETTO:-0500
TZNAME:EST
DTSTART:20241103T060000
END:STANDARD
BEGIN:DAYLIGHT
TZOFFSETFROM:-0500
TZOFFSETTO:-0400
TZNAME:EDT
DTSTART:20250309T070000
END:DAYLIGHT
BEGIN:STANDARD
TZOFFSETFROM:-0400
TZOFFSETTO:-0500
TZNAME:EST
DTSTART:20251102T060000
END:STANDARD
BEGIN:DAYLIGHT
TZOFFSETFROM:-0500
TZOFFSETTO:-0400
TZNAME:EDT
DTSTART:20260308T070000
END:DAYLIGHT
BEGIN:STANDARD
TZOFFSETFROM:-0400
TZOFFSETTO:-0500
TZNAME:EST
DTSTART:20261101T060000
END:STANDARD
END:VTIMEZONE
BEGIN:VEVENT
DTSTART;VALUE=DATE:20250922
DTEND;VALUE=DATE:20250927
DTSTAMP:20260423T233544
CREATED:20240617T164458Z
LAST-MODIFIED:20250902T234450Z
UID:10004108-1758499200-1758931199@broad.msu.edu
SUMMARY:Hospitality Business: Club Management Association of America BMI GM/COO
DESCRIPTION:To attend this five day educational conference\, please contact Club Management Association of America directly. Registration is required.
URL:https://broad.msu.edu/event/hospitality-business-club-management-association-of-america-bmi-gm-coo-5/
LOCATION:Kellogg Hotel & Conference Center\, 219 S Harrison Rd\, East Lansing\, MI\, 48824\, United States
CATEGORIES:Hospitality Business
ORGANIZER;CN="Lena Loeffler":MAILTO:loeffler@broad.msu.edu
END:VEVENT
BEGIN:VEVENT
DTSTART;TZID=America/Detroit:20250923T170000
DTEND;TZID=America/Detroit:20250923T210000
DTSTAMP:20260423T233544
CREATED:20250811T171759Z
LAST-MODIFIED:20250920T214837Z
UID:10004458-1758646800-1758661200@broad.msu.edu
SUMMARY:Access MBA Philadelphia
DESCRIPTION:Meet with the Michigan State Broad MBA Senior Associate Director of Admissions at the Access MBA Philadelphia event on Tuesday\, September 23rd. \nMeet with us to learn more about the Broad MBA\, discuss your MBA goals\, hear about the admissions process and learn about our new full-ride scholarship opportunities!
URL:https://broad.msu.edu/event/access-mba-philadelphia-2/
LOCATION:W Philadelphia\, 1439 Chestnut Street\, Philadelphia\, PA\, 19102\, United States
CATEGORIES:Admissions Events,Full-Time MBA
ORGANIZER;CN="MBA Admissions":MAILTO:mba@msu.edu
END:VEVENT
BEGIN:VEVENT
DTSTART;TZID=America/Detroit:20250923T173000
DTEND;TZID=America/Detroit:20250923T180000
DTSTAMP:20260423T233544
CREATED:20250905T175551Z
LAST-MODIFIED:20250912T135021Z
UID:10004492-1758648600-1758650400@broad.msu.edu
SUMMARY:South Africa Study Abroad Info Session
DESCRIPTION:Interested in a once-in-a-lifetime experience? Do you have a sense of adventure\, urge to explore\, and enjoy experiencing new cultures? Then you might be interested in a study abroad! \nCome learn about the Broad study abroad to Cape Town\, South Africa\, planned for Spring Break 2026. We will talk details\, costs\, and logistics\, and answer any questions that you may have. \nInterested but can’t make it? Contact Program Director Joe Courtade Moon (jcmoon@msu.edu) or visit the program website for more details: https://msueducationabroad.via-trm.com/program_brochure/12092
URL:https://broad.msu.edu/event/south-africa-study-abroad-info-session/
LOCATION:1st floor of the Business College Complex\, 632 Bogue St\, East Lansing\, MI\, 48824\, United States
ORGANIZER;CN="Joe Courtade Moon":MAILTO:jcmoon@msu.edu
END:VEVENT
END:VCALENDAR