BEGIN:VCALENDAR
VERSION:2.0
PRODID:-//Eli Broad College of Business | Michigan State University - ECPv6.15.17.1//NONSGML v1.0//EN
CALSCALE:GREGORIAN
METHOD:PUBLISH
X-WR-CALNAME:Eli Broad College of Business | Michigan State University
X-ORIGINAL-URL:https://broad.msu.edu
X-WR-CALDESC:Events for Eli Broad College of Business | Michigan State University
REFRESH-INTERVAL;VALUE=DURATION:PT1H
X-Robots-Tag:noindex
X-PUBLISHED-TTL:PT1H
BEGIN:VTIMEZONE
TZID:America/Detroit
BEGIN:DAYLIGHT
TZOFFSETFROM:-0500
TZOFFSETTO:-0400
TZNAME:EDT
DTSTART:20240310T070000
END:DAYLIGHT
BEGIN:STANDARD
TZOFFSETFROM:-0400
TZOFFSETTO:-0500
TZNAME:EST
DTSTART:20241103T060000
END:STANDARD
BEGIN:DAYLIGHT
TZOFFSETFROM:-0500
TZOFFSETTO:-0400
TZNAME:EDT
DTSTART:20250309T070000
END:DAYLIGHT
BEGIN:STANDARD
TZOFFSETFROM:-0400
TZOFFSETTO:-0500
TZNAME:EST
DTSTART:20251102T060000
END:STANDARD
BEGIN:DAYLIGHT
TZOFFSETFROM:-0500
TZOFFSETTO:-0400
TZNAME:EDT
DTSTART:20260308T070000
END:DAYLIGHT
BEGIN:STANDARD
TZOFFSETFROM:-0400
TZOFFSETTO:-0500
TZNAME:EST
DTSTART:20261101T060000
END:STANDARD
END:VTIMEZONE
BEGIN:VEVENT
DTSTART;TZID=America/Detroit:20251029T120000
DTEND;TZID=America/Detroit:20251029T123000
DTSTAMP:20260421T015214
CREATED:20251021T134553Z
LAST-MODIFIED:20251027T184447Z
UID:10004529-1761739200-1761741000@broad.msu.edu
SUMMARY:South Africa Study Abroad Info Sessions
DESCRIPTION:Zoom Info Session \nInterested in a unique\, life-changing international experience? Get off the beaten path and visit Cape Town\, South Africa! This program will allow you to interact with South African business and culture\, as well as enjoy natural wonders like Table Mountain National Park\, Boulder’s Beach Penguin Colony\, a local vineyard\, and an African safari. \nApply through the MSU ViaTRM portal. If you have questions or would like to hear more\, contact Joe Courtade Moon (jcmoon@msu.edu)\, or schedule a meeting via Calendly.
URL:https://broad.msu.edu/event/south-africa-study-abroad-info-sessions/2025-10-29/
CATEGORIES:Education Abroad
ORGANIZER;CN="Joe Courtade Moon":MAILTO:jcmoon@msu.edu
END:VEVENT
END:VCALENDAR