BEGIN:VCALENDAR
VERSION:2.0
PRODID:-//Eli Broad College of Business | Michigan State University - ECPv6.15.17.1//NONSGML v1.0//EN
CALSCALE:GREGORIAN
METHOD:PUBLISH
X-ORIGINAL-URL:https://broad.msu.edu
X-WR-CALDESC:Events for Eli Broad College of Business | Michigan State University
REFRESH-INTERVAL;VALUE=DURATION:PT1H
X-Robots-Tag:noindex
X-PUBLISHED-TTL:PT1H
BEGIN:VTIMEZONE
TZID:America/Detroit
BEGIN:DAYLIGHT
TZOFFSETFROM:-0500
TZOFFSETTO:-0400
TZNAME:EDT
DTSTART:20240310T070000
END:DAYLIGHT
BEGIN:STANDARD
TZOFFSETFROM:-0400
TZOFFSETTO:-0500
TZNAME:EST
DTSTART:20241103T060000
END:STANDARD
BEGIN:DAYLIGHT
TZOFFSETFROM:-0500
TZOFFSETTO:-0400
TZNAME:EDT
DTSTART:20250309T070000
END:DAYLIGHT
BEGIN:STANDARD
TZOFFSETFROM:-0400
TZOFFSETTO:-0500
TZNAME:EST
DTSTART:20251102T060000
END:STANDARD
BEGIN:DAYLIGHT
TZOFFSETFROM:-0500
TZOFFSETTO:-0400
TZNAME:EDT
DTSTART:20260308T070000
END:DAYLIGHT
BEGIN:STANDARD
TZOFFSETFROM:-0400
TZOFFSETTO:-0500
TZNAME:EST
DTSTART:20261101T060000
END:STANDARD
END:VTIMEZONE
BEGIN:VEVENT
DTSTART;TZID=America/Detroit:20251204T114500
DTEND;TZID=America/Detroit:20251204T140000
DTSTAMP:20260422T021538
CREATED:20250609T145440Z
LAST-MODIFIED:20251008T143413Z
UID:10004431-1764848700-1764856800@broad.msu.edu
SUMMARY:Hospitality Business: December Graduation Celebration
DESCRIPTION:Join us in celebrating December Class of 2025. Celebrate your accomplishments by joining us in Room E440 – Eppley Center from 11:45 a.m. – 2 p.m. for a light luncheon and conversation. \nCommencement Ceremony is scheduled for Saturday\, December 13 at the Breslin Student Events Center. Please visit the University Commencement page for complete details. \n 
URL:https://broad.msu.edu/event/hospitality-business-december-2025-graduation-celebration/
LOCATION:The School of Hospitality Business\, 667 N. Shaw Lane\, East Lansing\, MI\, 48824\, United States
CATEGORIES:Featured Events,Hospitality Business
ORGANIZER;CN="Troy Walker":MAILTO:walke435@msu.edu
END:VEVENT
BEGIN:VEVENT
DTSTART;TZID=America/Detroit:20251204T120000
DTEND;TZID=America/Detroit:20251204T130000
DTSTAMP:20260422T021538
CREATED:20251007T183522Z
LAST-MODIFIED:20251027T183532Z
UID:10004502-1764849600-1764853200@broad.msu.edu
SUMMARY:The ROI of a Professional MBA
DESCRIPTION:Join the Broad College MBA Director of Admissions\, Kara Tripi\, to learn about the ROI associated with a Professional MBA degree. She will cover career outcomes\, boosts to skillsets\, promotions\, raises and more in this session.\nIf you’re considering the Michigan State Executive MBA or Professional Online MBA\, join us to learn more about the benefits of these programs!
URL:https://broad.msu.edu/event/the-roi-of-a-professional-mba/
LOCATION:Online
CATEGORIES:Admissions Events,Executive MBA,Professional Online MBA
ORGANIZER;CN="MBA Admissions":MAILTO:mba@msu.edu
END:VEVENT
END:VCALENDAR