BEGIN:VCALENDAR
VERSION:2.0
PRODID:-//Eli Broad College of Business | Michigan State University - ECPv6.15.17.1//NONSGML v1.0//EN
CALSCALE:GREGORIAN
METHOD:PUBLISH
X-WR-CALNAME:Eli Broad College of Business | Michigan State University
X-ORIGINAL-URL:https://broad.msu.edu
X-WR-CALDESC:Events for Eli Broad College of Business | Michigan State University
REFRESH-INTERVAL;VALUE=DURATION:PT1H
X-Robots-Tag:noindex
X-PUBLISHED-TTL:PT1H
BEGIN:VTIMEZONE
TZID:America/Detroit
BEGIN:DAYLIGHT
TZOFFSETFROM:-0500
TZOFFSETTO:-0400
TZNAME:EDT
DTSTART:20250309T070000
END:DAYLIGHT
BEGIN:STANDARD
TZOFFSETFROM:-0400
TZOFFSETTO:-0500
TZNAME:EST
DTSTART:20251102T060000
END:STANDARD
BEGIN:DAYLIGHT
TZOFFSETFROM:-0500
TZOFFSETTO:-0400
TZNAME:EDT
DTSTART:20260308T070000
END:DAYLIGHT
BEGIN:STANDARD
TZOFFSETFROM:-0400
TZOFFSETTO:-0500
TZNAME:EST
DTSTART:20261101T060000
END:STANDARD
BEGIN:DAYLIGHT
TZOFFSETFROM:-0500
TZOFFSETTO:-0400
TZNAME:EDT
DTSTART:20270314T070000
END:DAYLIGHT
BEGIN:STANDARD
TZOFFSETFROM:-0400
TZOFFSETTO:-0500
TZNAME:EST
DTSTART:20271107T060000
END:STANDARD
END:VTIMEZONE
BEGIN:VTIMEZONE
TZID:America/Chicago
BEGIN:DAYLIGHT
TZOFFSETFROM:-0600
TZOFFSETTO:-0500
TZNAME:CDT
DTSTART:20250309T080000
END:DAYLIGHT
BEGIN:STANDARD
TZOFFSETFROM:-0500
TZOFFSETTO:-0600
TZNAME:CST
DTSTART:20251102T070000
END:STANDARD
BEGIN:DAYLIGHT
TZOFFSETFROM:-0600
TZOFFSETTO:-0500
TZNAME:CDT
DTSTART:20260308T080000
END:DAYLIGHT
BEGIN:STANDARD
TZOFFSETFROM:-0500
TZOFFSETTO:-0600
TZNAME:CST
DTSTART:20261101T070000
END:STANDARD
BEGIN:DAYLIGHT
TZOFFSETFROM:-0600
TZOFFSETTO:-0500
TZNAME:CDT
DTSTART:20270314T080000
END:DAYLIGHT
BEGIN:STANDARD
TZOFFSETFROM:-0500
TZOFFSETTO:-0600
TZNAME:CST
DTSTART:20271107T070000
END:STANDARD
END:VTIMEZONE
BEGIN:VEVENT
DTSTART;TZID=America/Detroit:20260128T160000
DTEND;TZID=America/Detroit:20260128T180000
DTSTAMP:20260419T120144
CREATED:20251112T211115Z
LAST-MODIFIED:20251120T194637Z
UID:10004535-1769616000-1769623200@broad.msu.edu
SUMMARY:MSU Broad Business Corporate Networking Mixer - 1/28/2026
DESCRIPTION:We invite you to join the MSU Broad College of Business Russell Palmer Career Management Center for the MSU Broad Corporate Networking Mixer. This event will take place on Wednesday\, January 28 from 4:00pm-6:00pm ET in the Minskoff Pavilion Multi-Purpose Room. 
URL:https://broad.msu.edu/event/msu-broad-corporate-networking-mixer/
LOCATION:Minskoff Pavilion\, 651 N Shaw Ln\, East Lansing\, MI\, 48824\, United States
CATEGORIES:Career Management,Palmer Center Recruiting,Recruiting Events
ORGANIZER;CN="Taylor Bates":MAILTO:taybates@msu.edu
END:VEVENT
BEGIN:VEVENT
DTSTART;TZID=America/Chicago:20260128T163000
DTEND;TZID=America/Chicago:20260128T203000
DTSTAMP:20260419T120144
CREATED:20251201T174054Z
LAST-MODIFIED:20251201T174054Z
UID:10004567-1769617800-1769632200@broad.msu.edu
SUMMARY:Access MBA Austin
DESCRIPTION:Meet with the Michigan State Broad MBA Director of Admissions at the Access MBA Austin event on Wednesday\, January 28th. \nMeet with us to learn more about the Broad MBA options\, discuss your career goals\, hear about the admissions process and learn about our new scholarship opportunities!
URL:https://broad.msu.edu/event/access-mba-austin/
CATEGORIES:Admissions Events,Full-Time MBA
ORGANIZER;CN="MBA Admissions":MAILTO:mba@msu.edu
END:VEVENT
BEGIN:VEVENT
DTSTART;TZID=America/Detroit:20260128T180000
DTEND;TZID=America/Detroit:20260128T190000
DTSTAMP:20260419T120144
CREATED:20251121T173958Z
LAST-MODIFIED:20251121T173958Z
UID:10004541-1769623200-1769626800@broad.msu.edu
SUMMARY:Emerging Leaders: From Center Stage to Game Changer feat. Brittane Rowe
DESCRIPTION:The Innovate State Speaker Series brings emerging and accomplished Spartan entrepreneurs—innovators\, builders\, creators\, and visionaries—to campus for a live\, unscripted fireside chat. These 60-minute sessions offer the chance for guests to share their perspectives on a wide array of topics like innovation\, startup life\, investments\, and career paths. These are stories of success\, stories of failures\, and stories of uncommon will—and you do not want to miss them. \nJoin the Burgess Institute for Entrepreneurship & Innovation for Emerging Leaders: From Center Stage to Game Changer featuring Brittane Rowe\, Co-Founder and CEO\, Awkward Games at 6PM in the Entrepreneurship Lab (M025). Early registration is highly encouraged.
URL:https://broad.msu.edu/event/emerging-leaders-from-center-stage-to-game-changer-feat-brittane-rowe/
LOCATION:Entrepreneurship Lab\, 651 N Shaw Ln\, East Lansing\, MI\, 48824\, United States
ORGANIZER;CN="Burgess Institute for Entrepreneurship &amp%3B Innovation":MAILTO:eship@msu.edu
END:VEVENT
END:VCALENDAR