BEGIN:VCALENDAR
VERSION:2.0
PRODID:-//Eli Broad College of Business | Michigan State University - ECPv6.15.17.1//NONSGML v1.0//EN
CALSCALE:GREGORIAN
METHOD:PUBLISH
X-ORIGINAL-URL:https://broad.msu.edu
X-WR-CALDESC:Events for Eli Broad College of Business | Michigan State University
REFRESH-INTERVAL;VALUE=DURATION:PT1H
X-Robots-Tag:noindex
X-PUBLISHED-TTL:PT1H
BEGIN:VTIMEZONE
TZID:America/Detroit
BEGIN:DAYLIGHT
TZOFFSETFROM:-0500
TZOFFSETTO:-0400
TZNAME:EDT
DTSTART:20250309T070000
END:DAYLIGHT
BEGIN:STANDARD
TZOFFSETFROM:-0400
TZOFFSETTO:-0500
TZNAME:EST
DTSTART:20251102T060000
END:STANDARD
BEGIN:DAYLIGHT
TZOFFSETFROM:-0500
TZOFFSETTO:-0400
TZNAME:EDT
DTSTART:20260308T070000
END:DAYLIGHT
BEGIN:STANDARD
TZOFFSETFROM:-0400
TZOFFSETTO:-0500
TZNAME:EST
DTSTART:20261101T060000
END:STANDARD
BEGIN:DAYLIGHT
TZOFFSETFROM:-0500
TZOFFSETTO:-0400
TZNAME:EDT
DTSTART:20270314T070000
END:DAYLIGHT
BEGIN:STANDARD
TZOFFSETFROM:-0400
TZOFFSETTO:-0500
TZNAME:EST
DTSTART:20271107T060000
END:STANDARD
END:VTIMEZONE
BEGIN:VEVENT
DTSTART;VALUE=DATE:20260202
DTEND;VALUE=DATE:20260204
DTSTAMP:20260422T024043
CREATED:20240109T135831Z
LAST-MODIFIED:20251110T153516Z
UID:10003947-1769990400-1770163199@broad.msu.edu
SUMMARY:Hospitality Business: CAREER EXPO Spring Edition
DESCRIPTION:Save the Dates: Monday\, February 2 and Tuesday\, February 3. \nVisit: https://broad.msu.edu/hospitality-business/sirc/career-expo/ for more details. \n  \n  \n 
URL:https://broad.msu.edu/event/hospitality-business-career-expo-spring-edition-2/
LOCATION:Breslin Student Events Center\, 534 Birch Rd\, East Lansing\, MI\, 48824\, United States
CATEGORIES:Hospitality Business,Recruiting Events
ORGANIZER;CN="Troy Walker":MAILTO:walke435@msu.edu
END:VEVENT
END:VCALENDAR