BEGIN:VCALENDAR
VERSION:2.0
PRODID:-//Eli Broad College of Business | Michigan State University - ECPv6.15.17.1//NONSGML v1.0//EN
CALSCALE:GREGORIAN
METHOD:PUBLISH
X-ORIGINAL-URL:https://broad.msu.edu
X-WR-CALDESC:Events for Eli Broad College of Business | Michigan State University
REFRESH-INTERVAL;VALUE=DURATION:PT1H
X-Robots-Tag:noindex
X-PUBLISHED-TTL:PT1H
BEGIN:VTIMEZONE
TZID:America/Detroit
BEGIN:DAYLIGHT
TZOFFSETFROM:-0500
TZOFFSETTO:-0400
TZNAME:EDT
DTSTART:20250309T070000
END:DAYLIGHT
BEGIN:STANDARD
TZOFFSETFROM:-0400
TZOFFSETTO:-0500
TZNAME:EST
DTSTART:20251102T060000
END:STANDARD
BEGIN:DAYLIGHT
TZOFFSETFROM:-0500
TZOFFSETTO:-0400
TZNAME:EDT
DTSTART:20260308T070000
END:DAYLIGHT
BEGIN:STANDARD
TZOFFSETFROM:-0400
TZOFFSETTO:-0500
TZNAME:EST
DTSTART:20261101T060000
END:STANDARD
BEGIN:DAYLIGHT
TZOFFSETFROM:-0500
TZOFFSETTO:-0400
TZNAME:EDT
DTSTART:20270314T070000
END:DAYLIGHT
BEGIN:STANDARD
TZOFFSETFROM:-0400
TZOFFSETTO:-0500
TZNAME:EST
DTSTART:20271107T060000
END:STANDARD
END:VTIMEZONE
BEGIN:VEVENT
DTSTART;TZID=America/Detroit:20260218T071500
DTEND;TZID=America/Detroit:20260218T080000
DTSTAMP:20260423T004418
CREATED:20230209T195204Z
LAST-MODIFIED:20260210T171420Z
UID:10003696-1771398900-1771401600@broad.msu.edu
SUMMARY:Hospitality Business: Club Managers and Alumni Meet-Up
DESCRIPTION:Consider attending a gathering with hospitality business alumni and students who traveled to attend the CMAA World Conference & Club Business Expo. Join before opening business session on Wednesday\, February 18 at 7:15 a.m. at the Royal Cup Coffee area. Register with Allegra at: GAmanagingdirector@gmail.com \nThank you for your ongoing support of The School of Hospitality Business.
URL:https://broad.msu.edu/event/hospitality-business-alumni-club-managers-breakfast/
LOCATION:Anaheim Convention Center\, 800 W Katella Avenue\, Anaheim\, CA\, 92802\, United States
CATEGORIES:Alumni Events,Featured Events,Hospitality Business
END:VEVENT
BEGIN:VEVENT
DTSTART;TZID=America/Detroit:20260218T093000
DTEND;TZID=America/Detroit:20260218T110000
DTSTAMP:20260423T004419
CREATED:20251216T203322Z
LAST-MODIFIED:20251216T203322Z
UID:10004591-1771407000-1771412400@broad.msu.edu
SUMMARY:The Ethics of AI\, Information Systems\, and Libraries
DESCRIPTION:Hosted by MSU Libraries\, this panel convenes scholars and practitioners to explore how artificial intelligence is transforming copyright\, creativity\, and the circulation of knowledge. Copyright as we have known it is already under strain; AI systems are reshaping authorship\, publishing\, and business models faster than policy or ethics can catch up. Rather than only asking what is being disrupted\, the panel will focus on what we are building right now: the sociotechnical systems\, governance models\, and creative practices that will define the next era of scholarship and art. Drawing on expertise in digital literacies\, AI governance\, information economics\, and library stewardship\, the discussion will highlight both the risks of ad-hoc adaptation and the opportunities to shape more equitable\, sustainable\, and generative systems for creators\, publishers\, and the public. Join us for this exciting conversation on Wednesday\, February 18th from 9:30am-11am. \nModerated by Kay Firth-Butterfield\, CEO of Good Tech Advisory and the inaugural Head of AI and Machine Learning at the World Economic Forum. \nPanelists: Susan Kendall (Library) Johannis in the Quello Center\, Denelle (the role of the creator)\, Marcio Olivero (AI in Education)\, Justin Simard (legality perspective).
URL:https://broad.msu.edu/event/the-ethics-of-ai-information-systems-and-libraries/
LOCATION:MI
CATEGORIES:Ethics & Social Responsibility
ORGANIZER;CN="Beth Hammond":MAILTO:hammon25@msu.edu
END:VEVENT
BEGIN:VEVENT
DTSTART;TZID=America/Detroit:20260218T113000
DTEND;TZID=America/Detroit:20260218T123000
DTSTAMP:20260423T004419
CREATED:20251216T204908Z
LAST-MODIFIED:20251216T204908Z
UID:10004595-1771414200-1771417800@broad.msu.edu
SUMMARY:Ethical Leadership in Sports and Entertainment
DESCRIPTION:Sports business and entertainment are complex and evolving industries. Join us for a conversation with professional industry executives to talk about ethical considerations and decisions they are being faced with today. Register to join us on Wednesday\, February 18th from 11:30am-12:30pm and lock in your (FREE) lunch!
URL:https://broad.msu.edu/event/ethical-leadership-in-sports-and-entertainment/
LOCATION:MI
CATEGORIES:Ethics & Social Responsibility
ORGANIZER;CN="Beth Hammond":MAILTO:hammon25@msu.edu
END:VEVENT
BEGIN:VEVENT
DTSTART;TZID=America/Detroit:20260218T130000
DTEND;TZID=America/Detroit:20260218T140000
DTSTAMP:20260423T004419
CREATED:20260120T181125Z
LAST-MODIFIED:20260202T162023Z
UID:10004641-1771419600-1771423200@broad.msu.edu
SUMMARY:MSBDSA Virtual Information Session
DESCRIPTION:Join us on Zoom to learn more about the Master of Science in Business and Data Science and Analytics program at MSU!
URL:https://broad.msu.edu/event/msbdsa-virtual-information-session/
LOCATION:Virtual
CATEGORIES:M.S. in Business Data Science & Analytics
END:VEVENT
BEGIN:VEVENT
DTSTART;TZID=America/Detroit:20260218T140000
DTEND;TZID=America/Detroit:20260218T144500
DTSTAMP:20260423T004419
CREATED:20251203T201707Z
LAST-MODIFIED:20260202T162451Z
UID:10004571-1771423200-1771425900@broad.msu.edu
SUMMARY:MSMRA Virtual Information Session - 2/18/26
DESCRIPTION:Join us to learn more about MSU’s MSMRA program!
URL:https://broad.msu.edu/event/msmra-virtual-information-session-36/
LOCATION:Virtual
CATEGORIES:M.S. in Marketing Research
END:VEVENT
BEGIN:VEVENT
DTSTART;TZID=America/Detroit:20260218T173000
DTEND;TZID=America/Detroit:20260218T183000
DTSTAMP:20260423T004419
CREATED:20251216T203735Z
LAST-MODIFIED:20260202T163426Z
UID:10004592-1771435800-1771439400@broad.msu.edu
SUMMARY:The Roy S. Pung Executive Speaker Lecture featuring Kay Firth-Butterfield
DESCRIPTION:Artificial Intelligence has intersected all our lives in big and small ways. We are thrilled to welcome Kay Firth-Butterfield\, former Head of Artificial Intelligence and member of the Executive Committee at the World Economic Forum and is one of the foremost experts in the world on the governance of AI to campus. Kay will be addressing many aspects of the beneficial and challenging technical\, economic\, and social changes arising from the use of AI. She has been consistently recognized as a leading woman in AI since 2018 and was featured in the New York Times as one of 10 Women Changing the Landscape of Leadership. Register to join us on Wednesday\, February 18th from 5:30pm-6:30pm!
URL:https://broad.msu.edu/event/the-roy-s-pung-executive-speaker-lecture-featuring-kay-firth-butterfield/
LOCATION:Virtual
CATEGORIES:College-wide Events,Ethics & Social Responsibility,Featured Events
ORGANIZER;CN="Beth Hammond":MAILTO:hammon25@msu.edu
END:VEVENT
END:VCALENDAR