BEGIN:VCALENDAR
VERSION:2.0
PRODID:-//Eli Broad College of Business | Michigan State University - ECPv6.15.17.1//NONSGML v1.0//EN
CALSCALE:GREGORIAN
METHOD:PUBLISH
X-ORIGINAL-URL:https://broad.msu.edu
X-WR-CALDESC:Events for Eli Broad College of Business | Michigan State University
REFRESH-INTERVAL;VALUE=DURATION:PT1H
X-Robots-Tag:noindex
X-PUBLISHED-TTL:PT1H
BEGIN:VTIMEZONE
TZID:America/Detroit
BEGIN:DAYLIGHT
TZOFFSETFROM:-0500
TZOFFSETTO:-0400
TZNAME:EDT
DTSTART:20250309T070000
END:DAYLIGHT
BEGIN:STANDARD
TZOFFSETFROM:-0400
TZOFFSETTO:-0500
TZNAME:EST
DTSTART:20251102T060000
END:STANDARD
BEGIN:DAYLIGHT
TZOFFSETFROM:-0500
TZOFFSETTO:-0400
TZNAME:EDT
DTSTART:20260308T070000
END:DAYLIGHT
BEGIN:STANDARD
TZOFFSETFROM:-0400
TZOFFSETTO:-0500
TZNAME:EST
DTSTART:20261101T060000
END:STANDARD
BEGIN:DAYLIGHT
TZOFFSETFROM:-0500
TZOFFSETTO:-0400
TZNAME:EDT
DTSTART:20270314T070000
END:DAYLIGHT
BEGIN:STANDARD
TZOFFSETFROM:-0400
TZOFFSETTO:-0500
TZNAME:EST
DTSTART:20271107T060000
END:STANDARD
END:VTIMEZONE
BEGIN:VEVENT
DTSTART;VALUE=DATE:20260310
DTEND;VALUE=DATE:20260311
DTSTAMP:20260422T160056
CREATED:20220113T183232Z
LAST-MODIFIED:20251008T145653Z
UID:10003529-1773100800-1773187199@broad.msu.edu
SUMMARY:Hospitality Business: Give Green Day
DESCRIPTION:Give Green Day is an opportunity to make a difference. Join us in celebrating a century of hospitality leadership in The School of Hospitality Business. Connect to donate and help us honor a century of innovation\, leadership and Spartan hospitality business education. Consider a donation today!   \nHospitality Business – 100 Year Fund | Giving to Michigan State University
URL:https://broad.msu.edu/event/hospitality-business-give-green-day/
LOCATION:Online
CATEGORIES:Alumni Events,College-wide Events,Featured Events,Hospitality Business
ORGANIZER;CN="Lena Loeffler":MAILTO:loeffler@broad.msu.edu
END:VEVENT
BEGIN:VEVENT
DTSTART;TZID=America/Detroit:20260310T130000
DTEND;TZID=America/Detroit:20260310T160000
DTSTAMP:20260422T160056
CREATED:20260302T224250Z
LAST-MODIFIED:20260302T224250Z
UID:10004664-1773147600-1773158400@broad.msu.edu
SUMMARY:Give Green Day Celebration
DESCRIPTION:Meet the community that supports you and enjoy a look back at a year of impact. Connect\, reflect\, and see how the Care Center continues to support Broad! Add March 10th\, 2026 to your calendar to attend the event and/or donate to the cause: https://givingday.msu.edu/projects/eli-broad-college-of-business
URL:https://broad.msu.edu/event/give-green-day-celebration/
LOCATION:Eppley Center\, 667 N Shaw Ln\, East Lansing\, MI\, 48824\, United States
ORGANIZER;CN="Jessica Gray":MAILTO:grayjes2@broad.msu.edu
END:VEVENT
END:VCALENDAR