BEGIN:VCALENDAR
VERSION:2.0
PRODID:-//Eli Broad College of Business | Michigan State University - ECPv6.15.17.1//NONSGML v1.0//EN
CALSCALE:GREGORIAN
METHOD:PUBLISH
X-WR-CALNAME:Eli Broad College of Business | Michigan State University
X-ORIGINAL-URL:https://broad.msu.edu
X-WR-CALDESC:Events for Eli Broad College of Business | Michigan State University
REFRESH-INTERVAL;VALUE=DURATION:PT1H
X-Robots-Tag:noindex
X-PUBLISHED-TTL:PT1H
BEGIN:VTIMEZONE
TZID:America/Detroit
BEGIN:DAYLIGHT
TZOFFSETFROM:-0500
TZOFFSETTO:-0400
TZNAME:EDT
DTSTART:20250309T070000
END:DAYLIGHT
BEGIN:STANDARD
TZOFFSETFROM:-0400
TZOFFSETTO:-0500
TZNAME:EST
DTSTART:20251102T060000
END:STANDARD
BEGIN:DAYLIGHT
TZOFFSETFROM:-0500
TZOFFSETTO:-0400
TZNAME:EDT
DTSTART:20260308T070000
END:DAYLIGHT
BEGIN:STANDARD
TZOFFSETFROM:-0400
TZOFFSETTO:-0500
TZNAME:EST
DTSTART:20261101T060000
END:STANDARD
BEGIN:DAYLIGHT
TZOFFSETFROM:-0500
TZOFFSETTO:-0400
TZNAME:EDT
DTSTART:20270314T070000
END:DAYLIGHT
BEGIN:STANDARD
TZOFFSETFROM:-0400
TZOFFSETTO:-0500
TZNAME:EST
DTSTART:20271107T060000
END:STANDARD
END:VTIMEZONE
BEGIN:VEVENT
DTSTART;TZID=America/Detroit:20260518T123000
DTEND;TZID=America/Detroit:20260518T133000
DTSTAMP:20260425T144741
CREATED:20260105T180007Z
LAST-MODIFIED:20260202T165836Z
UID:10004614-1779107400-1779111000@broad.msu.edu
SUMMARY:Drop-in Hours: Executive and Online MBA Programs
DESCRIPTION:Have questions about the Michigan State Executive MBA or Online MBA programs? Stop by during our Monday drop-in hour to get personalized answers\, learn more about the application process\, and explore how these programs can fit your goals. No appointment needed – just bring your questions! \n 
URL:https://broad.msu.edu/event/drop-in-hours-professional-mba-programs/2026-05-18/
LOCATION:Online
CATEGORIES:Admissions Events,Executive MBA,Professional Online MBA
ORGANIZER;CN="MBA Admissions":MAILTO:mba@msu.edu
END:VEVENT
BEGIN:VEVENT
DTSTART;TZID=America/Detroit:20260518T173000
DTEND;TZID=America/Detroit:20260518T200000
DTSTAMP:20260425T144741
CREATED:20250103T184439Z
LAST-MODIFIED:20260407T111615Z
UID:10004331-1779125400-1779134400@broad.msu.edu
SUMMARY:Hospitality Business: Chicago Alumni & Friends Networking Reception
DESCRIPTION:Please join us for a Celebration of the Century as we kick off The School’s 100-year anniversary! Enjoy a Taste of Chicago–inspired menu\, 1920s-era cocktails\, and a dynamic panel discussion on the restaurant industry featuring MSU Hospitality Business icons. Cap it all off with epic networking you won’t want to miss! \nSponsorship\nWant to be part of our 100-year legacy? Sponsor this event or support our centennial fundraising initiatives and make a lasting impact. Please email Loeffler@broad.msu.edu for more details. \n  \n  \n  \n 
URL:https://broad.msu.edu/event/hospitality-business-chicago-networking-reception-3/
LOCATION:Drake Hotel\, Chicago\, 140 East Walton Place\, Chicago\, IL\, 60611\, United States
CATEGORIES:Alumni Events,Featured Events,Hospitality Business
ORGANIZER;CN="Lena Loeffler":MAILTO:loeffler@broad.msu.edu
END:VEVENT
END:VCALENDAR