BEGIN:VCALENDAR
VERSION:2.0
PRODID:-//Eli Broad College of Business | Michigan State University - ECPv6.15.17.1//NONSGML v1.0//EN
CALSCALE:GREGORIAN
METHOD:PUBLISH
X-ORIGINAL-URL:https://broad.msu.edu
X-WR-CALDESC:Events for Eli Broad College of Business | Michigan State University
REFRESH-INTERVAL;VALUE=DURATION:PT1H
X-Robots-Tag:noindex
X-PUBLISHED-TTL:PT1H
BEGIN:VTIMEZONE
TZID:America/Detroit
BEGIN:DAYLIGHT
TZOFFSETFROM:-0500
TZOFFSETTO:-0400
TZNAME:EDT
DTSTART:20250309T070000
END:DAYLIGHT
BEGIN:STANDARD
TZOFFSETFROM:-0400
TZOFFSETTO:-0500
TZNAME:EST
DTSTART:20251102T060000
END:STANDARD
BEGIN:DAYLIGHT
TZOFFSETFROM:-0500
TZOFFSETTO:-0400
TZNAME:EDT
DTSTART:20260308T070000
END:DAYLIGHT
BEGIN:STANDARD
TZOFFSETFROM:-0400
TZOFFSETTO:-0500
TZNAME:EST
DTSTART:20261101T060000
END:STANDARD
BEGIN:DAYLIGHT
TZOFFSETFROM:-0500
TZOFFSETTO:-0400
TZNAME:EDT
DTSTART:20270314T070000
END:DAYLIGHT
BEGIN:STANDARD
TZOFFSETFROM:-0400
TZOFFSETTO:-0500
TZNAME:EST
DTSTART:20271107T060000
END:STANDARD
END:VTIMEZONE
BEGIN:VEVENT
DTSTART;TZID=America/Detroit:20260519T173000
DTEND;TZID=America/Detroit:20260519T180000
DTSTAMP:20260425T081755
CREATED:20260402T151257Z
LAST-MODIFIED:20260402T151257Z
UID:10004682-1779211800-1779213600@broad.msu.edu
SUMMARY:MS Accounting & Data Analytics Information Session
DESCRIPTION:Join us to learn more about MSU’s Master of Science in Accounting & Data Analytics program!
URL:https://broad.msu.edu/event/ms-accounting-data-analytics-information-session-58/
LOCATION:Online
CATEGORIES:M.S. in Accounting and Data Analytics
END:VEVENT
BEGIN:VEVENT
DTSTART;TZID=America/Detroit:20260519T173000
DTEND;TZID=America/Detroit:20260519T200000
DTSTAMP:20260425T081755
CREATED:20260422T204936Z
LAST-MODIFIED:20260423T141709Z
UID:10004713-1779211800-1779220800@broad.msu.edu
SUMMARY:MSU Broad EMBA 60th & MEC 50th Anniversary Celebration & Alumni Panel
DESCRIPTION:Celebrating 50 years of the MEC and 60 years of MSU Broad EMBA – alumni panel\, networking\, and powerful connections.\n\n\n\n\nCelebrate the 50th Anniversary of the Management Education Center (MEC) and the 60th Anniversary of the Michigan State University Broad Executive MBA program – marking decades of leadership\, innovation\, and impact. \n\n\nThe Experience:  \nAn alumni panel featuring Aris Singleton\, Greg Arendt\, and Linda Apsey\, moderated by Cheri Declerq.\n \nDiscussion Themes: Corporate strategy\, executive presence\, and AI digital transformation.\n \nRegistration: The event is free\, but registration is required by May 12.
URL:https://broad.msu.edu/event/msu-broad-emba-60th-mec-50th-anniversary-celebration-alumni-panel/
LOCATION:Management Education Center\, 811 W Square Lake Rd\, Troy\, MI\, 48098\, United States
CATEGORIES:Alumni Events,Executive MBA
END:VEVENT
END:VCALENDAR