BEGIN:VCALENDAR
VERSION:2.0
PRODID:-//Eli Broad College of Business | Michigan State University - ECPv6.15.17.1//NONSGML v1.0//EN
CALSCALE:GREGORIAN
METHOD:PUBLISH
X-WR-CALNAME:Eli Broad College of Business | Michigan State University
X-ORIGINAL-URL:https://broad.msu.edu
X-WR-CALDESC:Events for Eli Broad College of Business | Michigan State University
REFRESH-INTERVAL;VALUE=DURATION:PT1H
X-Robots-Tag:noindex
X-PUBLISHED-TTL:PT1H
BEGIN:VTIMEZONE
TZID:America/Detroit
BEGIN:DAYLIGHT
TZOFFSETFROM:-0500
TZOFFSETTO:-0400
TZNAME:EDT
DTSTART:20230312T070000
END:DAYLIGHT
BEGIN:STANDARD
TZOFFSETFROM:-0400
TZOFFSETTO:-0500
TZNAME:EST
DTSTART:20231105T060000
END:STANDARD
BEGIN:DAYLIGHT
TZOFFSETFROM:-0500
TZOFFSETTO:-0400
TZNAME:EDT
DTSTART:20240310T070000
END:DAYLIGHT
BEGIN:STANDARD
TZOFFSETFROM:-0400
TZOFFSETTO:-0500
TZNAME:EST
DTSTART:20241103T060000
END:STANDARD
BEGIN:DAYLIGHT
TZOFFSETFROM:-0500
TZOFFSETTO:-0400
TZNAME:EDT
DTSTART:20250309T070000
END:DAYLIGHT
BEGIN:STANDARD
TZOFFSETFROM:-0400
TZOFFSETTO:-0500
TZNAME:EST
DTSTART:20251102T060000
END:STANDARD
END:VTIMEZONE
BEGIN:VEVENT
DTSTART;TZID=America/Detroit:20240105T120000
DTEND;TZID=America/Detroit:20240105T130000
DTSTAMP:20260425T132619
CREATED:20231122T111235Z
LAST-MODIFIED:20231122T111235Z
UID:10003894-1704456000-1704459600@broad.msu.edu
SUMMARY:Broad MBA Virtual Office Hours
DESCRIPTION:Join the Michigan State Broad Full-Time MBA Admissions team to answer any questions you may have before the Round 2 application deadline on January 8th!
URL:https://broad.msu.edu/event/broad-mba-virtual-office-hours-1-5-24/
LOCATION:Online
CATEGORIES:Admissions Events,Full-Time MBA
ORGANIZER;CN="MBA Admissions":MAILTO:mba@msu.edu
END:VEVENT
BEGIN:VEVENT
DTSTART;TZID=America/Detroit:20240110T120000
DTEND;TZID=America/Detroit:20240110T130000
DTSTAMP:20260425T132619
CREATED:20231122T111708Z
LAST-MODIFIED:20240108T194940Z
UID:10003895-1704888000-1704891600@broad.msu.edu
SUMMARY:Top 5 Mistakes MBA Applicants Make
DESCRIPTION:This session will give you more information on the Broad MBA Program and tips on completing your application. During this presentation you will learn about the program. Most importantly\, identifying the top five mistakes MBA applicants make and how not to make them!
URL:https://broad.msu.edu/event/top-5-mistakes-mba-applicants-make-3/
LOCATION:Online
CATEGORIES:Admissions Events,Full-Time MBA
ORGANIZER;CN="MBA Admissions":MAILTO:mba@msu.edu
END:VEVENT
BEGIN:VEVENT
DTSTART;TZID=America/Detroit:20240117T120000
DTEND;TZID=America/Detroit:20240117T130000
DTSTAMP:20260425T132619
CREATED:20231211T193330Z
LAST-MODIFIED:20240108T192249Z
UID:10003925-1705492800-1705496400@broad.msu.edu
SUMMARY:Broad MBA Chat with the Director of Admissions
DESCRIPTION:Connect with the Director of Admissions and learn more about Michigan State University’s Broad College of Business Full-Time MBA program. Feel free to ask any questions you may have about the program and/or admissions process as well.
URL:https://broad.msu.edu/event/broad-mba-chat-with-the-director-of-admissions/
LOCATION:Online
CATEGORIES:Admissions Events,Full-Time MBA
ORGANIZER;CN="MBA Admissions":MAILTO:mba@msu.edu
END:VEVENT
BEGIN:VEVENT
DTSTART;TZID=America/Detroit:20240124T180000
DTEND;TZID=America/Detroit:20240124T190000
DTSTAMP:20260425T132619
CREATED:20231211T193539Z
LAST-MODIFIED:20240108T194845Z
UID:10003926-1706119200-1706122800@broad.msu.edu
SUMMARY:MSU Broad MBA Student Experience Webinar
DESCRIPTION:This webinar will feature a panel of current Broad MBA students with varying backgrounds and post-MBA goals who will answer questions and describe their experiences as students in the Michigan State Broad Full-Time MBA program.
URL:https://broad.msu.edu/event/msu-broad-mba-student-experience-webinar-1-24/
LOCATION:Online
CATEGORIES:Admissions Events,Full-Time MBA
ORGANIZER;CN="MBA Admissions":MAILTO:mba@msu.edu
END:VEVENT
END:VCALENDAR