BEGIN:VCALENDAR
VERSION:2.0
PRODID:-//Eli Broad College of Business | Michigan State University - ECPv6.15.17.1//NONSGML v1.0//EN
CALSCALE:GREGORIAN
METHOD:PUBLISH
X-WR-CALNAME:Eli Broad College of Business | Michigan State University
X-ORIGINAL-URL:https://broad.msu.edu
X-WR-CALDESC:Events for Eli Broad College of Business | Michigan State University
REFRESH-INTERVAL;VALUE=DURATION:PT1H
X-Robots-Tag:noindex
X-PUBLISHED-TTL:PT1H
BEGIN:VTIMEZONE
TZID:America/Detroit
BEGIN:DAYLIGHT
TZOFFSETFROM:-0500
TZOFFSETTO:-0400
TZNAME:EDT
DTSTART:20230312T070000
END:DAYLIGHT
BEGIN:STANDARD
TZOFFSETFROM:-0400
TZOFFSETTO:-0500
TZNAME:EST
DTSTART:20231105T060000
END:STANDARD
BEGIN:DAYLIGHT
TZOFFSETFROM:-0500
TZOFFSETTO:-0400
TZNAME:EDT
DTSTART:20240310T070000
END:DAYLIGHT
BEGIN:STANDARD
TZOFFSETFROM:-0400
TZOFFSETTO:-0500
TZNAME:EST
DTSTART:20241103T060000
END:STANDARD
BEGIN:DAYLIGHT
TZOFFSETFROM:-0500
TZOFFSETTO:-0400
TZNAME:EDT
DTSTART:20250309T070000
END:DAYLIGHT
BEGIN:STANDARD
TZOFFSETFROM:-0400
TZOFFSETTO:-0500
TZNAME:EST
DTSTART:20251102T060000
END:STANDARD
END:VTIMEZONE
BEGIN:VEVENT
DTSTART;TZID=America/Detroit:20240123T173000
DTEND;TZID=America/Detroit:20240123T193000
DTSTAMP:20260422T030339
CREATED:20221031T120025Z
LAST-MODIFIED:20231121T135406Z
UID:10003327-1706031000-1706038200@broad.msu.edu
SUMMARY:Hospitality Business: Los Angeles Alumni & Friends Networking Reception
DESCRIPTION:Save the Date! \nPlease join us! Consider attending this popular Networking Reception with alumni and friends to connect (or re-connect) with MSU and The School of Hospitality Business. \n\n5:30 p.m. – 7:30 p.m. | Hospitality Business Networking Reception. Networking with fellow alumni\, ALIS conference attendees\, students\, and other industry professionals. Enjoy cocktails and hors d’oeuvres atop the Hotel Indigo DTLA.\n\nYour Support | Please consider a gift to support student travel. Your donation will provide much needed support for conference\, workshop\, and competition travel. We thank you for your thoughtful consideration. \nDonate Here \nComplimentary attendance\, however\, registration is required for planning purposes. Thank you. \nA special thank you to our event sponsor: Davidson Hospitality Group. We appreciate your continued support!
URL:https://broad.msu.edu/event/hospitality-business-roadshow-los-angeles/
LOCATION:Hotel Indigo Downtown LA\, 899 Francisco St\, Los Angeles\, CA\, 90017\, United States
CATEGORIES:Alumni Events,College-wide Events,Featured Events,Hospitality Business
ORGANIZER;CN="Lena Loeffler":MAILTO:loeffler@broad.msu.edu
END:VEVENT
END:VCALENDAR