BEGIN:VCALENDAR
VERSION:2.0
PRODID:-//Eli Broad College of Business | Michigan State University - ECPv6.15.17.1//NONSGML v1.0//EN
CALSCALE:GREGORIAN
METHOD:PUBLISH
X-WR-CALNAME:Eli Broad College of Business | Michigan State University
X-ORIGINAL-URL:https://broad.msu.edu
X-WR-CALDESC:Events for Eli Broad College of Business | Michigan State University
REFRESH-INTERVAL;VALUE=DURATION:PT1H
X-Robots-Tag:noindex
X-PUBLISHED-TTL:PT1H
BEGIN:VTIMEZONE
TZID:America/Detroit
BEGIN:DAYLIGHT
TZOFFSETFROM:-0500
TZOFFSETTO:-0400
TZNAME:EDT
DTSTART:20220313T070000
END:DAYLIGHT
BEGIN:STANDARD
TZOFFSETFROM:-0400
TZOFFSETTO:-0500
TZNAME:EST
DTSTART:20221106T060000
END:STANDARD
BEGIN:DAYLIGHT
TZOFFSETFROM:-0500
TZOFFSETTO:-0400
TZNAME:EDT
DTSTART:20230312T070000
END:DAYLIGHT
BEGIN:STANDARD
TZOFFSETFROM:-0400
TZOFFSETTO:-0500
TZNAME:EST
DTSTART:20231105T060000
END:STANDARD
BEGIN:DAYLIGHT
TZOFFSETFROM:-0500
TZOFFSETTO:-0400
TZNAME:EDT
DTSTART:20240310T070000
END:DAYLIGHT
BEGIN:STANDARD
TZOFFSETFROM:-0400
TZOFFSETTO:-0500
TZNAME:EST
DTSTART:20241103T060000
END:STANDARD
END:VTIMEZONE
BEGIN:VEVENT
DTSTART;TZID=America/Detroit:20230203T093000
DTEND;TZID=America/Detroit:20230203T103000
DTSTAMP:20260422T030324
CREATED:20230123T200311Z
LAST-MODIFIED:20230201T195443Z
UID:10003689-1675416600-1675420200@broad.msu.edu
SUMMARY:Broad Faculty Ethical/Social Responsibility Conversation
DESCRIPTION:This will be an opportunity to meet with other faculty interested in ethics and social responsibility\, to review a map of Broad courses that include these topics (based on the responses to our Faculty survey)\, and to engage in a conversation about ways the Center can support faculty and students now\, and in the future. Join us on February 3 from 9:30am-10:30 in E201.
URL:https://broad.msu.edu/event/broad-faculty-ethical-social-responsibility-conversation/
LOCATION:Eppley Center\, 667 N Shaw Ln\, East Lansing\, MI\, 48824\, United States
CATEGORIES:Ethics & Social Responsibility,Faculty Events
ORGANIZER;CN="Beth Hammond":MAILTO:hammon25@msu.edu
END:VEVENT
BEGIN:VEVENT
DTSTART;TZID=America/Detroit:20230208T113000
DTEND;TZID=America/Detroit:20230208T121500
DTSTAMP:20260422T030324
CREATED:20230123T200957Z
LAST-MODIFIED:20230127T163159Z
UID:10003690-1675855800-1675858500@broad.msu.edu
SUMMARY:What's the Tea on Ethics Lunch and Learn
DESCRIPTION:Join us on February 8 to learn from Amy Broglin-Peterson\, Faculty in the Supply Chain Management department\, to learn all about ethics\, and what to ask if you find yourself in an ethical situation at work or school. Join us for an engaging conversation and a FREE LUNCH from 11:30am-12:15pm.
URL:https://broad.msu.edu/event/whats-the-tea-on-ethics-lunch-and-learn/
LOCATION:Eli Broad College of Business\, 632 Bogue St n520\, East Lansing\, MI\, 48824\, United States
CATEGORIES:Ethics & Social Responsibility,Featured Events
ORGANIZER;CN="Beth Hammond":MAILTO:hammon25@msu.edu
END:VEVENT
BEGIN:VEVENT
DTSTART;TZID=America/Detroit:20230217T120000
DTEND;TZID=America/Detroit:20230217T130000
DTSTAMP:20260422T030324
CREATED:20230123T201607Z
LAST-MODIFIED:20230127T163447Z
UID:10003691-1676635200-1676638800@broad.msu.edu
SUMMARY:Ethics versus Legal Lunch and Learn
DESCRIPTION:Join us to learn from Joe Potchen\, Faculty in the Management Department\, to learn about the intersection and the divide between what is ethical and what is legal. Join us for an interesting conversation and a FREE LUNCH from 12pm-1pm. Register to join us today:
URL:https://broad.msu.edu/event/ethics-versus-legal-lunch-and-learn/
LOCATION:Eli Broad College of Business\, 632 Bogue St n520\, East Lansing\, MI\, 48824\, United States
CATEGORIES:Ethics & Social Responsibility,Faculty Events
ORGANIZER;CN="Beth Hammond":MAILTO:hammon25@msu.edu
END:VEVENT
BEGIN:VEVENT
DTSTART;TZID=America/Detroit:20230224T084500
DTEND;TZID=America/Detroit:20230224T140000
DTSTAMP:20260422T030324
CREATED:20230123T201801Z
LAST-MODIFIED:20230201T201525Z
UID:10003692-1677228300-1677247200@broad.msu.edu
SUMMARY:Social Responsibility in Action Field Trip
DESCRIPTION:Join us to see what Social Responsibility looks like in action! We will be visiting Michigan Career and Technical Institute to see how they support and train Michiganders with disabilities so they can become employed.  We will tour the facility\, hear directly from their students and then have a chance to have a FREE lunch with a professional from MCTI who is doing what you want to do after graduation! We will leave campus at 8:45am- and be back at Broad by 2:30pm. Register to join us today!
URL:https://broad.msu.edu/event/social-responsibility-in-action-field-trip/
LOCATION:Michigan Career & Technical Institute\, 11611 W Pine Lake Rd\, Plainwell\, MI\, 49080\, United States
CATEGORIES:Ethics & Social Responsibility,Faculty Events
ORGANIZER;CN="Beth Hammond":MAILTO:hammon25@msu.edu
END:VEVENT
BEGIN:VEVENT
DTSTART;TZID=America/Detroit:20230228T120000
DTEND;TZID=America/Detroit:20230228T130000
DTSTAMP:20260422T030324
CREATED:20230123T202053Z
LAST-MODIFIED:20230227T195350Z
UID:10003373-1677585600-1677589200@broad.msu.edu
SUMMARY:Analyzing Ethical Situations Lunch and Learn
DESCRIPTION:Join us to be led through how to understand\, analyze\, and have conversation around ethical situations from Dr. Jennifer Dunn\, Faculty from the Management department. This will offer you the chance to gain experience looking at an ethical situation from all sides before making a decision about how to move forward. Register to join us from 12pm-1pm and get a FREE LUNCH! Register today:
URL:https://broad.msu.edu/event/analyzing-ethical-situations-lunch-and-learn/
LOCATION:North Business Building\, 632 Bogue St\, East Lansing\, MI\, 48824\, United States
CATEGORIES:Ethics & Social Responsibility,Faculty Events
ORGANIZER;CN="Beth Hammond":MAILTO:hammon25@msu.edu
END:VEVENT
END:VCALENDAR