BEGIN:VCALENDAR
VERSION:2.0
PRODID:-//Eli Broad College of Business | Michigan State University - ECPv6.15.17.1//NONSGML v1.0//EN
CALSCALE:GREGORIAN
METHOD:PUBLISH
X-WR-CALNAME:Eli Broad College of Business | Michigan State University
X-ORIGINAL-URL:https://broad.msu.edu
X-WR-CALDESC:Events for Eli Broad College of Business | Michigan State University
REFRESH-INTERVAL;VALUE=DURATION:PT1H
X-Robots-Tag:noindex
X-PUBLISHED-TTL:PT1H
BEGIN:VTIMEZONE
TZID:America/Detroit
BEGIN:DAYLIGHT
TZOFFSETFROM:-0500
TZOFFSETTO:-0400
TZNAME:EDT
DTSTART:20230312T070000
END:DAYLIGHT
BEGIN:STANDARD
TZOFFSETFROM:-0400
TZOFFSETTO:-0500
TZNAME:EST
DTSTART:20231105T060000
END:STANDARD
BEGIN:DAYLIGHT
TZOFFSETFROM:-0500
TZOFFSETTO:-0400
TZNAME:EDT
DTSTART:20240310T070000
END:DAYLIGHT
BEGIN:STANDARD
TZOFFSETFROM:-0400
TZOFFSETTO:-0500
TZNAME:EST
DTSTART:20241103T060000
END:STANDARD
BEGIN:DAYLIGHT
TZOFFSETFROM:-0500
TZOFFSETTO:-0400
TZNAME:EDT
DTSTART:20250309T070000
END:DAYLIGHT
BEGIN:STANDARD
TZOFFSETFROM:-0400
TZOFFSETTO:-0500
TZNAME:EST
DTSTART:20251102T060000
END:STANDARD
END:VTIMEZONE
BEGIN:VEVENT
DTSTART;TZID=America/Detroit:20241010T113000
DTEND;TZID=America/Detroit:20241010T123000
DTSTAMP:20260425T233249
CREATED:20240722T154453Z
LAST-MODIFIED:20240722T154453Z
UID:10004148-1728559800-1728563400@broad.msu.edu
SUMMARY:Lunch and Learn; Global ESG
DESCRIPTION:Join us to learn from Derek Tang\, MSU Alum and Chief Financial Officer at Mallplaza\, the largest Chilean mall company and one of the top 15 companies in the Chilean stock exchange. Derek is going to share his leadership journey and his global experience on how investors approach ESG in different markets when they go to make an investment? Register to join us on Thursday\, October 10th from 11:30am-12:30pm and lock in your FREE lunch today!
URL:https://broad.msu.edu/event/lunch-and-learn-global-esg-2024/
LOCATION:Eppley Center\, 667 N Shaw Ln\, East Lansing\, MI\, 48824\, United States
CATEGORIES:Ethics & Social Responsibility
ORGANIZER;CN="Beth Hammond":MAILTO:hammon25@msu.edu
END:VEVENT
END:VCALENDAR