BEGIN:VCALENDAR
VERSION:2.0
PRODID:-//Eli Broad College of Business | Michigan State University - ECPv6.15.17.1//NONSGML v1.0//EN
CALSCALE:GREGORIAN
METHOD:PUBLISH
X-WR-CALNAME:Eli Broad College of Business | Michigan State University
X-ORIGINAL-URL:https://broad.msu.edu
X-WR-CALDESC:Events for Eli Broad College of Business | Michigan State University
REFRESH-INTERVAL;VALUE=DURATION:PT1H
X-Robots-Tag:noindex
X-PUBLISHED-TTL:PT1H
BEGIN:VTIMEZONE
TZID:America/Detroit
BEGIN:DAYLIGHT
TZOFFSETFROM:-0500
TZOFFSETTO:-0400
TZNAME:EDT
DTSTART:20230312T070000
END:DAYLIGHT
BEGIN:STANDARD
TZOFFSETFROM:-0400
TZOFFSETTO:-0500
TZNAME:EST
DTSTART:20231105T060000
END:STANDARD
BEGIN:DAYLIGHT
TZOFFSETFROM:-0500
TZOFFSETTO:-0400
TZNAME:EDT
DTSTART:20240310T070000
END:DAYLIGHT
BEGIN:STANDARD
TZOFFSETFROM:-0400
TZOFFSETTO:-0500
TZNAME:EST
DTSTART:20241103T060000
END:STANDARD
BEGIN:DAYLIGHT
TZOFFSETFROM:-0500
TZOFFSETTO:-0400
TZNAME:EDT
DTSTART:20250309T070000
END:DAYLIGHT
BEGIN:STANDARD
TZOFFSETFROM:-0400
TZOFFSETTO:-0500
TZNAME:EST
DTSTART:20251102T060000
END:STANDARD
END:VTIMEZONE
BEGIN:VEVENT
DTSTART;TZID=America/Detroit:20240214T113000
DTEND;TZID=America/Detroit:20240214T123000
DTSTAMP:20260422T232924
CREATED:20240117T183257Z
LAST-MODIFIED:20240124T155012Z
UID:10003974-1707910200-1707913800@broad.msu.edu
SUMMARY:Ethics of Accommodation Part 2: Become a Better Disability Ally as MSU Educators Communication Conversation
DESCRIPTION:Join us for a series of critical conversations on how educators and students can best work together to support MSU students who need accommodations. We will be exploring the ways that all of us can be better advocates. This session will host a panel of MSU educators and students to share experiences and insights. Register to join us on February 14th from 11:30am-12:30pm today!
URL:https://broad.msu.edu/event/ethics-of-accommodation-become-a-better-disability-ally-as-msu-educators-communication-conversation/
LOCATION:Erickson Hall\, 620 Farm Ln\, East Lansing\, MI\, 48824\, United States
CATEGORIES:Ethics & Social Responsibility
ORGANIZER;CN="Beth Hammond":MAILTO:hammon25@msu.edu
END:VEVENT
BEGIN:VEVENT
DTSTART;TZID=America/Detroit:20240217T171500
DTEND;TZID=America/Detroit:20240217T203000
DTSTAMP:20260422T232924
CREATED:20240116T204847Z
LAST-MODIFIED:20240116T204847Z
UID:10003965-1708190100-1708201800@broad.msu.edu
SUMMARY:Leadership in Action\, Cultural Outing
DESCRIPTION:Join us for our first ever Cultural Outing! Part of being a leader is being curious\, learning about new people and cultures\, WHILE supporting other student leaders. We will gather for a FREE dinner in Broad and then head over to watch the spectacular APIDA Cultural Vogue in the Wharton Center. Both events are free to students. Dinner will be from 5:15pm-6pm\, and the show will be from 6:30pm-8:30pm. Register to join us today!
URL:https://broad.msu.edu/event/leadership-in-action-cultural-outing/
LOCATION:Multi-Purpose Room\, 632 Bogue Street\, East Lansing\, MI\, 48824\, United States
CATEGORIES:Ethics & Social Responsibility
ORGANIZER;CN="Beth Hammond":MAILTO:hammon25@msu.edu
END:VEVENT
END:VCALENDAR