BEGIN:VCALENDAR
VERSION:2.0
PRODID:-//Eli Broad College of Business | Michigan State University - ECPv6.15.17.1//NONSGML v1.0//EN
CALSCALE:GREGORIAN
METHOD:PUBLISH
X-ORIGINAL-URL:https://broad.msu.edu
X-WR-CALDESC:Events for Eli Broad College of Business | Michigan State University
REFRESH-INTERVAL;VALUE=DURATION:PT1H
X-Robots-Tag:noindex
X-PUBLISHED-TTL:PT1H
BEGIN:VTIMEZONE
TZID:America/Detroit
BEGIN:DAYLIGHT
TZOFFSETFROM:-0500
TZOFFSETTO:-0400
TZNAME:EDT
DTSTART:20200308T070000
END:DAYLIGHT
BEGIN:STANDARD
TZOFFSETFROM:-0400
TZOFFSETTO:-0500
TZNAME:EST
DTSTART:20201101T060000
END:STANDARD
BEGIN:DAYLIGHT
TZOFFSETFROM:-0500
TZOFFSETTO:-0400
TZNAME:EDT
DTSTART:20210314T070000
END:DAYLIGHT
BEGIN:STANDARD
TZOFFSETFROM:-0400
TZOFFSETTO:-0500
TZNAME:EST
DTSTART:20211107T060000
END:STANDARD
BEGIN:DAYLIGHT
TZOFFSETFROM:-0500
TZOFFSETTO:-0400
TZNAME:EDT
DTSTART:20220313T070000
END:DAYLIGHT
BEGIN:STANDARD
TZOFFSETFROM:-0400
TZOFFSETTO:-0500
TZNAME:EST
DTSTART:20221106T060000
END:STANDARD
END:VTIMEZONE
BEGIN:VEVENT
DTSTART;TZID=America/Detroit:20210422T080000
DTEND;TZID=America/Detroit:20210422T091500
DTSTAMP:20260422T024052
CREATED:20210330T173256Z
LAST-MODIFIED:20210330T173335Z
UID:10003338-1619078400-1619082900@broad.msu.edu
SUMMARY:Business and Bagels: Critical Thinking Skills For Business Decision Making
DESCRIPTION:Today’s business environment is characterized by rapid change\, uncertainty\, and unpredictability. To successfully navigate these conditions\, we need to learn specific skills that help us override instinctive thinking and consider different perspectives and approaches. Once we learn these skills and put them to use\, we can prevent time-consuming problems before they arise. Attend April’s Business and Bagels to learn how critical thinking skills can make your decision-making process better suited for today’s business environment. \nSession Presenter\nMichael Rip\, Ph.D.\, is an Assistant Professor of Management for the Eli Broad College of Business at Michigan State University\, and a founding director of the MSU’s Healthcare Management Program. He has collaborated extensively with the School of Criminal Justice to strategize a framework for intelligence analysts and law enforcement offices within the FBI and the United States Department of Homeland Security. Rip has integrated problem prevention science and critical thinking for innovation leaders in major corporations such as Microsoft\, Amway\, and Blue Cross Blue Shield. He is the founder of Mind Leap\, a consulting firm offering training around the world for improved decision-making\, problem solving\, and innovation.
URL:https://broad.msu.edu/event/business-and-bagels-april/
LOCATION:Online
CATEGORIES:Executive Development Programs,Featured Events,Management
ORGANIZER;CN="Executive Development Programs":MAILTO:edp@broad.msu.edu
END:VEVENT
END:VCALENDAR