BEGIN:VCALENDAR
VERSION:2.0
PRODID:-//Eli Broad College of Business | Michigan State University - ECPv6.15.17.1//NONSGML v1.0//EN
CALSCALE:GREGORIAN
METHOD:PUBLISH
X-WR-CALNAME:Eli Broad College of Business | Michigan State University
X-ORIGINAL-URL:https://broad.msu.edu
X-WR-CALDESC:Events for Eli Broad College of Business | Michigan State University
REFRESH-INTERVAL;VALUE=DURATION:PT1H
X-Robots-Tag:noindex
X-PUBLISHED-TTL:PT1H
BEGIN:VTIMEZONE
TZID:America/Detroit
BEGIN:DAYLIGHT
TZOFFSETFROM:-0500
TZOFFSETTO:-0400
TZNAME:EDT
DTSTART:20200308T070000
END:DAYLIGHT
BEGIN:STANDARD
TZOFFSETFROM:-0400
TZOFFSETTO:-0500
TZNAME:EST
DTSTART:20201101T060000
END:STANDARD
BEGIN:DAYLIGHT
TZOFFSETFROM:-0500
TZOFFSETTO:-0400
TZNAME:EDT
DTSTART:20210314T070000
END:DAYLIGHT
BEGIN:STANDARD
TZOFFSETFROM:-0400
TZOFFSETTO:-0500
TZNAME:EST
DTSTART:20211107T060000
END:STANDARD
BEGIN:DAYLIGHT
TZOFFSETFROM:-0500
TZOFFSETTO:-0400
TZNAME:EDT
DTSTART:20220313T070000
END:DAYLIGHT
BEGIN:STANDARD
TZOFFSETFROM:-0400
TZOFFSETTO:-0500
TZNAME:EST
DTSTART:20221106T060000
END:STANDARD
END:VTIMEZONE
BEGIN:VEVENT
DTSTART;TZID=America/Detroit:20211204T100000
DTEND;TZID=America/Detroit:20211204T130000
DTSTAMP:20260420T155249
CREATED:20210825T142156Z
LAST-MODIFIED:20210922T184502Z
UID:10003453-1638612000-1638622800@broad.msu.edu
SUMMARY:Executive MBA | Program Preview | Lansing
DESCRIPTION:Join Kara Tripi\, Assistant Director of the Executive MBA Program\, to learn about the program\, meet alumni and current students\, and observe a class. \nAgenda: \n10:00 a.m. | Short Information Session\n11:00 a.m. | Observe Executive MBA Class\n12:00 p.m. | Lunch with Current Students and Faculty \n*As of publication of this event\, all visitors of MSU must wear appropriate face coverings indoors.
URL:https://broad.msu.edu/event/executive-mba-program-preview-lansing-4-december2021/
LOCATION:Henry Center for Executive Development\, 3535 Forest Rd\, East Lansing\, MI\, 48910\, United States
CATEGORIES:Admissions Events,Executive MBA,Featured Events
ORGANIZER;CN="Kara Tripi":MAILTO:ktripi@broad.msu.edu
END:VEVENT
BEGIN:VEVENT
DTSTART;TZID=America/Detroit:20211204T100000
DTEND;TZID=America/Detroit:20211204T130000
DTSTAMP:20260420T155249
CREATED:20210825T152815Z
LAST-MODIFIED:20210922T184510Z
UID:10003455-1638612000-1638622800@broad.msu.edu
SUMMARY:Executive MBA | Program Preview | Troy
DESCRIPTION:Join Greg Janicki\, Director of the Executive MBA Program\, to learn about the program\, meet alumni and current students\, and observe a class. \nAgenda: \n10:00 a.m. | Short Information Session\n11:00 a.m. | Observe Executive MBA Class\n12:00 p.m. | Lunch with Current Students and Faculty \n*As of publication of this event\, all visitors of MSU must wear appropriate face coverings indoors.
URL:https://broad.msu.edu/event/executive-mba-program-preview-troy-7-december2021/
LOCATION:Management Education Center\, 811 W Square Lake Rd\, Troy\, MI\, 48098\, United States
CATEGORIES:Admissions Events,Executive MBA,Featured Events
ORGANIZER;CN="Sarah Ellis%2C Admissions & Academic Services Manager":MAILTO:sellis@broad.msu.edu
END:VEVENT
BEGIN:VEVENT
DTSTART;TZID=America/Detroit:20211207T120000
DTEND;TZID=America/Detroit:20211207T130000
DTSTAMP:20260420T155249
CREATED:20210825T141331Z
LAST-MODIFIED:20210922T184534Z
UID:10003452-1638878400-1638882000@broad.msu.edu
SUMMARY:Broad Executive MBA | Virtual Program Preview
DESCRIPTION:Join Greg Janicki\,  Director of the Broad College Executive MBA Program\, in a virtual program preview. This webinar will provide details regarding the academic program\, admission criteria\, and tuition/program fees. \nAgenda \n\nInformation Session\nQ & A\nConnecting with program alumni
URL:https://broad.msu.edu/event/executive-mba-virtual-program-preview-december2021/
LOCATION:Online
CATEGORIES:Admissions Events,Executive MBA,Featured Events
ORGANIZER;CN="Sarah Ellis%2C Admissions & Academic Services Manager":MAILTO:sellis@broad.msu.edu
END:VEVENT
END:VCALENDAR