BEGIN:VCALENDAR
VERSION:2.0
PRODID:-//Eli Broad College of Business | Michigan State University - ECPv6.15.17.1//NONSGML v1.0//EN
CALSCALE:GREGORIAN
METHOD:PUBLISH
X-WR-CALNAME:Eli Broad College of Business | Michigan State University
X-ORIGINAL-URL:https://broad.msu.edu
X-WR-CALDESC:Events for Eli Broad College of Business | Michigan State University
REFRESH-INTERVAL;VALUE=DURATION:PT1H
X-Robots-Tag:noindex
X-PUBLISHED-TTL:PT1H
BEGIN:VTIMEZONE
TZID:America/Detroit
BEGIN:DAYLIGHT
TZOFFSETFROM:-0500
TZOFFSETTO:-0400
TZNAME:EDT
DTSTART:20230312T070000
END:DAYLIGHT
BEGIN:STANDARD
TZOFFSETFROM:-0400
TZOFFSETTO:-0500
TZNAME:EST
DTSTART:20231105T060000
END:STANDARD
BEGIN:DAYLIGHT
TZOFFSETFROM:-0500
TZOFFSETTO:-0400
TZNAME:EDT
DTSTART:20240310T070000
END:DAYLIGHT
BEGIN:STANDARD
TZOFFSETFROM:-0400
TZOFFSETTO:-0500
TZNAME:EST
DTSTART:20241103T060000
END:STANDARD
BEGIN:DAYLIGHT
TZOFFSETFROM:-0500
TZOFFSETTO:-0400
TZNAME:EDT
DTSTART:20250309T070000
END:DAYLIGHT
BEGIN:STANDARD
TZOFFSETFROM:-0400
TZOFFSETTO:-0500
TZNAME:EST
DTSTART:20251102T060000
END:STANDARD
END:VTIMEZONE
BEGIN:VEVENT
DTSTART;VALUE=DATE:20240404
DTEND;VALUE=DATE:20240406
DTSTAMP:20260424T011736
CREATED:20240109T142440Z
LAST-MODIFIED:20240124T155129Z
UID:10003948-1712188800-1712361599@broad.msu.edu
SUMMARY:Hospitality Business: Schmidgall Lecture Series
DESCRIPTION:Schmidgall Lecture Series presentations are scheduled for Thursday\, April 4 and Friday\, April 5. Thursday’s 3 p.m. session will be held in Minskoff Pavilion (Multipurpose Room). A dinner is scheduled for the University Club (by invitation). Friday’s 12:40 p.m. session is scheduled in Room N100 (in conjunction with HB 100 – Introduction to Hospitality Business). \nThursday\, April 4\, 2024 \n\nLecture\, 3:00 p.m.\, Multipurpose Room\, Minskoff Pavilion\nDinner\, 5:30 p.m.\, Fireplace Room\, The University Club of MSU\n\nFriday\, April 5\, 2024 \n\nLecture\, 12:40 p.m.\, N100\, North Business Complex
URL:https://broad.msu.edu/event/hospitality-business-schmidgall-lecture-series/
LOCATION:Minskoff Pavilion\, 651 N Shaw Ln\, East Lansing\, MI\, 48824\, United States
CATEGORIES:Featured Events,Hospitality Business
END:VEVENT
BEGIN:VEVENT
DTSTART;TZID=America/Detroit:20240404T160000
DTEND;TZID=America/Detroit:20240404T200000
DTSTAMP:20260424T011736
CREATED:20240117T192451Z
LAST-MODIFIED:20240117T192451Z
UID:10003979-1712246400-1712260800@broad.msu.edu
SUMMARY:2024 Burgess New Venture Challenge
DESCRIPTION:As part of Entrepreneurship & Innovation Week\, the Burgess New Venture Challenge\, hosted by the Burgess Institute for Entrepreneurship & Innovation\, is the premier pitch competition for student venturers at Michigan State University. On Thursday\, April 4\, 2024\, fifteen student semifinalists will have the chance to compete for a share of $50\,000 in funding.For nearly two centuries\, Spartans have ventured to feed a hungry world\, fight cancer\, invent new technologies\, and kindle the imaginations of learners around the globe. We empowered our Spartan venturers to harness the power of the entrepreneurial mindset\, work together\, and leverage their team’s strengths to create a winning startup. To join us on Thursday\, April 4\, 2024\, register now to celebrate our student venturers and recognize and honor fellow entrepreneurs and innovators across the Spartan nation.
URL:https://broad.msu.edu/event/2024-burgess-new-venture-challenge/
LOCATION:Kellogg Hotel & Conference Center\, 219 S Harrison Rd\, East Lansing\, MI\, 48824\, United States
CATEGORIES:Entrepreneurship,Featured Events
ORGANIZER;CN="Aubrey Haase":MAILTO:haaseaub@msu.edu
END:VEVENT
END:VCALENDAR