BEGIN:VCALENDAR
VERSION:2.0
PRODID:-//Eli Broad College of Business | Michigan State University - ECPv6.15.17.1//NONSGML v1.0//EN
CALSCALE:GREGORIAN
METHOD:PUBLISH
X-WR-CALNAME:Eli Broad College of Business | Michigan State University
X-ORIGINAL-URL:https://broad.msu.edu
X-WR-CALDESC:Events for Eli Broad College of Business | Michigan State University
REFRESH-INTERVAL;VALUE=DURATION:PT1H
X-Robots-Tag:noindex
X-PUBLISHED-TTL:PT1H
BEGIN:VTIMEZONE
TZID:America/Detroit
BEGIN:DAYLIGHT
TZOFFSETFROM:-0500
TZOFFSETTO:-0400
TZNAME:EDT
DTSTART:20250309T070000
END:DAYLIGHT
BEGIN:STANDARD
TZOFFSETFROM:-0400
TZOFFSETTO:-0500
TZNAME:EST
DTSTART:20251102T060000
END:STANDARD
BEGIN:DAYLIGHT
TZOFFSETFROM:-0500
TZOFFSETTO:-0400
TZNAME:EDT
DTSTART:20260308T070000
END:DAYLIGHT
BEGIN:STANDARD
TZOFFSETFROM:-0400
TZOFFSETTO:-0500
TZNAME:EST
DTSTART:20261101T060000
END:STANDARD
BEGIN:DAYLIGHT
TZOFFSETFROM:-0500
TZOFFSETTO:-0400
TZNAME:EDT
DTSTART:20270314T070000
END:DAYLIGHT
BEGIN:STANDARD
TZOFFSETFROM:-0400
TZOFFSETTO:-0500
TZNAME:EST
DTSTART:20271107T060000
END:STANDARD
END:VTIMEZONE
BEGIN:VEVENT
DTSTART;TZID=America/Detroit:20260216T173000
DTEND;TZID=America/Detroit:20260216T183000
DTSTAMP:20260423T034710
CREATED:20251216T203001Z
LAST-MODIFIED:20260202T160507Z
UID:10004590-1771263000-1771266600@broad.msu.edu
SUMMARY:Ethics of Complicity: The Economy of the Holocaust
DESCRIPTION:Join us to learn from leaders at The Zekelman Holocaust Center to explore a critical and often overlooked aspect of this history: how corporate complicity helped support the murder of over 6 million Jewish people. This event is a significant opportunity to understand the intersection of corporate responsibility and historical events. Learn from people who had the courage to stand up and intervene in big and small ways that saved lives. Register to join us on Monday\, February 16th from 5:30pm-6:30pm!
URL:https://broad.msu.edu/event/ethics-of-complicity-the-economy-of-the-holocaust/
LOCATION:East Lansing\, MI\, MI\, United States
CATEGORIES:College-wide Events,Ethics & Social Responsibility,Featured Events
ORGANIZER;CN="Beth Hammond":MAILTO:hammon25@msu.edu
END:VEVENT
BEGIN:VEVENT
DTSTART;TZID=America/Detroit:20260218T071500
DTEND;TZID=America/Detroit:20260218T080000
DTSTAMP:20260423T034710
CREATED:20230209T195204Z
LAST-MODIFIED:20260210T171420Z
UID:10003696-1771398900-1771401600@broad.msu.edu
SUMMARY:Hospitality Business: Club Managers and Alumni Meet-Up
DESCRIPTION:Consider attending a gathering with hospitality business alumni and students who traveled to attend the CMAA World Conference & Club Business Expo. Join before opening business session on Wednesday\, February 18 at 7:15 a.m. at the Royal Cup Coffee area. Register with Allegra at: GAmanagingdirector@gmail.com \nThank you for your ongoing support of The School of Hospitality Business.
URL:https://broad.msu.edu/event/hospitality-business-alumni-club-managers-breakfast/
LOCATION:Anaheim Convention Center\, 800 W Katella Avenue\, Anaheim\, CA\, 92802\, United States
CATEGORIES:Alumni Events,Featured Events,Hospitality Business
END:VEVENT
BEGIN:VEVENT
DTSTART;TZID=America/Detroit:20260218T173000
DTEND;TZID=America/Detroit:20260218T183000
DTSTAMP:20260423T034710
CREATED:20251216T203735Z
LAST-MODIFIED:20260202T163426Z
UID:10004592-1771435800-1771439400@broad.msu.edu
SUMMARY:The Roy S. Pung Executive Speaker Lecture featuring Kay Firth-Butterfield
DESCRIPTION:Artificial Intelligence has intersected all our lives in big and small ways. We are thrilled to welcome Kay Firth-Butterfield\, former Head of Artificial Intelligence and member of the Executive Committee at the World Economic Forum and is one of the foremost experts in the world on the governance of AI to campus. Kay will be addressing many aspects of the beneficial and challenging technical\, economic\, and social changes arising from the use of AI. She has been consistently recognized as a leading woman in AI since 2018 and was featured in the New York Times as one of 10 Women Changing the Landscape of Leadership. Register to join us on Wednesday\, February 18th from 5:30pm-6:30pm!
URL:https://broad.msu.edu/event/the-roy-s-pung-executive-speaker-lecture-featuring-kay-firth-butterfield/
LOCATION:Virtual
CATEGORIES:College-wide Events,Ethics & Social Responsibility,Featured Events
ORGANIZER;CN="Beth Hammond":MAILTO:hammon25@msu.edu
END:VEVENT
END:VCALENDAR