BEGIN:VCALENDAR
VERSION:2.0
PRODID:-//Eli Broad College of Business | Michigan State University - ECPv6.15.17.1//NONSGML v1.0//EN
CALSCALE:GREGORIAN
METHOD:PUBLISH
X-WR-CALNAME:Eli Broad College of Business | Michigan State University
X-ORIGINAL-URL:https://broad.msu.edu
X-WR-CALDESC:Events for Eli Broad College of Business | Michigan State University
REFRESH-INTERVAL;VALUE=DURATION:PT1H
X-Robots-Tag:noindex
X-PUBLISHED-TTL:PT1H
BEGIN:VTIMEZONE
TZID:America/Detroit
BEGIN:DAYLIGHT
TZOFFSETFROM:-0500
TZOFFSETTO:-0400
TZNAME:EDT
DTSTART:20180311T070000
END:DAYLIGHT
BEGIN:STANDARD
TZOFFSETFROM:-0400
TZOFFSETTO:-0500
TZNAME:EST
DTSTART:20181104T060000
END:STANDARD
BEGIN:DAYLIGHT
TZOFFSETFROM:-0500
TZOFFSETTO:-0400
TZNAME:EDT
DTSTART:20190310T070000
END:DAYLIGHT
BEGIN:STANDARD
TZOFFSETFROM:-0400
TZOFFSETTO:-0500
TZNAME:EST
DTSTART:20191103T060000
END:STANDARD
BEGIN:DAYLIGHT
TZOFFSETFROM:-0500
TZOFFSETTO:-0400
TZNAME:EDT
DTSTART:20200308T070000
END:DAYLIGHT
BEGIN:STANDARD
TZOFFSETFROM:-0400
TZOFFSETTO:-0500
TZNAME:EST
DTSTART:20201101T060000
END:STANDARD
END:VTIMEZONE
BEGIN:VEVENT
DTSTART;TZID=America/Detroit:20190905T183000
DTEND;TZID=America/Detroit:20190905T203000
DTSTAMP:20260422T230023
CREATED:20190712T010233Z
LAST-MODIFIED:20210219T183118Z
UID:10002939-1567708200-1567715400@broad.msu.edu
SUMMARY:Broad on the Road 2019: Detroit
DESCRIPTION:Join the MSU MBA admissions team for drinks and appetizers at the Roak Brewing Co. in Royal Oak. At this event\, you’ll have the opportunity to learn more about our program\, our admissions requirements and network with MSU Full-Time MBA alumni. \nAll attendees will receive an application fee waiver to apply for the Fall 2020 start term.
URL:https://broad.msu.edu/event/full-time-mba-broad-on-the-road-2019-detroit/
LOCATION:Roak Brewing Co.\, 330 E Lincoln Ave\, Royal Oak\, MI\, 48067\, United States
CATEGORIES:Full-Time MBA
ORGANIZER;CN="Beth Thomas":MAILTO:thomase@msu.edu
END:VEVENT
BEGIN:VEVENT
DTSTART;TZID=America/Detroit:20190912T183000
DTEND;TZID=America/Detroit:20190912T203000
DTSTAMP:20260422T230023
CREATED:20190712T012526Z
LAST-MODIFIED:20190712T012526Z
UID:10002940-1568313000-1568320200@broad.msu.edu
SUMMARY:Broad on the Road 2019: Grand Rapids
DESCRIPTION:Join the MSU MBA admissions team for drinks and appetizers at New Holland Brewing – The Knickerbocker. At this event\, you’ll have the opportunity to learn more about our program\, our admissions requirements and network with MSU Full-Time MBA alumni. \nAll attendees will receive an application fee waiver to apply for the Fall 2020 start term. \n 
URL:https://broad.msu.edu/event/broad-on-the-road-2019-grand-rapids/
CATEGORIES:Full-Time MBA
ORGANIZER;CN="Beth Thomas":MAILTO:thomase@msu.edu
END:VEVENT
BEGIN:VEVENT
DTSTART;TZID=America/Detroit:20190924T190000
DTEND;TZID=America/Detroit:20190924T200000
DTSTAMP:20260422T230023
CREATED:20190904T171857Z
LAST-MODIFIED:20190905T184306Z
UID:10003000-1569351600-1569355200@broad.msu.edu
SUMMARY:Webinar: The MBA and The MSU Broad Advantage
DESCRIPTION:Interested in an MBA and want to learn more? This webinar will talk about the macro landscape of the MBA and share how Michigan State Broad MBA is a leader in preparing students for their future.  An admissions officer will be available at the end of the webinar for Q&A.
URL:https://broad.msu.edu/event/full-time-mba-broad-advantage/
LOCATION:Online
CATEGORIES:Admissions Events,Full-Time MBA
ORGANIZER;CN="MBA Admissions":MAILTO:mba@msu.edu
END:VEVENT
END:VCALENDAR