BEGIN:VCALENDAR
VERSION:2.0
PRODID:-//Eli Broad College of Business | Michigan State University - ECPv6.15.17.1//NONSGML v1.0//EN
CALSCALE:GREGORIAN
METHOD:PUBLISH
X-WR-CALNAME:Eli Broad College of Business | Michigan State University
X-ORIGINAL-URL:https://broad.msu.edu
X-WR-CALDESC:Events for Eli Broad College of Business | Michigan State University
REFRESH-INTERVAL;VALUE=DURATION:PT1H
X-Robots-Tag:noindex
X-PUBLISHED-TTL:PT1H
BEGIN:VTIMEZONE
TZID:America/Detroit
BEGIN:DAYLIGHT
TZOFFSETFROM:-0500
TZOFFSETTO:-0400
TZNAME:EDT
DTSTART:20190310T070000
END:DAYLIGHT
BEGIN:STANDARD
TZOFFSETFROM:-0400
TZOFFSETTO:-0500
TZNAME:EST
DTSTART:20191103T060000
END:STANDARD
BEGIN:DAYLIGHT
TZOFFSETFROM:-0500
TZOFFSETTO:-0400
TZNAME:EDT
DTSTART:20200308T070000
END:DAYLIGHT
BEGIN:STANDARD
TZOFFSETFROM:-0400
TZOFFSETTO:-0500
TZNAME:EST
DTSTART:20201101T060000
END:STANDARD
BEGIN:DAYLIGHT
TZOFFSETFROM:-0500
TZOFFSETTO:-0400
TZNAME:EDT
DTSTART:20210314T070000
END:DAYLIGHT
BEGIN:STANDARD
TZOFFSETFROM:-0400
TZOFFSETTO:-0500
TZNAME:EST
DTSTART:20211107T060000
END:STANDARD
END:VTIMEZONE
BEGIN:VEVENT
DTSTART;TZID=America/Detroit:20200204T120000
DTEND;TZID=America/Detroit:20200204T130000
DTSTAMP:20260422T030649
CREATED:20200106T140602Z
LAST-MODIFIED:20210219T183429Z
UID:10003049-1580817600-1580821200@broad.msu.edu
SUMMARY:Webinar: Managing Your Career at Broad
DESCRIPTION:Learn how our career management team helps Broad MBAs achieve their career goals through coaching\, mentoring\, recruiting events and workshops. \n  \nAttendees will receive an app fee waiver for the Fall 2020 intake of the Broad Full-Time MBA. \n 
URL:https://broad.msu.edu/event/full-time-mba-webinar-managing-your-career-at-broad/
LOCATION:Online
CATEGORIES:Admissions Events,Full-Time MBA
ORGANIZER;CN="Kate Irwin":MAILTO:irwinkat@msu.edu
END:VEVENT
BEGIN:VEVENT
DTSTART;TZID=America/Detroit:20200208T090000
DTEND;TZID=America/Detroit:20200208T130000
DTSTAMP:20260422T030649
CREATED:20200102T184740Z
LAST-MODIFIED:20210219T183439Z
UID:10003048-1581152400-1581166800@broad.msu.edu
SUMMARY:Broad Full-Time MBA Winter 2020 Exploration Program
DESCRIPTION:At Michigan State University’s Full-Time MBA Exploration Program\, admissions officers and current students will provide valuable information on admissions requirements\, academics\, career outcomes\, student life and program rigors to help you determine if our Full-Time MBA program is right for you.\n\n\nIf you are interested in having an evaluative interview during the Exploration Program\, please email Scott Smith at smith535@msu.edu.\nAgenda\n\n\n\n\n\n\n\n\n\n9:00 AM – 9:30 AM\nCheck-in and Continental Breakfast\n\n\n9:30 AM – 10:15 AM\nWelcome & Program Overview\n\n\n10:30 AM – 11:30 AM\nCurrent Student Panel\n\n\n11:30 AM – 12:30 PM\nLunch\n\n\n12:00 PM – 1:00 PM\nEvaluative Interviews (optional)\n\n\n\n\n\n\n\n\n  \n\nAttendees will receive an app fee waiver for the Fall 2020 intake of the Broad Full-Time MBA.
URL:https://broad.msu.edu/event/full-time-mba-winter-2020-exploration-program/
LOCATION:Minskoff Pavilion\, 651 N Shaw Ln\, East Lansing\, MI\, 48824\, United States
CATEGORIES:Admissions Events,Full-Time MBA
ORGANIZER;CN="Kate Irwin":MAILTO:irwinkat@msu.edu
END:VEVENT
BEGIN:VEVENT
DTSTART;TZID=America/Detroit:20200213T180000
DTEND;TZID=America/Detroit:20200213T200000
DTSTAMP:20260422T030649
CREATED:20200110T191717Z
LAST-MODIFIED:20210219T183516Z
UID:10003052-1581616800-1581624000@broad.msu.edu
SUMMARY:Broad on the Road 2020: Metro Detroit
DESCRIPTION:You are invited to join the MSU MBA admissions team for drinks and appetizers at HopCat in Royal Oak\, MI. At this event\, you’ll have the opportunity to learn more about our program\, our admissions requirements and network with MSU Full-Time MBA students and alumni. \nAll attendees will receive an application fee waiver for the Fall 2020 intake of the Broad Full-Time MBA.
URL:https://broad.msu.edu/event/full-time-mba-broad-on-the-road-2020-royal-oak/
LOCATION:HopCat Royal Oak\, 208 W 5th St\, Royal Oak\, MI\, 48067\, United States
CATEGORIES:Admissions Events,Full-Time MBA
ORGANIZER;CN="Kate Irwin":MAILTO:irwinkat@msu.edu
END:VEVENT
BEGIN:VEVENT
DTSTART;TZID=America/Detroit:20200218T190000
DTEND;TZID=America/Detroit:20200218T200000
DTSTAMP:20260422T030649
CREATED:20200106T185942Z
LAST-MODIFIED:20210219T183531Z
UID:10003050-1582052400-1582056000@broad.msu.edu
SUMMARY:Webinar: Preparing for an MBA
DESCRIPTION:Connect with our Director of Admissions\, Scott Smith\, to learn about how to best prepare for your MBA application\, interview and overall Broad Full-Time MBA experience. \nAttendees will receive an app fee waiver for the Fall 2020 intake of the Broad Full-Time MBA.
URL:https://broad.msu.edu/event/executive-mba-webinar-preparing-for-an-mba/
LOCATION:Online
CATEGORIES:Admissions Events,Full-Time MBA
END:VEVENT
BEGIN:VEVENT
DTSTART;TZID=America/Detroit:20200220T180000
DTEND;TZID=America/Detroit:20200220T200000
DTSTAMP:20260422T030649
CREATED:20200113T143916Z
LAST-MODIFIED:20210219T183602Z
UID:10003053-1582221600-1582228800@broad.msu.edu
SUMMARY:Broad on the Road 2020: Grand Rapids
DESCRIPTION:You’re invited to join the MSU MBA admissions team for drinks and appetizers at 7 Monks Taproom in Grand Rapids. At this event\, you’ll have the opportunity to learn more about our program\, our admissions requirements and network with MSU Full-Time MBA students and alumni. \nAll attendees will receive an application fee waiver for the Fall 2020 intake of the Broad Full-Time MBA.
URL:https://broad.msu.edu/event/full-time-mba-broad-on-the-road-2020-grand-rapids/
LOCATION:7 Monks Taproom\, 740 Michigan St NE\, Grand Rapids\, MI\, 49503\, United States
CATEGORIES:Admissions Events,Full-Time MBA
ORGANIZER;CN="Kate Irwin":MAILTO:irwinkat@msu.edu
END:VEVENT
END:VCALENDAR