BEGIN:VCALENDAR
VERSION:2.0
PRODID:-//Eli Broad College of Business | Michigan State University - ECPv6.15.17.1//NONSGML v1.0//EN
CALSCALE:GREGORIAN
METHOD:PUBLISH
X-WR-CALNAME:Eli Broad College of Business | Michigan State University
X-ORIGINAL-URL:https://broad.msu.edu
X-WR-CALDESC:Events for Eli Broad College of Business | Michigan State University
REFRESH-INTERVAL;VALUE=DURATION:PT1H
X-Robots-Tag:noindex
X-PUBLISHED-TTL:PT1H
BEGIN:VTIMEZONE
TZID:America/Detroit
BEGIN:DAYLIGHT
TZOFFSETFROM:-0500
TZOFFSETTO:-0400
TZNAME:EDT
DTSTART:20190310T070000
END:DAYLIGHT
BEGIN:STANDARD
TZOFFSETFROM:-0400
TZOFFSETTO:-0500
TZNAME:EST
DTSTART:20191103T060000
END:STANDARD
BEGIN:DAYLIGHT
TZOFFSETFROM:-0500
TZOFFSETTO:-0400
TZNAME:EDT
DTSTART:20200308T070000
END:DAYLIGHT
BEGIN:STANDARD
TZOFFSETFROM:-0400
TZOFFSETTO:-0500
TZNAME:EST
DTSTART:20201101T060000
END:STANDARD
BEGIN:DAYLIGHT
TZOFFSETFROM:-0500
TZOFFSETTO:-0400
TZNAME:EDT
DTSTART:20210314T070000
END:DAYLIGHT
BEGIN:STANDARD
TZOFFSETFROM:-0400
TZOFFSETTO:-0500
TZNAME:EST
DTSTART:20211107T060000
END:STANDARD
END:VTIMEZONE
BEGIN:VEVENT
DTSTART;TZID=America/Detroit:20200324T120000
DTEND;TZID=America/Detroit:20200324T130000
DTSTAMP:20260425T110105
CREATED:20200106T220702Z
LAST-MODIFIED:20210219T183715Z
UID:10003051-1585051200-1585054800@broad.msu.edu
SUMMARY:Broad MBA Student Panel Webinar
DESCRIPTION:Get an insider’s perspective on the Broad Full-Time MBA and connect with current students to hear about their experiences in the program. You will be able to ask any questions you have about the Broad MBA during the webinar. \nAll attendees will receive an app fee waiver for the Fall 2020 intake of the Broad Full-Time MBA.
URL:https://broad.msu.edu/event/executive-mba-student-panel-webinar/
LOCATION:Online
CATEGORIES:Admissions Events,Full-Time MBA
ORGANIZER;CN="Kate Irwin":MAILTO:irwinkat@msu.edu
END:VEVENT
END:VCALENDAR