BEGIN:VCALENDAR
VERSION:2.0
PRODID:-//Eli Broad College of Business | Michigan State University - ECPv6.15.17.1//NONSGML v1.0//EN
CALSCALE:GREGORIAN
METHOD:PUBLISH
X-WR-CALNAME:Eli Broad College of Business | Michigan State University
X-ORIGINAL-URL:https://broad.msu.edu
X-WR-CALDESC:Events for Eli Broad College of Business | Michigan State University
REFRESH-INTERVAL;VALUE=DURATION:PT1H
X-Robots-Tag:noindex
X-PUBLISHED-TTL:PT1H
BEGIN:VTIMEZONE
TZID:America/Detroit
BEGIN:DAYLIGHT
TZOFFSETFROM:-0500
TZOFFSETTO:-0400
TZNAME:EDT
DTSTART:20200308T070000
END:DAYLIGHT
BEGIN:STANDARD
TZOFFSETFROM:-0400
TZOFFSETTO:-0500
TZNAME:EST
DTSTART:20201101T060000
END:STANDARD
BEGIN:DAYLIGHT
TZOFFSETFROM:-0500
TZOFFSETTO:-0400
TZNAME:EDT
DTSTART:20210314T070000
END:DAYLIGHT
BEGIN:STANDARD
TZOFFSETFROM:-0400
TZOFFSETTO:-0500
TZNAME:EST
DTSTART:20211107T060000
END:STANDARD
BEGIN:DAYLIGHT
TZOFFSETFROM:-0500
TZOFFSETTO:-0400
TZNAME:EDT
DTSTART:20220313T070000
END:DAYLIGHT
BEGIN:STANDARD
TZOFFSETFROM:-0400
TZOFFSETTO:-0500
TZNAME:EST
DTSTART:20221106T060000
END:STANDARD
END:VTIMEZONE
BEGIN:VEVENT
DTSTART;TZID=America/Detroit:20211007T160000
DTEND;TZID=America/Detroit:20211007T190000
DTSTAMP:20260425T110454
CREATED:20210824T194456Z
LAST-MODIFIED:20210824T194456Z
UID:10003124-1633622400-1633633200@broad.msu.edu
SUMMARY:Careers in Business - Marketing/Management Fair VIRTUAL
DESCRIPTION:Careers in Business –Marketing/Management Fair is the 4th of 5 Careers in Business Fairs taking place this fall. While this fair is geared towards Marketing/Management students\, all students and all majors are welcome to attend the fair. Students can register to attend 10 minute 1:1 sessions and/or 30 minute group sessions with employers. On the day of the fair\, students should log into Handshake utilizing Google Chrome or Mozilla Firefox on a computer for the best connection. When logging in to 1:1 or group sessions\, allow employers time to enter the session before logging out. Employers will be hosting back-to-back sessions and may be running behind.
URL:https://broad.msu.edu/event/careers-in-business-marketing-management-fair-virtual/
LOCATION:Online
CATEGORIES:Career Management,Management,Marketing,Recruiting Events
END:VEVENT
END:VCALENDAR