BEGIN:VCALENDAR
VERSION:2.0
PRODID:-//Eli Broad College of Business | Michigan State University - ECPv6.15.17.1//NONSGML v1.0//EN
CALSCALE:GREGORIAN
METHOD:PUBLISH
X-WR-CALNAME:Eli Broad College of Business | Michigan State University
X-ORIGINAL-URL:https://broad.msu.edu
X-WR-CALDESC:Events for Eli Broad College of Business | Michigan State University
REFRESH-INTERVAL;VALUE=DURATION:PT1H
X-Robots-Tag:noindex
X-PUBLISHED-TTL:PT1H
BEGIN:VTIMEZONE
TZID:America/Detroit
BEGIN:DAYLIGHT
TZOFFSETFROM:-0500
TZOFFSETTO:-0400
TZNAME:EDT
DTSTART:20190310T070000
END:DAYLIGHT
BEGIN:STANDARD
TZOFFSETFROM:-0400
TZOFFSETTO:-0500
TZNAME:EST
DTSTART:20191103T060000
END:STANDARD
BEGIN:DAYLIGHT
TZOFFSETFROM:-0500
TZOFFSETTO:-0400
TZNAME:EDT
DTSTART:20200308T070000
END:DAYLIGHT
BEGIN:STANDARD
TZOFFSETFROM:-0400
TZOFFSETTO:-0500
TZNAME:EST
DTSTART:20201101T060000
END:STANDARD
BEGIN:DAYLIGHT
TZOFFSETFROM:-0500
TZOFFSETTO:-0400
TZNAME:EDT
DTSTART:20210314T070000
END:DAYLIGHT
BEGIN:STANDARD
TZOFFSETFROM:-0400
TZOFFSETTO:-0500
TZNAME:EST
DTSTART:20211107T060000
END:STANDARD
END:VTIMEZONE
BEGIN:VEVENT
DTSTART;TZID=America/Detroit:20200217T183000
DTEND;TZID=America/Detroit:20200217T200000
DTSTAMP:20260420T232637
CREATED:20200123T143006Z
LAST-MODIFIED:20200123T143900Z
UID:10003055-1581964200-1581969600@broad.msu.edu
SUMMARY:Q&A with President Stanley
DESCRIPTION:  \nASMSU is hosting a Question and Answer event with President Samuel L. Stanley Jr.\, M.D. on Presidents’ Day and has extended an invitation to everyone in the Broad College to attend. The event will be held in Room N130 of the Business College Complex. \nStudents\, faculty and staff can submit questions to President Stanley in advance via an online form\, (login to Google account with MSU NetID required). \nAny questions can be directed to executive.assistant@asmsu.msu.edu.
URL:https://broad.msu.edu/event/qa-with-president-stanley/
LOCATION:North Business Building\, 632 Bogue St\, East Lansing\, MI\, 48824\, United States
CATEGORIES:Accounting,College-wide Events,Featured Events,Finance,Hospitality Business,Management,Marketing,Supply Chain Management,Undergraduate Events
ORGANIZER;CN="ASMSU":MAILTO:executive.assistant@asmsu.msu.edu
END:VEVENT
END:VCALENDAR