BEGIN:VCALENDAR
VERSION:2.0
PRODID:-//Eli Broad College of Business | Michigan State University - ECPv6.15.17.1//NONSGML v1.0//EN
CALSCALE:GREGORIAN
METHOD:PUBLISH
X-WR-CALNAME:Eli Broad College of Business | Michigan State University
X-ORIGINAL-URL:https://broad.msu.edu
X-WR-CALDESC:Events for Eli Broad College of Business | Michigan State University
REFRESH-INTERVAL;VALUE=DURATION:PT1H
X-Robots-Tag:noindex
X-PUBLISHED-TTL:PT1H
BEGIN:VTIMEZONE
TZID:America/Detroit
BEGIN:DAYLIGHT
TZOFFSETFROM:-0500
TZOFFSETTO:-0400
TZNAME:EDT
DTSTART:20210314T070000
END:DAYLIGHT
BEGIN:STANDARD
TZOFFSETFROM:-0400
TZOFFSETTO:-0500
TZNAME:EST
DTSTART:20211107T060000
END:STANDARD
BEGIN:DAYLIGHT
TZOFFSETFROM:-0500
TZOFFSETTO:-0400
TZNAME:EDT
DTSTART:20220313T070000
END:DAYLIGHT
BEGIN:STANDARD
TZOFFSETFROM:-0400
TZOFFSETTO:-0500
TZNAME:EST
DTSTART:20221106T060000
END:STANDARD
BEGIN:DAYLIGHT
TZOFFSETFROM:-0500
TZOFFSETTO:-0400
TZNAME:EDT
DTSTART:20230312T070000
END:DAYLIGHT
BEGIN:STANDARD
TZOFFSETFROM:-0400
TZOFFSETTO:-0500
TZNAME:EST
DTSTART:20231105T060000
END:STANDARD
END:VTIMEZONE
BEGIN:VEVENT
DTSTART;TZID=America/Detroit:20220610T090000
DTEND;TZID=America/Detroit:20220610T093000
DTSTAMP:20260420T100703
CREATED:20220520T203118Z
LAST-MODIFIED:20230220T201108Z
UID:10003539-1654851600-1654853400@broad.msu.edu
SUMMARY:MS-CXM Virtual Info Session
DESCRIPTION:Join us for this virtual information session to learn more about the MSU MS-CXM program. All attendees and questions are welcome!
URL:https://broad.msu.edu/event/virtual-info-sessions/2022-06-10/
LOCATION:Online
CATEGORIES:Admissions Events,M.S. in Customer Experience Management,Marketing
ORGANIZER;CN="Tom DeWitt":MAILTO:dewittth@msu.edu
END:VEVENT
BEGIN:VEVENT
DTSTART;TZID=America/Detroit:20220610T120000
DTEND;TZID=America/Detroit:20220610T123000
DTSTAMP:20260420T100703
CREATED:20220520T220351Z
LAST-MODIFIED:20220615T135307Z
UID:10003543-1654862400-1654864200@broad.msu.edu
SUMMARY:MS Marketing Research Virtual Info Sessions
DESCRIPTION:Join us for this virtual information session to learn more about the MSU MSMR program. All attendees and questions are welcome!
URL:https://broad.msu.edu/event/msmr-virtual-info-june/2022-06-10/
LOCATION:Virtual
CATEGORIES:Admissions Events,M.S. in Marketing Research,Marketing
END:VEVENT
BEGIN:VEVENT
DTSTART;TZID=America/Detroit:20220610T150000
DTEND;TZID=America/Detroit:20220610T153000
DTSTAMP:20260420T100703
CREATED:20220523T151704Z
LAST-MODIFIED:20230220T201729Z
UID:10003544-1654873200-1654875000@broad.msu.edu
SUMMARY:MS-CXM Virtual Info Session
DESCRIPTION:Join us for this virtual information session to learn more about the MSU MS-CXM program. All attendees and questions are welcome!
URL:https://broad.msu.edu/event/virtual-info-sessions-2/2022-06-10/
LOCATION:Online
CATEGORIES:Admissions Events,M.S. in Customer Experience Management,Marketing
ORGANIZER;CN="Tom DeWitt":MAILTO:dewittth@msu.edu
END:VEVENT
BEGIN:VEVENT
DTSTART;TZID=America/Detroit:20220617T090000
DTEND;TZID=America/Detroit:20220617T093000
DTSTAMP:20260420T100703
CREATED:20220520T203118Z
LAST-MODIFIED:20230220T201108Z
UID:10003540-1655456400-1655458200@broad.msu.edu
SUMMARY:MS-CXM Virtual Info Session
DESCRIPTION:Join us for this virtual information session to learn more about the MSU MS-CXM program. All attendees and questions are welcome!
URL:https://broad.msu.edu/event/virtual-info-sessions/2022-06-17/
LOCATION:Online
CATEGORIES:Admissions Events,M.S. in Customer Experience Management,Marketing
ORGANIZER;CN="Tom DeWitt":MAILTO:dewittth@msu.edu
END:VEVENT
BEGIN:VEVENT
DTSTART;TZID=America/Detroit:20220617T150000
DTEND;TZID=America/Detroit:20220617T153000
DTSTAMP:20260420T100703
CREATED:20220523T151704Z
LAST-MODIFIED:20230220T201729Z
UID:10003545-1655478000-1655479800@broad.msu.edu
SUMMARY:MS-CXM Virtual Info Session
DESCRIPTION:Join us for this virtual information session to learn more about the MSU MS-CXM program. All attendees and questions are welcome!
URL:https://broad.msu.edu/event/virtual-info-sessions-2/2022-06-17/
LOCATION:Online
CATEGORIES:Admissions Events,M.S. in Customer Experience Management,Marketing
ORGANIZER;CN="Tom DeWitt":MAILTO:dewittth@msu.edu
END:VEVENT
BEGIN:VEVENT
DTSTART;TZID=America/Detroit:20220624T090000
DTEND;TZID=America/Detroit:20220624T093000
DTSTAMP:20260420T100703
CREATED:20220520T203118Z
LAST-MODIFIED:20230220T201108Z
UID:10003541-1656061200-1656063000@broad.msu.edu
SUMMARY:MS-CXM Virtual Info Session
DESCRIPTION:Join us for this virtual information session to learn more about the MSU MS-CXM program. All attendees and questions are welcome!
URL:https://broad.msu.edu/event/virtual-info-sessions/2022-06-24/
LOCATION:Online
CATEGORIES:Admissions Events,M.S. in Customer Experience Management,Marketing
ORGANIZER;CN="Tom DeWitt":MAILTO:dewittth@msu.edu
END:VEVENT
BEGIN:VEVENT
DTSTART;TZID=America/Detroit:20220624T150000
DTEND;TZID=America/Detroit:20220624T153000
DTSTAMP:20260420T100703
CREATED:20220523T151704Z
LAST-MODIFIED:20230220T201729Z
UID:10003546-1656082800-1656084600@broad.msu.edu
SUMMARY:MS-CXM Virtual Info Session
DESCRIPTION:Join us for this virtual information session to learn more about the MSU MS-CXM program. All attendees and questions are welcome!
URL:https://broad.msu.edu/event/virtual-info-sessions-2/2022-06-24/
LOCATION:Online
CATEGORIES:Admissions Events,M.S. in Customer Experience Management,Marketing
ORGANIZER;CN="Tom DeWitt":MAILTO:dewittth@msu.edu
END:VEVENT
END:VCALENDAR