BEGIN:VCALENDAR
VERSION:2.0
PRODID:-//Eli Broad College of Business | Michigan State University - ECPv6.15.17.1//NONSGML v1.0//EN
CALSCALE:GREGORIAN
METHOD:PUBLISH
X-WR-CALNAME:Eli Broad College of Business | Michigan State University
X-ORIGINAL-URL:https://broad.msu.edu
X-WR-CALDESC:Events for Eli Broad College of Business | Michigan State University
REFRESH-INTERVAL;VALUE=DURATION:PT1H
X-Robots-Tag:noindex
X-PUBLISHED-TTL:PT1H
BEGIN:VTIMEZONE
TZID:America/Detroit
BEGIN:DAYLIGHT
TZOFFSETFROM:-0500
TZOFFSETTO:-0400
TZNAME:EDT
DTSTART:20210314T070000
END:DAYLIGHT
BEGIN:STANDARD
TZOFFSETFROM:-0400
TZOFFSETTO:-0500
TZNAME:EST
DTSTART:20211107T060000
END:STANDARD
BEGIN:DAYLIGHT
TZOFFSETFROM:-0500
TZOFFSETTO:-0400
TZNAME:EDT
DTSTART:20220313T070000
END:DAYLIGHT
BEGIN:STANDARD
TZOFFSETFROM:-0400
TZOFFSETTO:-0500
TZNAME:EST
DTSTART:20221106T060000
END:STANDARD
BEGIN:DAYLIGHT
TZOFFSETFROM:-0500
TZOFFSETTO:-0400
TZNAME:EDT
DTSTART:20230312T070000
END:DAYLIGHT
BEGIN:STANDARD
TZOFFSETFROM:-0400
TZOFFSETTO:-0500
TZNAME:EST
DTSTART:20231105T060000
END:STANDARD
END:VTIMEZONE
BEGIN:VEVENT
DTSTART;TZID=America/Detroit:20221019T160000
DTEND;TZID=America/Detroit:20221019T190000
DTSTAMP:20260423T203221
CREATED:20220527T153907Z
LAST-MODIFIED:20220601T132120Z
UID:10003221-1666195200-1666206000@broad.msu.edu
SUMMARY:Careers in Business - IN-PERSON All Majors Fair
DESCRIPTION:We invite you to join the MSU Broad College of Business Russell Palmer Career Management Center for the Careers in Business – IN-PERSON All Majors Fair. This event is one of five fair weeks in the Fall 2022 series and will take place in the Huntington Club at Spartan Stadium on Wednesday\, October 19 from 4:00pm-7:00pm. The event is open to undergraduate\, graduate\, and MBA students seeing internship and full-time opportunities in business.
URL:https://broad.msu.edu/event/careers-in-business-in-person-all-majors-fair/
LOCATION:The Huntington Club\, 535 Chestnut Rd\, East Lansing\, MI\, 48823\, United States
CATEGORIES:Accounting,Career Management,Featured Events,Finance,Management,Marketing,Recruiting Events,Supply Chain Management
ORGANIZER;CN="Taylor Bates":MAILTO:taybates@msu.edu
END:VEVENT
BEGIN:VEVENT
DTSTART;TZID=America/Detroit:20221020T160000
DTEND;TZID=America/Detroit:20221020T190000
DTSTAMP:20260423T203221
CREATED:20220527T154119Z
LAST-MODIFIED:20220527T154119Z
UID:10003222-1666281600-1666292400@broad.msu.edu
SUMMARY:Careers in Business - VIRTUAL All Majors Fair
DESCRIPTION:We invite you to join the MSU Broad College of Business Russell Palmer Career Management Center for the Careers in Business – VIRTUAL All Majors Fair. This event is one of five major-specific fair weeks in the Fall 2022 series and will take place on Handshake on Thursday\, October 20 from 4:00pm-7:00pm. The event is open to undergraduate\, graduate\, and MBA students seeing internship and full-time opportunities in business.
URL:https://broad.msu.edu/event/careers-in-business-virtual-all-majors-fair/
LOCATION:Online
CATEGORIES:Accounting,Career Management,Finance,Management,Marketing,Recruiting Events,Supply Chain Management
ORGANIZER;CN="Taylor Bates":MAILTO:taybates@msu.edu
END:VEVENT
BEGIN:VEVENT
DTSTART;TZID=America/Detroit:20221021T100000
DTEND;TZID=America/Detroit:20221021T160000
DTSTAMP:20260423T203221
CREATED:20220527T154314Z
LAST-MODIFIED:20220527T154314Z
UID:10003223-1666346400-1666368000@broad.msu.edu
SUMMARY:MSU Virtual Marketing Research Fall 2022 Fair
DESCRIPTION:This event will let you meet and recruit students from the comfort of your home\, office\, or anywhere you have internet access. We are excited for you to create meaningful connections among students who are ready to excel in a future new jobs or internship. During the fair\, you will be able to chat in real-time with Michigan State students in the MS in Marketing Research program. Students are seeking both current full time job opportunities and summer 2024 internship opportunities. Employers are welcome to offer video chat options for students seeking to connect with their company at the career fair as well.
URL:https://broad.msu.edu/event/msu-virtual-marketing-research-fall-2022-fair/
LOCATION:Online
CATEGORIES:Career Management,M.S. in Marketing Research,Marketing,Recruiting Events
ORGANIZER;CN="Kristina Reitler":MAILTO:baxenda1@msu.edu
END:VEVENT
END:VCALENDAR