BEGIN:VCALENDAR
VERSION:2.0
PRODID:-//Eli Broad College of Business | Michigan State University - ECPv6.15.17.1//NONSGML v1.0//EN
CALSCALE:GREGORIAN
METHOD:PUBLISH
X-ORIGINAL-URL:https://broad.msu.edu
X-WR-CALDESC:Events for Eli Broad College of Business | Michigan State University
REFRESH-INTERVAL;VALUE=DURATION:PT1H
X-Robots-Tag:noindex
X-PUBLISHED-TTL:PT1H
BEGIN:VTIMEZONE
TZID:America/Detroit
BEGIN:DAYLIGHT
TZOFFSETFROM:-0500
TZOFFSETTO:-0400
TZNAME:EDT
DTSTART:20190310T070000
END:DAYLIGHT
BEGIN:STANDARD
TZOFFSETFROM:-0400
TZOFFSETTO:-0500
TZNAME:EST
DTSTART:20191103T060000
END:STANDARD
BEGIN:DAYLIGHT
TZOFFSETFROM:-0500
TZOFFSETTO:-0400
TZNAME:EDT
DTSTART:20200308T070000
END:DAYLIGHT
BEGIN:STANDARD
TZOFFSETFROM:-0400
TZOFFSETTO:-0500
TZNAME:EST
DTSTART:20201101T060000
END:STANDARD
BEGIN:DAYLIGHT
TZOFFSETFROM:-0500
TZOFFSETTO:-0400
TZNAME:EDT
DTSTART:20210314T070000
END:DAYLIGHT
BEGIN:STANDARD
TZOFFSETFROM:-0400
TZOFFSETTO:-0500
TZNAME:EST
DTSTART:20211107T060000
END:STANDARD
END:VTIMEZONE
BEGIN:VEVENT
DTSTART;VALUE=DATE:20200623
DTEND;VALUE=DATE:20200923
DTSTAMP:20260423T092312
CREATED:20200612T145922Z
LAST-MODIFIED:20231024T215244Z
UID:10003089-1592870400-1600819199@broad.msu.edu
SUMMARY:Managing Through Crisis Summer Series
DESCRIPTION:SERIES INTRODUCTION\nPlease join us for a weekly series on managing through our current state of crisis: the coronavirus pandemic\, the national protests\, and the impact of both on our economy. The summer series includes live webinars and participant Q&As. Topics combine the passion and research of our faculty with insights into how the current state of crisis is impacting business. \nJump to Topic: \n\nJune 23\, 2020\, The COVID Economy: Looking into the Abyss and Beyond\nJune 30\, 2020\, The COVID-19 Infodemic\nJuly 7\, 2020\, Openness and Trust in a Remote Work Environment\nJuly 14\, 2020\, COVID and HR Implications\nJuly 21\, 2020\, Customer Experience in Our Current Environment\nJuly 28\, 2020\, Strategic Messaging During Crisis\nAugust 4\, 2020\, Leading Teams Under High Stress\nAugust 11\, 2020\, Digital disruption from COVID-19\nAugust 18\, 2020\, Using Social Media Successfully During Crisis\nAugust 25\, 2020\, Negotiations Post-Pandemic\nSeptember 1\, 2020\, Engaging Remote Employees\nSeptember 8\, 2020\, How to Realign Business Process Management with Changing Strategies\nSeptember 15\, 2020\, Consumer Behavior During Crisis\nSeptember 22\, 2020\, Value Innovation: How Should Innovation Change?
URL:https://broad.msu.edu/event/managing-through-crisis-summer-series/
LOCATION:Online
CATEGORIES:Alumni Events,Featured Events
ORGANIZER;CN="Alumni Relations":MAILTO:alumni@broad.msu.edu
END:VEVENT
BEGIN:VEVENT
DTSTART;TZID=America/Detroit:20200806T123000
DTEND;TZID=America/Detroit:20200806T133000
DTSTAMP:20260423T092312
CREATED:20200520T185139Z
LAST-MODIFIED:20200520T185139Z
UID:10002961-1596717000-1596720600@broad.msu.edu
SUMMARY:Summer Meetup Series: Branding Yourself in Writing (resumes & LinkedIn)
DESCRIPTION:Submitting your resume\, whether via Handshake\, through a direct email\, a career fair\, or a company website is the first step in making yourself noticed for an opportunity. Your LinkedIn profile is a “live” written value proposition that employers can see all of the time. Learn some tips about what makes a competitive resume and LinkedIn profile and what employers are seeking.
URL:https://broad.msu.edu/event/summer-meetup-series-branding-yourself-in-writing-resumes-linkedin/
LOCATION:Online
ORGANIZER;CN="Career Management":MAILTO:palmer@broad.msu.edu
END:VEVENT
BEGIN:VEVENT
DTSTART;TZID=America/Detroit:20200811T120000
DTEND;TZID=America/Detroit:20200811T130000
DTSTAMP:20260423T092312
CREATED:20200723T175635Z
LAST-MODIFIED:20210219T184049Z
UID:10003090-1597147200-1597150800@broad.msu.edu
SUMMARY:Broad MBA Q+A Week: Session 1
DESCRIPTION:Join the Michigan State Broad Full-Time MBA Admissions team for our Q+A session about all things Broad MBA. Apps open in August for the Fall 2021 intake so join us to learn more about the program. We look forward to connecting with you!
URL:https://broad.msu.edu/event/full-time-mba-qa-rush-week-session-1/
LOCATION:Online
CATEGORIES:Admissions Events,Full-Time MBA
ORGANIZER;CN="MBA Admissions":MAILTO:mba@msu.edu
END:VEVENT
BEGIN:VEVENT
DTSTART;TZID=America/Detroit:20200812T190000
DTEND;TZID=America/Detroit:20200812T200000
DTSTAMP:20260423T092312
CREATED:20200723T180010Z
LAST-MODIFIED:20210219T184059Z
UID:10003091-1597258800-1597262400@broad.msu.edu
SUMMARY:Broad MBA Q+A Week: Session 2
DESCRIPTION:Join the Michigan State Broad Full-Time MBA Admissions team for our Q+A session about all things Broad MBA. Apps open in August for the Fall 2021 intake so join us to learn more about the program. We look forward to connecting with you!
URL:https://broad.msu.edu/event/full-time-mba-qa-rush-week-session-2/
LOCATION:Online
CATEGORIES:Admissions Events,Full-Time MBA
ORGANIZER;CN="MBA Admissions":MAILTO:mba@msu.edu
END:VEVENT
BEGIN:VEVENT
DTSTART;TZID=America/Detroit:20200813T120000
DTEND;TZID=America/Detroit:20200813T130000
DTSTAMP:20260423T092312
CREATED:20200723T180424Z
LAST-MODIFIED:20210219T184108Z
UID:10003092-1597320000-1597323600@broad.msu.edu
SUMMARY:Broad MBA Q+A Week: Session 3
DESCRIPTION:Join the Michigan State Broad Full-Time MBA Admissions team for our Q+A session about all things Broad MBA. Apps open in August for the Fall 2021 intake so join us to learn more about the program. We look forward to connecting with you!
URL:https://broad.msu.edu/event/full-time-mba-qa-rush-week-session-3/
LOCATION:Online
CATEGORIES:Admissions Events,Full-Time MBA
ORGANIZER;CN="MBA Admissions":MAILTO:mba@msu.edu
END:VEVENT
BEGIN:VEVENT
DTSTART;TZID=America/Detroit:20200820T123000
DTEND;TZID=America/Detroit:20200820T133000
DTSTAMP:20260423T092312
CREATED:20200520T185515Z
LAST-MODIFIED:20200520T185515Z
UID:10002962-1597926600-1597930200@broad.msu.edu
SUMMARY:Summer Meetup Series: Navigating Virtual Career Fairs
DESCRIPTION:All fall career fairs will be virtual\, using software that will allow you to interact with employers and share your skills and qualifications. Palmer staff will walk you through how this will work\, strategies for communicating\, and important things to know to be successful.
URL:https://broad.msu.edu/event/summer-meetup-series-navigating-virtual-career-fairs/
LOCATION:Online
ORGANIZER;CN="Career Management":MAILTO:palmer@broad.msu.edu
END:VEVENT
BEGIN:VEVENT
DTSTART;TZID=America/Detroit:20200825T190000
DTEND;TZID=America/Detroit:20200825T200000
DTSTAMP:20260423T092312
CREATED:20200723T180837Z
LAST-MODIFIED:20210219T184119Z
UID:10003093-1598382000-1598385600@broad.msu.edu
SUMMARY:Webinar: Discover the Broad Advantage (Evening Session)
DESCRIPTION:Join the Michigan State Broad MBA Admissions team to learn about the application process\, curriculum and benefits of the Broad Full-Time MBA program.
URL:https://broad.msu.edu/event/full-time-mba-webinar-discover-the-broad-advantage-evening-session/
LOCATION:Online
CATEGORIES:Admissions Events,Full-Time MBA
ORGANIZER;CN="MBA Admissions":MAILTO:mba@msu.edu
END:VEVENT
BEGIN:VEVENT
DTSTART;TZID=America/Detroit:20200826T120000
DTEND;TZID=America/Detroit:20200826T130000
DTSTAMP:20260423T092312
CREATED:20200723T181120Z
LAST-MODIFIED:20210219T184130Z
UID:10003094-1598443200-1598446800@broad.msu.edu
SUMMARY:Webinar: Discover the Broad Advantage (Noon Session)
DESCRIPTION:Join the Michigan State Broad MBA Admissions team to learn about the application process\, curriculum and benefits of the Broad Full-Time MBA program.
URL:https://broad.msu.edu/event/full-time-mba-webinar-discover-the-broad-advantage-noon-session/
LOCATION:Online
CATEGORIES:Admissions Events,Full-Time MBA
ORGANIZER;CN="MBA Admissions":MAILTO:mba@msu.edu
END:VEVENT
END:VCALENDAR