BEGIN:VCALENDAR
VERSION:2.0
PRODID:-//Eli Broad College of Business | Michigan State University - ECPv6.15.17.1//NONSGML v1.0//EN
CALSCALE:GREGORIAN
METHOD:PUBLISH
X-ORIGINAL-URL:https://broad.msu.edu
X-WR-CALDESC:Events for Eli Broad College of Business | Michigan State University
REFRESH-INTERVAL;VALUE=DURATION:PT1H
X-Robots-Tag:noindex
X-PUBLISHED-TTL:PT1H
BEGIN:VTIMEZONE
TZID:America/Detroit
BEGIN:DAYLIGHT
TZOFFSETFROM:-0500
TZOFFSETTO:-0400
TZNAME:EDT
DTSTART:20180311T070000
END:DAYLIGHT
BEGIN:STANDARD
TZOFFSETFROM:-0400
TZOFFSETTO:-0500
TZNAME:EST
DTSTART:20181104T060000
END:STANDARD
BEGIN:DAYLIGHT
TZOFFSETFROM:-0500
TZOFFSETTO:-0400
TZNAME:EDT
DTSTART:20190310T070000
END:DAYLIGHT
BEGIN:STANDARD
TZOFFSETFROM:-0400
TZOFFSETTO:-0500
TZNAME:EST
DTSTART:20191103T060000
END:STANDARD
BEGIN:DAYLIGHT
TZOFFSETFROM:-0500
TZOFFSETTO:-0400
TZNAME:EDT
DTSTART:20200308T070000
END:DAYLIGHT
BEGIN:STANDARD
TZOFFSETFROM:-0400
TZOFFSETTO:-0500
TZNAME:EST
DTSTART:20201101T060000
END:STANDARD
END:VTIMEZONE
BEGIN:VEVENT
DTSTART;TZID=America/Detroit:20190130T000000
DTEND;TZID=America/Detroit:20190130T180000
DTSTAMP:20260422T212311
CREATED:20190120T121614Z
LAST-MODIFIED:20190120T190944Z
UID:10002803-1548806400-1548871200@broad.msu.edu
SUMMARY:Supply Chain Management Fair
DESCRIPTION:Next day interviews are at Spartan Stadium in The Huntington Club on 01/31/2018 from 9:00am-5:00pm.
URL:https://broad.msu.edu/event/supply-chain-management-fair/
LOCATION:Breslin Student Events Center\, 534 Birch Rd\, East Lansing\, MI\, 48824\, United States
CATEGORIES:Career Management,Featured Events,Recruiting Events,Supply Chain Management,Undergraduate Events
END:VEVENT
BEGIN:VEVENT
DTSTART;TZID=America/Detroit:20190202T100000
DTEND;TZID=America/Detroit:20190202T140000
DTSTAMP:20260422T212311
CREATED:20190120T122058Z
LAST-MODIFIED:20190130T185124Z
UID:10002804-1549101600-1549116000@broad.msu.edu
SUMMARY:Executive MBA Program Preview | Troy
DESCRIPTION:Join us for the opportunity to observe an Executive MBA class\, attend a comprehensive program overview\, and have lunch with current students and faculty.
URL:https://broad.msu.edu/event/executive-mba-program-preview-troy/
LOCATION:Management Education Center\, 811 W Square Lake Rd\, Troy\, MI\, 48098\, United States
CATEGORIES:Admissions Events,Executive MBA,Featured Events
ORGANIZER;CN="Sarah Ellis%2C Admissions & Academic Services Manager":MAILTO:sellis@broad.msu.edu
END:VEVENT
END:VCALENDAR