BEGIN:VCALENDAR
VERSION:2.0
PRODID:-//Eli Broad College of Business | Michigan State University - ECPv6.15.17.1//NONSGML v1.0//EN
CALSCALE:GREGORIAN
METHOD:PUBLISH
X-WR-CALNAME:Eli Broad College of Business | Michigan State University
X-ORIGINAL-URL:https://broad.msu.edu
X-WR-CALDESC:Events for Eli Broad College of Business | Michigan State University
REFRESH-INTERVAL;VALUE=DURATION:PT1H
X-Robots-Tag:noindex
X-PUBLISHED-TTL:PT1H
BEGIN:VTIMEZONE
TZID:America/Detroit
BEGIN:DAYLIGHT
TZOFFSETFROM:-0500
TZOFFSETTO:-0400
TZNAME:EDT
DTSTART:20180311T070000
END:DAYLIGHT
BEGIN:STANDARD
TZOFFSETFROM:-0400
TZOFFSETTO:-0500
TZNAME:EST
DTSTART:20181104T060000
END:STANDARD
BEGIN:DAYLIGHT
TZOFFSETFROM:-0500
TZOFFSETTO:-0400
TZNAME:EDT
DTSTART:20190310T070000
END:DAYLIGHT
BEGIN:STANDARD
TZOFFSETFROM:-0400
TZOFFSETTO:-0500
TZNAME:EST
DTSTART:20191103T060000
END:STANDARD
BEGIN:DAYLIGHT
TZOFFSETFROM:-0500
TZOFFSETTO:-0400
TZNAME:EDT
DTSTART:20200308T070000
END:DAYLIGHT
BEGIN:STANDARD
TZOFFSETFROM:-0400
TZOFFSETTO:-0500
TZNAME:EST
DTSTART:20201101T060000
END:STANDARD
END:VTIMEZONE
BEGIN:VEVENT
DTSTART;TZID=America/Detroit:20190225T113000
DTEND;TZID=America/Detroit:20190225T124500
DTSTAMP:20260419T155631
CREATED:20190211T152227Z
LAST-MODIFIED:20190211T152227Z
UID:10002851-1551094200-1551098700@broad.msu.edu
SUMMARY:Lunch & Learn
DESCRIPTION:This event is reserved for RBC students only. For more information\, contact rbc@broad.msu.edu.
URL:https://broad.msu.edu/event/lunch-learn/
LOCATION:McDonel Hall\, 817 E Shaw Ln\, East Lansing\, MI 48825\, MI\, United States
CATEGORIES:Residential Business Community
END:VEVENT
BEGIN:VEVENT
DTSTART;TZID=America/Detroit:20190225T160000
DTEND;TZID=America/Detroit:20190225T233000
DTSTAMP:20260419T155631
CREATED:20190211T151628Z
LAST-MODIFIED:20190211T151628Z
UID:10002850-1551110400-1551137400@broad.msu.edu
SUMMARY:RBC Detroit Pistons Night Out
DESCRIPTION:Pistons/Little Caesar’s Arena Sports Management Team/Tour\nDepart at 4:00 pm \nThis event is reserved for RBC students only. For more information\, contact rbc@broad.msu.edu.
URL:https://broad.msu.edu/event/rbc-detroit-pistons-night-out/
LOCATION:Little Caesar’s Arena\, 2645 Woodward Ave\, Detroit\, MI\, 48201\, United States
CATEGORIES:Residential Business Community
ORGANIZER;CN="Residential Business Community":MAILTO:rbc@broad.msu.edu
END:VEVENT
BEGIN:VEVENT
DTSTART;TZID=America/Detroit:20190227T170000
DTEND;TZID=America/Detroit:20190227T180000
DTSTAMP:20260419T155631
CREATED:20190207T235502Z
LAST-MODIFIED:20190208T000146Z
UID:10002836-1551286800-1551290400@broad.msu.edu
SUMMARY:Applying for Admission to the Broad College
DESCRIPTION:For all students planning to apply (or reapply) to the Broad College this semester. Topics addressed: application process\, academic and non-academic admission criteria\, resources for completing the Experiential Profile\, Case Study tips\, explanation of the admission decision process. \nSession will be in Rm 102 Conrad Hall.
URL:https://broad.msu.edu/event/applying-for-admission-to-the-broad-college/
LOCATION:Conrad Hall\, 943 Conrad Rd\, East Lansing\, MI\, 48824\, United States
CATEGORIES:Admissions Events
ORGANIZER;CN="Undergraduate Academic Services (UAS)":MAILTO:undergrad@broad.msu.edu
END:VEVENT
BEGIN:VEVENT
DTSTART;TZID=America/Detroit:20190228T190000
DTEND;TZID=America/Detroit:20190228T200000
DTSTAMP:20260419T155631
CREATED:20190120T130443Z
LAST-MODIFIED:20210219T182803Z
UID:10002808-1551380400-1551384000@broad.msu.edu
SUMMARY:Webinar: Funding Your MBA
DESCRIPTION:One of the biggest concerns when considering an MBA is how to pay for it. In this webinar\, you’ll learn about merit-based scholarships and graduate assistantships along with borrowing options. Get all of your funding questions answered by an MBA admissions officer.
URL:https://broad.msu.edu/event/executive-mba-webinar-funding-your-mba/
LOCATION:Online
CATEGORIES:Full-Time MBA
ORGANIZER;CN="MBA Admissions":MAILTO:mba@msu.edu
END:VEVENT
BEGIN:VEVENT
DTSTART;TZID=America/Detroit:20190301T154500
DTEND;TZID=America/Detroit:20190301T164500
DTSTAMP:20260419T155631
CREATED:20190209T181426Z
LAST-MODIFIED:20190209T182046Z
UID:10002840-1551455100-1551458700@broad.msu.edu
SUMMARY:Prospective Undergraduate Student Information Session
DESCRIPTION:The Broad College of Business invites prospective freshmen\, transfer students\, and families to attend a Prospective Student Information session. Sessions are available on a limited basis during fall and spring semesters. The information sessions include a presentation exploring Broad majors\, the College and Major admissions process\, academic curriculum\, student life\, education abroad and services available to Broad students. \nProspective and admitted students who have not yet enrolled in MSU courses should plan to attend a Prospective Student Information Session\, as individual advising appointments are reserved for enrolled students. Registration is required.
URL:https://broad.msu.edu/event/prospective-undergraduate-student-information-session/2019-03-01/
LOCATION:North Business Building\, 632 Bogue St\, East Lansing\, MI\, 48824\, United States
CATEGORIES:Undergraduate Events,Undergraduate Prospective Student
ORGANIZER;CN="Undergraduate Academic Services (UAS)":MAILTO:undergrad@broad.msu.edu
END:VEVENT
END:VCALENDAR