BEGIN:VCALENDAR
VERSION:2.0
PRODID:-//Eli Broad College of Business | Michigan State University - ECPv6.15.17.1//NONSGML v1.0//EN
CALSCALE:GREGORIAN
METHOD:PUBLISH
X-WR-CALNAME:Eli Broad College of Business | Michigan State University
X-ORIGINAL-URL:https://broad.msu.edu
X-WR-CALDESC:Events for Eli Broad College of Business | Michigan State University
REFRESH-INTERVAL;VALUE=DURATION:PT1H
X-Robots-Tag:noindex
X-PUBLISHED-TTL:PT1H
BEGIN:VTIMEZONE
TZID:America/Detroit
BEGIN:DAYLIGHT
TZOFFSETFROM:-0500
TZOFFSETTO:-0400
TZNAME:EDT
DTSTART:20180311T070000
END:DAYLIGHT
BEGIN:STANDARD
TZOFFSETFROM:-0400
TZOFFSETTO:-0500
TZNAME:EST
DTSTART:20181104T060000
END:STANDARD
BEGIN:DAYLIGHT
TZOFFSETFROM:-0500
TZOFFSETTO:-0400
TZNAME:EDT
DTSTART:20190310T070000
END:DAYLIGHT
BEGIN:STANDARD
TZOFFSETFROM:-0400
TZOFFSETTO:-0500
TZNAME:EST
DTSTART:20191103T060000
END:STANDARD
BEGIN:DAYLIGHT
TZOFFSETFROM:-0500
TZOFFSETTO:-0400
TZNAME:EDT
DTSTART:20200308T070000
END:DAYLIGHT
BEGIN:STANDARD
TZOFFSETFROM:-0400
TZOFFSETTO:-0500
TZNAME:EST
DTSTART:20201101T060000
END:STANDARD
END:VTIMEZONE
BEGIN:VEVENT
DTSTART;VALUE=DATE:20190304
DTEND;VALUE=DATE:20190309
DTSTAMP:20260420T230641
CREATED:20190120T130648Z
LAST-MODIFIED:20190221T134404Z
UID:10002809-1551657600-1552089599@broad.msu.edu
SUMMARY:Spring Break Corporate Tour
DESCRIPTION:Visit Chicago for the Spring Break Corporate Tour’s (SBCT) 13th anniversary. The trip will be held over Spring Break 2019 – departing on Monday\, March 4\, and returning on Friday\, March 8. SBCT is designed to expose students to a number of companies and tour their facilities. You also will have an opportunity to learn from and speak with several employers and MSU alumni in various industries while developing meaningful relationships and contacts. The SBCT welcomes 20–24 business-interested students to a behind-the-scenes peek into industry through 6–8 employer site visits. \nStudents stay in downtown areas to engage in the local entertainment/shopping/cultural scene. \n\n\nThe Application Is Currently Open for 2019\nApply online at Handshake > Jobs > Search > Keyword: “SBCT”. \nYou must be of freshman or sophomore status to apply. Application materials should be uploaded to Handshake and include: \n\nSpring Break Corporate Tour application\nYour resume\nWritten essay of interest (Why are you a good candidate?)
URL:https://broad.msu.edu/event/spring-break-corporate-tour/
CATEGORIES:Career Management,Recruiting Events,Undergraduate Events
ORGANIZER;CN="Career Management":MAILTO:palmer@broad.msu.edu
END:VEVENT
END:VCALENDAR