BEGIN:VCALENDAR
VERSION:2.0
PRODID:-//Eli Broad College of Business | Michigan State University - ECPv6.15.17.1//NONSGML v1.0//EN
CALSCALE:GREGORIAN
METHOD:PUBLISH
X-WR-CALNAME:Eli Broad College of Business | Michigan State University
X-ORIGINAL-URL:https://broad.msu.edu
X-WR-CALDESC:Events for Eli Broad College of Business | Michigan State University
REFRESH-INTERVAL;VALUE=DURATION:PT1H
X-Robots-Tag:noindex
X-PUBLISHED-TTL:PT1H
BEGIN:VTIMEZONE
TZID:America/Detroit
BEGIN:DAYLIGHT
TZOFFSETFROM:-0500
TZOFFSETTO:-0400
TZNAME:EDT
DTSTART:20180311T070000
END:DAYLIGHT
BEGIN:STANDARD
TZOFFSETFROM:-0400
TZOFFSETTO:-0500
TZNAME:EST
DTSTART:20181104T060000
END:STANDARD
BEGIN:DAYLIGHT
TZOFFSETFROM:-0500
TZOFFSETTO:-0400
TZNAME:EDT
DTSTART:20190310T070000
END:DAYLIGHT
BEGIN:STANDARD
TZOFFSETFROM:-0400
TZOFFSETTO:-0500
TZNAME:EST
DTSTART:20191103T060000
END:STANDARD
BEGIN:DAYLIGHT
TZOFFSETFROM:-0500
TZOFFSETTO:-0400
TZNAME:EDT
DTSTART:20200308T070000
END:DAYLIGHT
BEGIN:STANDARD
TZOFFSETFROM:-0400
TZOFFSETTO:-0500
TZNAME:EST
DTSTART:20201101T060000
END:STANDARD
END:VTIMEZONE
BEGIN:VEVENT
DTSTART;TZID=America/Detroit:20190312T190000
DTEND;TZID=America/Detroit:20190312T200000
DTSTAMP:20260419T170144
CREATED:20190120T130929Z
LAST-MODIFIED:20210219T182826Z
UID:10002810-1552417200-1552420800@broad.msu.edu
SUMMARY:Webinar: Broad MBA Career Exploration & Preparation
DESCRIPTION:Broad has a dedicated team of talented career management professionals to guide Broad MBA students throughout their job search. Learn how the career management team guides students through career exploration and planning. In addition\, learn more about industries and companies that hire Broad MBA graduates.
URL:https://broad.msu.edu/event/executive-mba-webinar-broad-mba-career-exploration-preparation/
LOCATION:Online
CATEGORIES:Full-Time MBA
ORGANIZER;CN="MBA Admissions":MAILTO:mba@msu.edu
END:VEVENT
BEGIN:VEVENT
DTSTART;TZID=America/Detroit:20190313T180000
DTEND;TZID=America/Detroit:20190313T200000
DTSTAMP:20260419T170144
CREATED:20190222T131150Z
LAST-MODIFIED:20190222T131210Z
UID:10002856-1552500000-1552507200@broad.msu.edu
SUMMARY:BroadX Houston
DESCRIPTION:Unique business research from top faculty at MSU\nBroadX is a series of alumni engagement events featuring MSU Broad College faculty discussing the ways MSU has a unique\, leading voice in business education and marketplace change. \nCome engage with your fellow alumni and world-renowned faculty as they all share short\, thought-provoking and inspirational ways their research impacts business\, the workplace and daily life. \nHosted at the Four Seasons Hotel\, one of the premier locations in Houston\, this Broad College event will give attendees the opportunity to network with other local alumni\, meet the Dean of the college – Sanjay Gupta\, and ask specific questions to the faculty in attendance. \nThe event is free\, and will include light appetizers and drinks. Attendees will receive discounted $18 valet parking.
URL:https://broad.msu.edu/event/broadx-houston/
LOCATION:Four Seasons Hotel\, 1300 Lamar St\, Houston\, TX\, 77010\, United States
CATEGORIES:Accounting,Alumni Events,College-wide Events,Featured Events,Hospitality Business,Management
ORGANIZER;CN="Alumni Relations":MAILTO:alumni@broad.msu.edu
END:VEVENT
BEGIN:VEVENT
DTSTART;VALUE=DATE:20190314
DTEND;VALUE=DATE:20190316
DTSTAMP:20260419T170145
CREATED:20190210T161246Z
LAST-MODIFIED:20190210T161800Z
UID:10002847-1552521600-1552694399@broad.msu.edu
SUMMARY:FMI Chicago Roadshow
DESCRIPTION:This event is reserved for Financial Markets Institute scholars. For more information\, please contact fmi@broad.msu.edu.
URL:https://broad.msu.edu/event/fmi-chicago-roadshow/
CATEGORIES:Financial Markets Institute
ORGANIZER;CN="Financial Markets Institute":MAILTO:fmi@broad.msu.edu
END:VEVENT
BEGIN:VEVENT
DTSTART;TZID=America/Detroit:20190315T123000
DTEND;TZID=America/Detroit:20190315T183000
DTSTAMP:20260419T170145
CREATED:20190211T152653Z
LAST-MODIFIED:20190211T152653Z
UID:10002852-1552653000-1552674600@broad.msu.edu
SUMMARY:RBC Domino's Company Site Visit
DESCRIPTION:Depart at 12:30 pm \nThis event is reserved for RBC students only. For more information\, contact rbc@broad.msu.edu.
URL:https://broad.msu.edu/event/rbc-dominos-company-site-visit/
LOCATION:Domino’s Corporate Headquarters\, 30 Frank Lloyd Wright Dr\, Ann Arbor\, MI\, 48105\, United States
CATEGORIES:Residential Business Community
ORGANIZER;CN="Residential Business Community":MAILTO:rbc@broad.msu.edu
END:VEVENT
BEGIN:VEVENT
DTSTART;TZID=America/Detroit:20190315T140000
DTEND;TZID=America/Detroit:20190315T170000
DTSTAMP:20260419T170145
CREATED:20190222T141304Z
LAST-MODIFIED:20210219T182845Z
UID:10002879-1552658400-1552669200@broad.msu.edu
SUMMARY:Career Advancement Workshop
DESCRIPTION:This event is reserved for EMBA alumni and current students. \nUniquely Crafted for: \nEMBA Class of 2019\, EMBA Class of 2020\, and EMBA/WMBA/AMP Alumni \nYour facilitators for this highly interactive\, value-driven career advancement workshop are: \n\nDan Walsh\, AT&T V.P.\nJane Evarian\, Broad Career Management\n\nWorkshop Outcomes:\nBuild your value proposition.\nDevelop options for career direction and advancement.\nComplete a working plan for career advancement.\nLeave with an accountability partner.  \nTarget Audience: career advancers within an existing employer\, career advancers moving to a new employer\, career changers \nRegistration is full ~ if you wish to be placed on a waitlist please email EMBA@broad.msu.edu
URL:https://broad.msu.edu/event/executive-mba-career-advancement-workshop/
LOCATION:Henry Center for Executive Development\, 3535 Forest Rd\, East Lansing\, MI\, 48910\, United States
CATEGORIES:Executive MBA
END:VEVENT
BEGIN:VEVENT
DTSTART;TZID=America/Detroit:20190315T154500
DTEND;TZID=America/Detroit:20190315T164500
DTSTAMP:20260419T170145
CREATED:20190209T181426Z
LAST-MODIFIED:20190209T182046Z
UID:10002841-1552664700-1552668300@broad.msu.edu
SUMMARY:Prospective Undergraduate Student Information Session
DESCRIPTION:The Broad College of Business invites prospective freshmen\, transfer students\, and families to attend a Prospective Student Information session. Sessions are available on a limited basis during fall and spring semesters. The information sessions include a presentation exploring Broad majors\, the College and Major admissions process\, academic curriculum\, student life\, education abroad and services available to Broad students. \nProspective and admitted students who have not yet enrolled in MSU courses should plan to attend a Prospective Student Information Session\, as individual advising appointments are reserved for enrolled students. Registration is required.
URL:https://broad.msu.edu/event/prospective-undergraduate-student-information-session/2019-03-15/
LOCATION:North Business Building\, 632 Bogue St\, East Lansing\, MI\, 48824\, United States
CATEGORIES:Undergraduate Events,Undergraduate Prospective Student
ORGANIZER;CN="Undergraduate Academic Services (UAS)":MAILTO:undergrad@broad.msu.edu
END:VEVENT
BEGIN:VEVENT
DTSTART;TZID=America/Detroit:20190316T100000
DTEND;TZID=America/Detroit:20190316T140000
DTSTAMP:20260419T170145
CREATED:20190120T131110Z
LAST-MODIFIED:20210219T182854Z
UID:10002811-1552730400-1552744800@broad.msu.edu
SUMMARY:Executive MBA Program Preview | Troy
DESCRIPTION:Join us for the opportunity to meet others in our community who are considering the Broad Executive MBA. During a presentation\, we will describe the value\, experience\, academics and structure of the program.  After the presentation\, you are encouraged to visit our current classes and have lunch with our faculty and current students. \nIt’s a great way to experience the program first-hand as you explore your MBA options and determine which program is right for you. \nAgenda\n10:00 a.m. | Short Information Session\n11:00 a.m. | Observe Executive MBA Class\n12:00 p.m. | Lunch with Faculty and Current Students \nBusiness casual attire is recommended.
URL:https://broad.msu.edu/event/executive-mba-program-preview-troy-2/
LOCATION:Management Education Center\, 811 W Square Lake Rd\, Troy\, MI\, 48098\, United States
CATEGORIES:Executive MBA
ORGANIZER;CN="Sarah Ellis%2C Admissions & Academic Services Manager":MAILTO:sellis@broad.msu.edu
END:VEVENT
END:VCALENDAR