BEGIN:VCALENDAR
VERSION:2.0
PRODID:-//Eli Broad College of Business | Michigan State University - ECPv6.15.17.1//NONSGML v1.0//EN
CALSCALE:GREGORIAN
METHOD:PUBLISH
X-WR-CALNAME:Eli Broad College of Business | Michigan State University
X-ORIGINAL-URL:https://broad.msu.edu
X-WR-CALDESC:Events for Eli Broad College of Business | Michigan State University
REFRESH-INTERVAL;VALUE=DURATION:PT1H
X-Robots-Tag:noindex
X-PUBLISHED-TTL:PT1H
BEGIN:VTIMEZONE
TZID:America/Detroit
BEGIN:DAYLIGHT
TZOFFSETFROM:-0500
TZOFFSETTO:-0400
TZNAME:EDT
DTSTART:20180311T070000
END:DAYLIGHT
BEGIN:STANDARD
TZOFFSETFROM:-0400
TZOFFSETTO:-0500
TZNAME:EST
DTSTART:20181104T060000
END:STANDARD
BEGIN:DAYLIGHT
TZOFFSETFROM:-0500
TZOFFSETTO:-0400
TZNAME:EDT
DTSTART:20190310T070000
END:DAYLIGHT
BEGIN:STANDARD
TZOFFSETFROM:-0400
TZOFFSETTO:-0500
TZNAME:EST
DTSTART:20191103T060000
END:STANDARD
BEGIN:DAYLIGHT
TZOFFSETFROM:-0500
TZOFFSETTO:-0400
TZNAME:EDT
DTSTART:20200308T070000
END:DAYLIGHT
BEGIN:STANDARD
TZOFFSETFROM:-0400
TZOFFSETTO:-0500
TZNAME:EST
DTSTART:20201101T060000
END:STANDARD
END:VTIMEZONE
BEGIN:VEVENT
DTSTART;TZID=America/Detroit:20190318T180000
DTEND;TZID=America/Detroit:20190318T210000
DTSTAMP:20260420T230639
CREATED:20190211T152849Z
LAST-MODIFIED:20190211T152849Z
UID:10002853-1552932000-1552942800@broad.msu.edu
SUMMARY:RBC Financial Literacy Case Competition
DESCRIPTION:Hosted by MSUFCU \nThis event is reserved for RBC students only. For more information\, contact rbc@broad.msu.edu.
URL:https://broad.msu.edu/event/rbc-financial-literacy-case-competition/
LOCATION:McDonel Hall\, 817 E Shaw Ln\, East Lansing\, MI 48825\, MI\, United States
CATEGORIES:Residential Business Community
ORGANIZER;CN="Residential Business Community":MAILTO:rbc@broad.msu.edu
END:VEVENT
BEGIN:VEVENT
DTSTART;TZID=America/Detroit:20190320T174500
DTEND;TZID=America/Detroit:20190320T184500
DTSTAMP:20260420T230639
CREATED:20190208T000355Z
LAST-MODIFIED:20190208T000355Z
UID:10002837-1553103900-1553107500@broad.msu.edu
SUMMARY:Applying for Admission to the Broad College
DESCRIPTION:For all students planning to apply (or reapply) to the Broad College this semester. Topics addressed: application process\, academic and non-academic admission criteria\, resources for completing the Experiential Profile\, Case Study tips\, explanation of the admission decision process. \nSession will be in N130 Business College Complex.
URL:https://broad.msu.edu/event/applying-for-admission-to-the-broad-college-2/
LOCATION:North Business Building\, 632 Bogue St\, East Lansing\, MI\, 48824\, United States
CATEGORIES:Admissions Events
ORGANIZER;CN="Undergraduate Academic Services (UAS)":MAILTO:undergrad@broad.msu.edu
END:VEVENT
BEGIN:VEVENT
DTSTART;TZID=America/Detroit:20190320T183000
DTEND;TZID=America/Detroit:20190320T190000
DTSTAMP:20260420T230639
CREATED:20190120T131317Z
LAST-MODIFIED:20190222T141513Z
UID:10002812-1553106600-1553108400@broad.msu.edu
SUMMARY:Executive MBA Virtual Information Session
DESCRIPTION:Join our virtual information session to learn about the Broad Executive MBA program. The live webinar will describe the value\, experience\, academics\, and structure of the program. Prior to the conclusion\, you will have an opportunity to ask your questions.
URL:https://broad.msu.edu/event/executive-mba-virtual-information-session-2/
LOCATION:Online
CATEGORIES:Executive MBA
ORGANIZER;CN="Sarah Ellis%2C Admissions & Academic Services Manager":MAILTO:sellis@broad.msu.edu
END:VEVENT
BEGIN:VEVENT
DTSTART;TZID=America/Detroit:20190321T173000
DTEND;TZID=America/Detroit:20190321T193000
DTSTAMP:20260420T230640
CREATED:20190222T131529Z
LAST-MODIFIED:20190222T131529Z
UID:10002857-1553189400-1553196600@broad.msu.edu
SUMMARY:Alumni Reception In Los Angeles\, CA
DESCRIPTION:Join us for an Alumni Reception in Los Angeles! \nMichigan State University Broad College of Business is coming to the LA area! \nYou are invited to a Broad College Alumni Reception with Dean Sanjay Gupta and our Broad College Advisory Board of Directors. \nJoin us for a wonderful night connecting with other Spartans\, meeting Broad College Leadership\, and hearing from MSU and the Broad College.
URL:https://broad.msu.edu/event/alumni-reception-in-los-angeles-ca/
LOCATION:Loews Santa Monica Beach Hotel\, 1700 Ocean Ave\, Santa Monica\, CA\, 90401\, United States
CATEGORIES:Accounting,Alumni Events,Featured Events,Finance,Hospitality Business,Management,Marketing,Supply Chain Management
ORGANIZER;CN="Alumni Relations":MAILTO:alumni@broad.msu.edu
END:VEVENT
BEGIN:VEVENT
DTSTART;TZID=America/Detroit:20190322T073000
DTEND;TZID=America/Detroit:20190322T160000
DTSTAMP:20260420T230640
CREATED:20190306T202636Z
LAST-MODIFIED:20190315T203056Z
UID:10002881-1553239800-1553270400@broad.msu.edu
SUMMARY:Project Green & White
DESCRIPTION:Volunteer at Cass Community Social Services in Detroit with hiring companies. A great chance to network with the Lear Career Center’s partner companies and help those in need. There will be a bus to and from Detroit and will pick students up at the Business College Complex.
URL:https://broad.msu.edu/event/project-green-white/
LOCATION:Off site
CATEGORIES:Career Management,College-wide Events,Recruiting Events
ORGANIZER;CN="Bronti Belanger":MAILTO:belan108@broad.msu.edu
END:VEVENT
END:VCALENDAR