BEGIN:VCALENDAR
VERSION:2.0
PRODID:-//Eli Broad College of Business | Michigan State University - ECPv6.15.17.1//NONSGML v1.0//EN
CALSCALE:GREGORIAN
METHOD:PUBLISH
X-WR-CALNAME:Eli Broad College of Business | Michigan State University
X-ORIGINAL-URL:https://broad.msu.edu
X-WR-CALDESC:Events for Eli Broad College of Business | Michigan State University
REFRESH-INTERVAL;VALUE=DURATION:PT1H
X-Robots-Tag:noindex
X-PUBLISHED-TTL:PT1H
BEGIN:VTIMEZONE
TZID:America/Detroit
BEGIN:DAYLIGHT
TZOFFSETFROM:-0500
TZOFFSETTO:-0400
TZNAME:EDT
DTSTART:20180311T070000
END:DAYLIGHT
BEGIN:STANDARD
TZOFFSETFROM:-0400
TZOFFSETTO:-0500
TZNAME:EST
DTSTART:20181104T060000
END:STANDARD
BEGIN:DAYLIGHT
TZOFFSETFROM:-0500
TZOFFSETTO:-0400
TZNAME:EDT
DTSTART:20190310T070000
END:DAYLIGHT
BEGIN:STANDARD
TZOFFSETFROM:-0400
TZOFFSETTO:-0500
TZNAME:EST
DTSTART:20191103T060000
END:STANDARD
BEGIN:DAYLIGHT
TZOFFSETFROM:-0500
TZOFFSETTO:-0400
TZNAME:EDT
DTSTART:20200308T070000
END:DAYLIGHT
BEGIN:STANDARD
TZOFFSETFROM:-0400
TZOFFSETTO:-0500
TZNAME:EST
DTSTART:20201101T060000
END:STANDARD
END:VTIMEZONE
BEGIN:VEVENT
DTSTART;TZID=America/Detroit:20190410T073000
DTEND;TZID=America/Detroit:20190410T160000
DTSTAMP:20260419T155637
CREATED:20190410T140249Z
LAST-MODIFIED:20220614T153640Z
UID:10002825-1554881400-1554912000@broad.msu.edu
SUMMARY:Project Green & White
DESCRIPTION:Volunteer at Cass Community Social Services in Detroit with hiring companies. A great chance to network with the Lear Career Center’s partner companies and help those in need. There will be a bus to and from Detroit and will pick students up at The Broad Business College.
URL:https://broad.msu.edu/event/project-green-white-2/
LOCATION:Cass Community Social Services\, 11745 Rosa Parks Blvd\, Detroit\, MI\, 48206\, United States
CATEGORIES:College-wide Events
ORGANIZER;CN="Bronti Belanger":MAILTO:belan108@broad.msu.edu
END:VEVENT
BEGIN:VEVENT
DTSTART;TZID=America/Detroit:20190410T163000
DTEND;TZID=America/Detroit:20190410T183000
DTSTAMP:20260419T155637
CREATED:20190313T201305Z
LAST-MODIFIED:20210219T182909Z
UID:10002882-1554913800-1554921000@broad.msu.edu
SUMMARY:Networking Reception with EMBA Alumni
DESCRIPTION:Join MSU Executive MBA and Michigan Nonprofit Association for food and fun while attending our afternoon networking reception. \nThis FREE event is a great opportunity to meet and build relationships with your fellow nonprofit colleagues.
URL:https://broad.msu.edu/event/executive-mba-networking-reception-with-emba-alumni/
LOCATION:Spartan Hall of Fame Café\, 1601 Lake Lansing Rd\, East Lansing\, MI\, 48823\, United States
CATEGORIES:Executive MBA
ORGANIZER;CN="Sarah Pinder":MAILTO:spinder@mnaonline.org
END:VEVENT
BEGIN:VEVENT
DTSTART;VALUE=DATE:20190411
DTEND;VALUE=DATE:20190413
DTSTAMP:20260419T155637
CREATED:20190120T165758Z
LAST-MODIFIED:20190321T194734Z
UID:10002815-1554940800-1555113599@broad.msu.edu
SUMMARY:Hospitality Business Real Estate Investment Management Advisory Council Meeting
DESCRIPTION:Hospitality Business Real Estate Investment Management (REIM) Advisory Council Meeting (invitation only event). Please email Lena Loeffler at loeffler@broad.msu.edu to confirm your attendance. \n\nThursday @ 6 p.m. – Welcome Dinner\nFriday @ 8 a.m. – 4 p.m. – Advisory Council Meeting
URL:https://broad.msu.edu/event/hospitality-business-real-estate-investment-management-advisory-council-meeting/
LOCATION:University Club of MSU\, 3435 Forest Rd\, Lansing\, MI\, 48910
CATEGORIES:Alumni Events,Hospitality Business
END:VEVENT
BEGIN:VEVENT
DTSTART;VALUE=DATE:20190411
DTEND;VALUE=DATE:20190415
DTSTAMP:20260419T155637
CREATED:20190211T154703Z
LAST-MODIFIED:20231026T192922Z
UID:10002854-1554940800-1555286399@broad.msu.edu
SUMMARY:RBC Chicago Trip
DESCRIPTION:Company visits to BP\, Pepsico\, PwC. Chicago Spartans Alumni service event. \nThis event is reserved for RBC students only. For more information\, contact rbc@broad.msu.edu.
URL:https://broad.msu.edu/event/rbc-chicago-trip/
LOCATION:Chicago\, Chicago\, Illinois
CATEGORIES:Residential Business Community
ORGANIZER;CN="Residential Business Community":MAILTO:rbc@broad.msu.edu
END:VEVENT
BEGIN:VEVENT
DTSTART;TZID=America/Detroit:20190412T154500
DTEND;TZID=America/Detroit:20190412T164500
DTSTAMP:20260419T155637
CREATED:20190209T181426Z
LAST-MODIFIED:20190209T182046Z
UID:10002844-1555083900-1555087500@broad.msu.edu
SUMMARY:Prospective Undergraduate Student Information Session
DESCRIPTION:The Broad College of Business invites prospective freshmen\, transfer students\, and families to attend a Prospective Student Information session. Sessions are available on a limited basis during fall and spring semesters. The information sessions include a presentation exploring Broad majors\, the College and Major admissions process\, academic curriculum\, student life\, education abroad and services available to Broad students. \nProspective and admitted students who have not yet enrolled in MSU courses should plan to attend a Prospective Student Information Session\, as individual advising appointments are reserved for enrolled students. Registration is required.
URL:https://broad.msu.edu/event/prospective-undergraduate-student-information-session/2019-04-12/
LOCATION:North Business Building\, 632 Bogue St\, East Lansing\, MI\, 48824\, United States
CATEGORIES:Undergraduate Events,Undergraduate Prospective Student
ORGANIZER;CN="Undergraduate Academic Services (UAS)":MAILTO:undergrad@broad.msu.edu
END:VEVENT
BEGIN:VEVENT
DTSTART;TZID=America/Detroit:20190413T180000
DTEND;TZID=America/Detroit:20190413T213000
DTSTAMP:20260419T155637
CREATED:20190120T170039Z
LAST-MODIFIED:20190321T194811Z
UID:10002817-1555178400-1555191000@broad.msu.edu
SUMMARY:Les Gourmets\, 68th Anniversary
DESCRIPTION:The premier annual event in The School of Hospitality Business is Les Gourmets. Founded as a student organization in 1951\, students in Les Gourmets produced their first dinner in 1955. Starting as a simple buffet and dinner dance\, the event has since evolved into a formal world-class reception and dinner showcasing the talents of hundreds of student volunteers and all they have learned from their professors and work experiences. With the guidance of faculty members and guest chefs\, the students work in all areas – management\, sales\, marketing\, purchasing\, finance\, culinary management\, bartending\, and serving – creating a night to remember each spring for hundreds of proud parents\, alumni\, and faculty. \n6 p.m. Reception / 7 p.m. Dinner
URL:https://broad.msu.edu/event/les-gourmets-68th-anniversary/
LOCATION:University Club of MSU\, 3435 Forest Rd\, Lansing\, MI\, 48910
CATEGORIES:Alumni Events,Faculty Events,Featured Events,Hospitality Business,Undergraduate Events
ORGANIZER;CN="Les Gourmets":MAILTO:lesgourmetshr@gmail.com
END:VEVENT
END:VCALENDAR