BEGIN:VCALENDAR
VERSION:2.0
PRODID:-//Eli Broad College of Business | Michigan State University - ECPv6.15.17.1//NONSGML v1.0//EN
CALSCALE:GREGORIAN
METHOD:PUBLISH
X-WR-CALNAME:Eli Broad College of Business | Michigan State University
X-ORIGINAL-URL:https://broad.msu.edu
X-WR-CALDESC:Events for Eli Broad College of Business | Michigan State University
REFRESH-INTERVAL;VALUE=DURATION:PT1H
X-Robots-Tag:noindex
X-PUBLISHED-TTL:PT1H
BEGIN:VTIMEZONE
TZID:America/Detroit
BEGIN:DAYLIGHT
TZOFFSETFROM:-0500
TZOFFSETTO:-0400
TZNAME:EDT
DTSTART:20180311T070000
END:DAYLIGHT
BEGIN:STANDARD
TZOFFSETFROM:-0400
TZOFFSETTO:-0500
TZNAME:EST
DTSTART:20181104T060000
END:STANDARD
BEGIN:DAYLIGHT
TZOFFSETFROM:-0500
TZOFFSETTO:-0400
TZNAME:EDT
DTSTART:20190310T070000
END:DAYLIGHT
BEGIN:STANDARD
TZOFFSETFROM:-0400
TZOFFSETTO:-0500
TZNAME:EST
DTSTART:20191103T060000
END:STANDARD
BEGIN:DAYLIGHT
TZOFFSETFROM:-0500
TZOFFSETTO:-0400
TZNAME:EDT
DTSTART:20200308T070000
END:DAYLIGHT
BEGIN:STANDARD
TZOFFSETFROM:-0400
TZOFFSETTO:-0500
TZNAME:EST
DTSTART:20201101T060000
END:STANDARD
END:VTIMEZONE
BEGIN:VEVENT
DTSTART;TZID=America/Detroit:20190605T170000
DTEND;TZID=America/Detroit:20190605T203000
DTSTAMP:20260419T080734
CREATED:20190412T133726Z
LAST-MODIFIED:20190426T143713Z
UID:10002900-1559754000-1559766600@broad.msu.edu
SUMMARY:Effectively Leading Through Crisis
DESCRIPTION:Nissan boss arrested. Marriott data breached. Boeing 737 Max failure. Social media has catapulted organizational crises from the board room and the newsroom to the personal devices of our clients\, our constituents and our employees. \nCrisis is the new normal. Join this session to explore leading through important issues\, such as: \n\nskills & capabilities essential to lead through a crisis\nenvironmental cues that could help avoid a crisis\nmodels and stages of crisis leadership from real experiences\ncurrent examples of crises in the news\nrestoration\, resilience\, and re-engagement\n\nSpeaker:\nChris Oster\nGlobal Director for Talent and Leader Development (retired) at General Motors \nEvent Registration | 5:00 pm – 5:30 pm\nProgram                | 5:30 pm – 8:30 pm \n  \nThis event is exclusive to AMP/EMBA/WMBA alumni\, students\, and guests.
URL:https://broad.msu.edu/event/executive-mba-effectively-leading-through-crisis/
LOCATION:Management Education Center\, 811 W Square Lake Rd\, Troy\, MI\, 48098\, United States
CATEGORIES:Alumni Events,Executive MBA
ORGANIZER;CN="Sarah Ellis%2C Admissions & Academic Services Manager":MAILTO:sellis@broad.msu.edu
END:VEVENT
END:VCALENDAR